BEGIN:VCALENDAR
VERSION:2.0
PRODID:-//Saint Ignatius of Loyola Parish - ECPv6.15.13//NONSGML v1.0//EN
CALSCALE:GREGORIAN
METHOD:PUBLISH
X-WR-CALNAME:Saint Ignatius of Loyola Parish
X-ORIGINAL-URL:https://saintignatius.ca
X-WR-CALDESC:Events for Saint Ignatius of Loyola Parish
REFRESH-INTERVAL;VALUE=DURATION:PT1H
X-Robots-Tag:noindex
X-PUBLISHED-TTL:PT1H
BEGIN:VTIMEZONE
TZID:America/Halifax
BEGIN:DAYLIGHT
TZOFFSETFROM:-0400
TZOFFSETTO:-0300
TZNAME:ADT
DTSTART:20290311T060000
END:DAYLIGHT
BEGIN:STANDARD
TZOFFSETFROM:-0300
TZOFFSETTO:-0400
TZNAME:AST
DTSTART:20291104T050000
END:STANDARD
BEGIN:DAYLIGHT
TZOFFSETFROM:-0400
TZOFFSETTO:-0300
TZNAME:ADT
DTSTART:20300310T060000
END:DAYLIGHT
BEGIN:STANDARD
TZOFFSETFROM:-0300
TZOFFSETTO:-0400
TZNAME:AST
DTSTART:20301103T050000
END:STANDARD
BEGIN:DAYLIGHT
TZOFFSETFROM:-0400
TZOFFSETTO:-0300
TZNAME:ADT
DTSTART:20310309T060000
END:DAYLIGHT
BEGIN:STANDARD
TZOFFSETFROM:-0300
TZOFFSETTO:-0400
TZNAME:AST
DTSTART:20311102T050000
END:STANDARD
BEGIN:DAYLIGHT
TZOFFSETFROM:-0400
TZOFFSETTO:-0300
TZNAME:ADT
DTSTART:20320314T060000
END:DAYLIGHT
BEGIN:STANDARD
TZOFFSETFROM:-0300
TZOFFSETTO:-0400
TZNAME:AST
DTSTART:20321107T050000
END:STANDARD
END:VTIMEZONE
BEGIN:VEVENT
DTSTART;TZID=America/Halifax:20301224T190000
DTEND;TZID=America/Halifax:20301224T200000
DTSTAMP:20260424T023806
CREATED:20260204T183111Z
LAST-MODIFIED:20260204T183112Z
UID:10001331-1924369200-1924372800@saintignatius.ca
SUMMARY:Online Rosary
DESCRIPTION:
URL:https://saintignatius.ca/event/online-rosary-20-2/2030-12-24
LOCATION:Online\, Canada
END:VEVENT
BEGIN:VEVENT
DTSTART;TZID=America/Halifax:20301226T190000
DTEND;TZID=America/Halifax:20301226T200000
DTSTAMP:20260424T023806
CREATED:20260306T115459Z
LAST-MODIFIED:20260306T115459Z
UID:10007958-1924542000-1924545600@saintignatius.ca
SUMMARY:Online Rosary
DESCRIPTION:
URL:https://saintignatius.ca/event/online-rosary-24/2030-12-26
LOCATION:Online\, Canada
END:VEVENT
BEGIN:VEVENT
DTSTART;TZID=America/Halifax:20301230T190000
DTEND;TZID=America/Halifax:20301230T200000
DTSTAMP:20260424T023806
CREATED:20260306T115204Z
LAST-MODIFIED:20260306T115204Z
UID:10007698-1924887600-1924891200@saintignatius.ca
SUMMARY:Online Rosary
DESCRIPTION:
URL:https://saintignatius.ca/event/online-rosary-23/2030-12-30
LOCATION:Online\, Canada
END:VEVENT
BEGIN:VEVENT
DTSTART;TZID=America/Halifax:20301231T190000
DTEND;TZID=America/Halifax:20301231T200000
DTSTAMP:20260424T023806
CREATED:20260204T183111Z
LAST-MODIFIED:20260204T183112Z
UID:10001332-1924974000-1924977600@saintignatius.ca
SUMMARY:Online Rosary
DESCRIPTION:
URL:https://saintignatius.ca/event/online-rosary-20-2/2030-12-31
LOCATION:Online\, Canada
END:VEVENT
BEGIN:VEVENT
DTSTART;TZID=America/Halifax:20310102T190000
DTEND;TZID=America/Halifax:20310102T200000
DTSTAMP:20260424T023806
CREATED:20260306T115459Z
LAST-MODIFIED:20260306T115459Z
UID:10007959-1925146800-1925150400@saintignatius.ca
SUMMARY:Online Rosary
DESCRIPTION:
URL:https://saintignatius.ca/event/online-rosary-24/2031-01-02
LOCATION:Online\, Canada
END:VEVENT
BEGIN:VEVENT
DTSTART;TZID=America/Halifax:20310106T190000
DTEND;TZID=America/Halifax:20310106T200000
DTSTAMP:20260424T023806
CREATED:20260306T115204Z
LAST-MODIFIED:20260306T115204Z
UID:10007699-1925492400-1925496000@saintignatius.ca
SUMMARY:Online Rosary
DESCRIPTION:
URL:https://saintignatius.ca/event/online-rosary-23/2031-01-06
LOCATION:Online\, Canada
END:VEVENT
BEGIN:VEVENT
DTSTART;TZID=America/Halifax:20310107T190000
DTEND;TZID=America/Halifax:20310107T200000
DTSTAMP:20260424T023806
CREATED:20260204T183111Z
LAST-MODIFIED:20260204T183112Z
UID:10001333-1925578800-1925582400@saintignatius.ca
SUMMARY:Online Rosary
DESCRIPTION:
URL:https://saintignatius.ca/event/online-rosary-20-2/2031-01-07
LOCATION:Online\, Canada
END:VEVENT
BEGIN:VEVENT
DTSTART;TZID=America/Halifax:20310109T190000
DTEND;TZID=America/Halifax:20310109T200000
DTSTAMP:20260424T023806
CREATED:20260306T115459Z
LAST-MODIFIED:20260306T115459Z
UID:10007960-1925751600-1925755200@saintignatius.ca
SUMMARY:Online Rosary
DESCRIPTION:
URL:https://saintignatius.ca/event/online-rosary-24/2031-01-09
LOCATION:Online\, Canada
END:VEVENT
BEGIN:VEVENT
DTSTART;TZID=America/Halifax:20310113T190000
DTEND;TZID=America/Halifax:20310113T200000
DTSTAMP:20260424T023806
CREATED:20260306T115204Z
LAST-MODIFIED:20260306T115204Z
UID:10007700-1926097200-1926100800@saintignatius.ca
SUMMARY:Online Rosary
DESCRIPTION:
URL:https://saintignatius.ca/event/online-rosary-23/2031-01-13
LOCATION:Online\, Canada
END:VEVENT
BEGIN:VEVENT
DTSTART;TZID=America/Halifax:20310114T190000
DTEND;TZID=America/Halifax:20310114T200000
DTSTAMP:20260424T023806
CREATED:20260204T183111Z
LAST-MODIFIED:20260204T183112Z
UID:10001334-1926183600-1926187200@saintignatius.ca
SUMMARY:Online Rosary
DESCRIPTION:
URL:https://saintignatius.ca/event/online-rosary-20-2/2031-01-14
LOCATION:Online\, Canada
END:VEVENT
BEGIN:VEVENT
DTSTART;TZID=America/Halifax:20310116T190000
DTEND;TZID=America/Halifax:20310116T200000
DTSTAMP:20260424T023806
CREATED:20260306T115459Z
LAST-MODIFIED:20260306T115459Z
UID:10007961-1926356400-1926360000@saintignatius.ca
SUMMARY:Online Rosary
DESCRIPTION:
URL:https://saintignatius.ca/event/online-rosary-24/2031-01-16
LOCATION:Online\, Canada
END:VEVENT
BEGIN:VEVENT
DTSTART;TZID=America/Halifax:20310120T190000
DTEND;TZID=America/Halifax:20310120T200000
DTSTAMP:20260424T023806
CREATED:20260306T115204Z
LAST-MODIFIED:20260306T115204Z
UID:10007701-1926702000-1926705600@saintignatius.ca
SUMMARY:Online Rosary
DESCRIPTION:
URL:https://saintignatius.ca/event/online-rosary-23/2031-01-20
LOCATION:Online\, Canada
END:VEVENT
BEGIN:VEVENT
DTSTART;TZID=America/Halifax:20310121T190000
DTEND;TZID=America/Halifax:20310121T200000
DTSTAMP:20260424T023806
CREATED:20260204T183111Z
LAST-MODIFIED:20260204T183112Z
UID:10001335-1926788400-1926792000@saintignatius.ca
SUMMARY:Online Rosary
DESCRIPTION:
URL:https://saintignatius.ca/event/online-rosary-20-2/2031-01-21
LOCATION:Online\, Canada
END:VEVENT
BEGIN:VEVENT
DTSTART;TZID=America/Halifax:20310123T190000
DTEND;TZID=America/Halifax:20310123T200000
DTSTAMP:20260424T023806
CREATED:20260306T115459Z
LAST-MODIFIED:20260306T115459Z
UID:10007962-1926961200-1926964800@saintignatius.ca
SUMMARY:Online Rosary
DESCRIPTION:
URL:https://saintignatius.ca/event/online-rosary-24/2031-01-23
LOCATION:Online\, Canada
END:VEVENT
BEGIN:VEVENT
DTSTART;TZID=America/Halifax:20310127T190000
DTEND;TZID=America/Halifax:20310127T200000
DTSTAMP:20260424T023806
CREATED:20260306T115204Z
LAST-MODIFIED:20260306T115204Z
UID:10007702-1927306800-1927310400@saintignatius.ca
SUMMARY:Online Rosary
DESCRIPTION:
URL:https://saintignatius.ca/event/online-rosary-23/2031-01-27
LOCATION:Online\, Canada
END:VEVENT
BEGIN:VEVENT
DTSTART;TZID=America/Halifax:20310128T190000
DTEND;TZID=America/Halifax:20310128T200000
DTSTAMP:20260424T023806
CREATED:20260204T183111Z
LAST-MODIFIED:20260204T183112Z
UID:10001336-1927393200-1927396800@saintignatius.ca
SUMMARY:Online Rosary
DESCRIPTION:
URL:https://saintignatius.ca/event/online-rosary-20-2/2031-01-28
LOCATION:Online\, Canada
END:VEVENT
BEGIN:VEVENT
DTSTART;TZID=America/Halifax:20310130T190000
DTEND;TZID=America/Halifax:20310130T200000
DTSTAMP:20260424T023806
CREATED:20260306T115459Z
LAST-MODIFIED:20260306T115459Z
UID:10007963-1927566000-1927569600@saintignatius.ca
SUMMARY:Online Rosary
DESCRIPTION:
URL:https://saintignatius.ca/event/online-rosary-24/2031-01-30
LOCATION:Online\, Canada
END:VEVENT
BEGIN:VEVENT
DTSTART;TZID=America/Halifax:20310203T190000
DTEND;TZID=America/Halifax:20310203T200000
DTSTAMP:20260424T023806
CREATED:20260306T115204Z
LAST-MODIFIED:20260306T115204Z
UID:10007703-1927911600-1927915200@saintignatius.ca
SUMMARY:Online Rosary
DESCRIPTION:
URL:https://saintignatius.ca/event/online-rosary-23/2031-02-03
LOCATION:Online\, Canada
END:VEVENT
BEGIN:VEVENT
DTSTART;TZID=America/Halifax:20310204T190000
DTEND;TZID=America/Halifax:20310204T200000
DTSTAMP:20260424T023806
CREATED:20260204T183111Z
LAST-MODIFIED:20260204T183112Z
UID:10001337-1927998000-1928001600@saintignatius.ca
SUMMARY:Online Rosary
DESCRIPTION:
URL:https://saintignatius.ca/event/online-rosary-20-2/2031-02-04
LOCATION:Online\, Canada
END:VEVENT
BEGIN:VEVENT
DTSTART;TZID=America/Halifax:20310206T190000
DTEND;TZID=America/Halifax:20310206T200000
DTSTAMP:20260424T023806
CREATED:20260306T115459Z
LAST-MODIFIED:20260306T115459Z
UID:10007964-1928170800-1928174400@saintignatius.ca
SUMMARY:Online Rosary
DESCRIPTION:
URL:https://saintignatius.ca/event/online-rosary-24/2031-02-06
LOCATION:Online\, Canada
END:VEVENT
BEGIN:VEVENT
DTSTART;TZID=America/Halifax:20310210T190000
DTEND;TZID=America/Halifax:20310210T200000
DTSTAMP:20260424T023806
CREATED:20260306T115204Z
LAST-MODIFIED:20260306T115204Z
UID:10007704-1928516400-1928520000@saintignatius.ca
SUMMARY:Online Rosary
DESCRIPTION:
URL:https://saintignatius.ca/event/online-rosary-23/2031-02-10
LOCATION:Online\, Canada
END:VEVENT
BEGIN:VEVENT
DTSTART;TZID=America/Halifax:20310213T190000
DTEND;TZID=America/Halifax:20310213T200000
DTSTAMP:20260424T023806
CREATED:20260306T115459Z
LAST-MODIFIED:20260306T115459Z
UID:10007965-1928775600-1928779200@saintignatius.ca
SUMMARY:Online Rosary
DESCRIPTION:
URL:https://saintignatius.ca/event/online-rosary-24/2031-02-13
LOCATION:Online\, Canada
END:VEVENT
BEGIN:VEVENT
DTSTART;TZID=America/Halifax:20310217T190000
DTEND;TZID=America/Halifax:20310217T200000
DTSTAMP:20260424T023806
CREATED:20260306T115204Z
LAST-MODIFIED:20260306T115204Z
UID:10007705-1929121200-1929124800@saintignatius.ca
SUMMARY:Online Rosary
DESCRIPTION:
URL:https://saintignatius.ca/event/online-rosary-23/2031-02-17
LOCATION:Online\, Canada
END:VEVENT
BEGIN:VEVENT
DTSTART;TZID=America/Halifax:20310220T190000
DTEND;TZID=America/Halifax:20310220T200000
DTSTAMP:20260424T023806
CREATED:20260306T115459Z
LAST-MODIFIED:20260306T115459Z
UID:10007966-1929380400-1929384000@saintignatius.ca
SUMMARY:Online Rosary
DESCRIPTION:
URL:https://saintignatius.ca/event/online-rosary-24/2031-02-20
LOCATION:Online\, Canada
END:VEVENT
BEGIN:VEVENT
DTSTART;TZID=America/Halifax:20310224T190000
DTEND;TZID=America/Halifax:20310224T200000
DTSTAMP:20260424T023806
CREATED:20260306T115204Z
LAST-MODIFIED:20260306T115204Z
UID:10007706-1929726000-1929729600@saintignatius.ca
SUMMARY:Online Rosary
DESCRIPTION:
URL:https://saintignatius.ca/event/online-rosary-23/2031-02-24
LOCATION:Online\, Canada
END:VEVENT
BEGIN:VEVENT
DTSTART;TZID=America/Halifax:20310227T190000
DTEND;TZID=America/Halifax:20310227T200000
DTSTAMP:20260424T023806
CREATED:20260306T115459Z
LAST-MODIFIED:20260306T115459Z
UID:10007967-1929985200-1929988800@saintignatius.ca
SUMMARY:Online Rosary
DESCRIPTION:
URL:https://saintignatius.ca/event/online-rosary-24/2031-02-27
LOCATION:Online\, Canada
END:VEVENT
BEGIN:VEVENT
DTSTART;TZID=America/Halifax:20310303T190000
DTEND;TZID=America/Halifax:20310303T200000
DTSTAMP:20260424T023806
CREATED:20260306T115204Z
LAST-MODIFIED:20260306T115204Z
UID:10007707-1930330800-1930334400@saintignatius.ca
SUMMARY:Online Rosary
DESCRIPTION:
URL:https://saintignatius.ca/event/online-rosary-23/2031-03-03
LOCATION:Online\, Canada
END:VEVENT
BEGIN:VEVENT
DTSTART;TZID=America/Halifax:20310306T190000
DTEND;TZID=America/Halifax:20310306T200000
DTSTAMP:20260424T023806
CREATED:20260306T115459Z
LAST-MODIFIED:20260306T115459Z
UID:10007968-1930590000-1930593600@saintignatius.ca
SUMMARY:Online Rosary
DESCRIPTION:
URL:https://saintignatius.ca/event/online-rosary-24/2031-03-06
LOCATION:Online\, Canada
END:VEVENT
END:VCALENDAR