BEGIN:VCALENDAR
VERSION:2.0
PRODID:-//Saint Ignatius of Loyola Parish - ECPv6.15.13//NONSGML v1.0//EN
CALSCALE:GREGORIAN
METHOD:PUBLISH
X-WR-CALNAME:Saint Ignatius of Loyola Parish
X-ORIGINAL-URL:https://saintignatius.ca
X-WR-CALDESC:Events for Saint Ignatius of Loyola Parish
REFRESH-INTERVAL;VALUE=DURATION:PT1H
X-Robots-Tag:noindex
X-PUBLISHED-TTL:PT1H
BEGIN:VTIMEZONE
TZID:America/Halifax
BEGIN:DAYLIGHT
TZOFFSETFROM:-0400
TZOFFSETTO:-0300
TZNAME:ADT
DTSTART:20290311T060000
END:DAYLIGHT
BEGIN:STANDARD
TZOFFSETFROM:-0300
TZOFFSETTO:-0400
TZNAME:AST
DTSTART:20291104T050000
END:STANDARD
BEGIN:DAYLIGHT
TZOFFSETFROM:-0400
TZOFFSETTO:-0300
TZNAME:ADT
DTSTART:20300310T060000
END:DAYLIGHT
BEGIN:STANDARD
TZOFFSETFROM:-0300
TZOFFSETTO:-0400
TZNAME:AST
DTSTART:20301103T050000
END:STANDARD
BEGIN:DAYLIGHT
TZOFFSETFROM:-0400
TZOFFSETTO:-0300
TZNAME:ADT
DTSTART:20310309T060000
END:DAYLIGHT
BEGIN:STANDARD
TZOFFSETFROM:-0300
TZOFFSETTO:-0400
TZNAME:AST
DTSTART:20311102T050000
END:STANDARD
END:VTIMEZONE
BEGIN:VEVENT
DTSTART;TZID=America/Halifax:20301015T190000
DTEND;TZID=America/Halifax:20301015T200000
DTSTAMP:20260423T224621
CREATED:20260204T183111Z
LAST-MODIFIED:20260204T183112Z
UID:10001321-1918321200-1918324800@saintignatius.ca
SUMMARY:Online Rosary
DESCRIPTION:
URL:https://saintignatius.ca/event/online-rosary-20-2/2030-10-15
LOCATION:Online\, Canada
END:VEVENT
BEGIN:VEVENT
DTSTART;TZID=America/Halifax:20301017T190000
DTEND;TZID=America/Halifax:20301017T200000
DTSTAMP:20260423T224621
CREATED:20260306T115459Z
LAST-MODIFIED:20260306T115459Z
UID:10007948-1918494000-1918497600@saintignatius.ca
SUMMARY:Online Rosary
DESCRIPTION:
URL:https://saintignatius.ca/event/online-rosary-24/2030-10-17
LOCATION:Online\, Canada
END:VEVENT
BEGIN:VEVENT
DTSTART;TZID=America/Halifax:20301021T190000
DTEND;TZID=America/Halifax:20301021T200000
DTSTAMP:20260423T224621
CREATED:20260306T115204Z
LAST-MODIFIED:20260306T115204Z
UID:10007688-1918839600-1918843200@saintignatius.ca
SUMMARY:Online Rosary
DESCRIPTION:
URL:https://saintignatius.ca/event/online-rosary-23/2030-10-21
LOCATION:Online\, Canada
END:VEVENT
BEGIN:VEVENT
DTSTART;TZID=America/Halifax:20301022T190000
DTEND;TZID=America/Halifax:20301022T200000
DTSTAMP:20260423T224621
CREATED:20260204T183111Z
LAST-MODIFIED:20260204T183112Z
UID:10001322-1918926000-1918929600@saintignatius.ca
SUMMARY:Online Rosary
DESCRIPTION:
URL:https://saintignatius.ca/event/online-rosary-20-2/2030-10-22
LOCATION:Online\, Canada
END:VEVENT
BEGIN:VEVENT
DTSTART;TZID=America/Halifax:20301024T190000
DTEND;TZID=America/Halifax:20301024T200000
DTSTAMP:20260423T224621
CREATED:20260306T115459Z
LAST-MODIFIED:20260306T115459Z
UID:10007949-1919098800-1919102400@saintignatius.ca
SUMMARY:Online Rosary
DESCRIPTION:
URL:https://saintignatius.ca/event/online-rosary-24/2030-10-24
LOCATION:Online\, Canada
END:VEVENT
BEGIN:VEVENT
DTSTART;TZID=America/Halifax:20301028T190000
DTEND;TZID=America/Halifax:20301028T200000
DTSTAMP:20260423T224621
CREATED:20260306T115204Z
LAST-MODIFIED:20260306T115204Z
UID:10007689-1919444400-1919448000@saintignatius.ca
SUMMARY:Online Rosary
DESCRIPTION:
URL:https://saintignatius.ca/event/online-rosary-23/2030-10-28
LOCATION:Online\, Canada
END:VEVENT
BEGIN:VEVENT
DTSTART;TZID=America/Halifax:20301029T190000
DTEND;TZID=America/Halifax:20301029T200000
DTSTAMP:20260423T224621
CREATED:20260204T183111Z
LAST-MODIFIED:20260204T183112Z
UID:10001323-1919530800-1919534400@saintignatius.ca
SUMMARY:Online Rosary
DESCRIPTION:
URL:https://saintignatius.ca/event/online-rosary-20-2/2030-10-29
LOCATION:Online\, Canada
END:VEVENT
BEGIN:VEVENT
DTSTART;TZID=America/Halifax:20301031T190000
DTEND;TZID=America/Halifax:20301031T200000
DTSTAMP:20260423T224621
CREATED:20260306T115459Z
LAST-MODIFIED:20260306T115459Z
UID:10007950-1919703600-1919707200@saintignatius.ca
SUMMARY:Online Rosary
DESCRIPTION:
URL:https://saintignatius.ca/event/online-rosary-24/2030-10-31
LOCATION:Online\, Canada
END:VEVENT
BEGIN:VEVENT
DTSTART;TZID=America/Halifax:20301104T190000
DTEND;TZID=America/Halifax:20301104T200000
DTSTAMP:20260423T224621
CREATED:20260306T115204Z
LAST-MODIFIED:20260306T115204Z
UID:10007690-1920049200-1920052800@saintignatius.ca
SUMMARY:Online Rosary
DESCRIPTION:
URL:https://saintignatius.ca/event/online-rosary-23/2030-11-04
LOCATION:Online\, Canada
END:VEVENT
BEGIN:VEVENT
DTSTART;TZID=America/Halifax:20301105T190000
DTEND;TZID=America/Halifax:20301105T200000
DTSTAMP:20260423T224621
CREATED:20260204T183111Z
LAST-MODIFIED:20260204T183112Z
UID:10001324-1920135600-1920139200@saintignatius.ca
SUMMARY:Online Rosary
DESCRIPTION:
URL:https://saintignatius.ca/event/online-rosary-20-2/2030-11-05
LOCATION:Online\, Canada
END:VEVENT
BEGIN:VEVENT
DTSTART;TZID=America/Halifax:20301107T190000
DTEND;TZID=America/Halifax:20301107T200000
DTSTAMP:20260423T224621
CREATED:20260306T115459Z
LAST-MODIFIED:20260306T115459Z
UID:10007951-1920308400-1920312000@saintignatius.ca
SUMMARY:Online Rosary
DESCRIPTION:
URL:https://saintignatius.ca/event/online-rosary-24/2030-11-07
LOCATION:Online\, Canada
END:VEVENT
BEGIN:VEVENT
DTSTART;TZID=America/Halifax:20301111T190000
DTEND;TZID=America/Halifax:20301111T200000
DTSTAMP:20260423T224621
CREATED:20260306T115204Z
LAST-MODIFIED:20260306T115204Z
UID:10007691-1920654000-1920657600@saintignatius.ca
SUMMARY:Online Rosary
DESCRIPTION:
URL:https://saintignatius.ca/event/online-rosary-23/2030-11-11
LOCATION:Online\, Canada
END:VEVENT
BEGIN:VEVENT
DTSTART;TZID=America/Halifax:20301112T190000
DTEND;TZID=America/Halifax:20301112T200000
DTSTAMP:20260423T224621
CREATED:20260204T183111Z
LAST-MODIFIED:20260204T183112Z
UID:10001325-1920740400-1920744000@saintignatius.ca
SUMMARY:Online Rosary
DESCRIPTION:
URL:https://saintignatius.ca/event/online-rosary-20-2/2030-11-12
LOCATION:Online\, Canada
END:VEVENT
BEGIN:VEVENT
DTSTART;TZID=America/Halifax:20301114T190000
DTEND;TZID=America/Halifax:20301114T200000
DTSTAMP:20260423T224621
CREATED:20260306T115459Z
LAST-MODIFIED:20260306T115459Z
UID:10007952-1920913200-1920916800@saintignatius.ca
SUMMARY:Online Rosary
DESCRIPTION:
URL:https://saintignatius.ca/event/online-rosary-24/2030-11-14
LOCATION:Online\, Canada
END:VEVENT
BEGIN:VEVENT
DTSTART;TZID=America/Halifax:20301118T190000
DTEND;TZID=America/Halifax:20301118T200000
DTSTAMP:20260423T224621
CREATED:20260306T115204Z
LAST-MODIFIED:20260306T115204Z
UID:10007692-1921258800-1921262400@saintignatius.ca
SUMMARY:Online Rosary
DESCRIPTION:
URL:https://saintignatius.ca/event/online-rosary-23/2030-11-18
LOCATION:Online\, Canada
END:VEVENT
BEGIN:VEVENT
DTSTART;TZID=America/Halifax:20301119T190000
DTEND;TZID=America/Halifax:20301119T200000
DTSTAMP:20260423T224621
CREATED:20260204T183111Z
LAST-MODIFIED:20260204T183112Z
UID:10001326-1921345200-1921348800@saintignatius.ca
SUMMARY:Online Rosary
DESCRIPTION:
URL:https://saintignatius.ca/event/online-rosary-20-2/2030-11-19
LOCATION:Online\, Canada
END:VEVENT
BEGIN:VEVENT
DTSTART;TZID=America/Halifax:20301121T190000
DTEND;TZID=America/Halifax:20301121T200000
DTSTAMP:20260423T224621
CREATED:20260306T115459Z
LAST-MODIFIED:20260306T115459Z
UID:10007953-1921518000-1921521600@saintignatius.ca
SUMMARY:Online Rosary
DESCRIPTION:
URL:https://saintignatius.ca/event/online-rosary-24/2030-11-21
LOCATION:Online\, Canada
END:VEVENT
BEGIN:VEVENT
DTSTART;TZID=America/Halifax:20301125T190000
DTEND;TZID=America/Halifax:20301125T200000
DTSTAMP:20260423T224621
CREATED:20260306T115204Z
LAST-MODIFIED:20260306T115204Z
UID:10007693-1921863600-1921867200@saintignatius.ca
SUMMARY:Online Rosary
DESCRIPTION:
URL:https://saintignatius.ca/event/online-rosary-23/2030-11-25
LOCATION:Online\, Canada
END:VEVENT
BEGIN:VEVENT
DTSTART;TZID=America/Halifax:20301126T190000
DTEND;TZID=America/Halifax:20301126T200000
DTSTAMP:20260423T224621
CREATED:20260204T183111Z
LAST-MODIFIED:20260204T183112Z
UID:10001327-1921950000-1921953600@saintignatius.ca
SUMMARY:Online Rosary
DESCRIPTION:
URL:https://saintignatius.ca/event/online-rosary-20-2/2030-11-26
LOCATION:Online\, Canada
END:VEVENT
BEGIN:VEVENT
DTSTART;TZID=America/Halifax:20301128T190000
DTEND;TZID=America/Halifax:20301128T200000
DTSTAMP:20260423T224621
CREATED:20260306T115459Z
LAST-MODIFIED:20260306T115459Z
UID:10007954-1922122800-1922126400@saintignatius.ca
SUMMARY:Online Rosary
DESCRIPTION:
URL:https://saintignatius.ca/event/online-rosary-24/2030-11-28
LOCATION:Online\, Canada
END:VEVENT
BEGIN:VEVENT
DTSTART;TZID=America/Halifax:20301202T190000
DTEND;TZID=America/Halifax:20301202T200000
DTSTAMP:20260423T224621
CREATED:20260306T115204Z
LAST-MODIFIED:20260306T115204Z
UID:10007694-1922468400-1922472000@saintignatius.ca
SUMMARY:Online Rosary
DESCRIPTION:
URL:https://saintignatius.ca/event/online-rosary-23/2030-12-02
LOCATION:Online\, Canada
END:VEVENT
BEGIN:VEVENT
DTSTART;TZID=America/Halifax:20301203T190000
DTEND;TZID=America/Halifax:20301203T200000
DTSTAMP:20260423T224621
CREATED:20260204T183111Z
LAST-MODIFIED:20260204T183112Z
UID:10001328-1922554800-1922558400@saintignatius.ca
SUMMARY:Online Rosary
DESCRIPTION:
URL:https://saintignatius.ca/event/online-rosary-20-2/2030-12-03
LOCATION:Online\, Canada
END:VEVENT
BEGIN:VEVENT
DTSTART;TZID=America/Halifax:20301205T190000
DTEND;TZID=America/Halifax:20301205T200000
DTSTAMP:20260423T224621
CREATED:20260306T115459Z
LAST-MODIFIED:20260306T115459Z
UID:10007955-1922727600-1922731200@saintignatius.ca
SUMMARY:Online Rosary
DESCRIPTION:
URL:https://saintignatius.ca/event/online-rosary-24/2030-12-05
LOCATION:Online\, Canada
END:VEVENT
BEGIN:VEVENT
DTSTART;TZID=America/Halifax:20301209T190000
DTEND;TZID=America/Halifax:20301209T200000
DTSTAMP:20260423T224621
CREATED:20260306T115204Z
LAST-MODIFIED:20260306T115204Z
UID:10007695-1923073200-1923076800@saintignatius.ca
SUMMARY:Online Rosary
DESCRIPTION:
URL:https://saintignatius.ca/event/online-rosary-23/2030-12-09
LOCATION:Online\, Canada
END:VEVENT
BEGIN:VEVENT
DTSTART;TZID=America/Halifax:20301210T190000
DTEND;TZID=America/Halifax:20301210T200000
DTSTAMP:20260423T224621
CREATED:20260204T183111Z
LAST-MODIFIED:20260204T183112Z
UID:10001329-1923159600-1923163200@saintignatius.ca
SUMMARY:Online Rosary
DESCRIPTION:
URL:https://saintignatius.ca/event/online-rosary-20-2/2030-12-10
LOCATION:Online\, Canada
END:VEVENT
BEGIN:VEVENT
DTSTART;TZID=America/Halifax:20301212T190000
DTEND;TZID=America/Halifax:20301212T200000
DTSTAMP:20260423T224621
CREATED:20260306T115459Z
LAST-MODIFIED:20260306T115459Z
UID:10007956-1923332400-1923336000@saintignatius.ca
SUMMARY:Online Rosary
DESCRIPTION:
URL:https://saintignatius.ca/event/online-rosary-24/2030-12-12
LOCATION:Online\, Canada
END:VEVENT
BEGIN:VEVENT
DTSTART;TZID=America/Halifax:20301216T190000
DTEND;TZID=America/Halifax:20301216T200000
DTSTAMP:20260423T224621
CREATED:20260306T115204Z
LAST-MODIFIED:20260306T115204Z
UID:10007696-1923678000-1923681600@saintignatius.ca
SUMMARY:Online Rosary
DESCRIPTION:
URL:https://saintignatius.ca/event/online-rosary-23/2030-12-16
LOCATION:Online\, Canada
END:VEVENT
BEGIN:VEVENT
DTSTART;TZID=America/Halifax:20301217T190000
DTEND;TZID=America/Halifax:20301217T200000
DTSTAMP:20260423T224621
CREATED:20260204T183111Z
LAST-MODIFIED:20260204T183112Z
UID:10001330-1923764400-1923768000@saintignatius.ca
SUMMARY:Online Rosary
DESCRIPTION:
URL:https://saintignatius.ca/event/online-rosary-20-2/2030-12-17
LOCATION:Online\, Canada
END:VEVENT
BEGIN:VEVENT
DTSTART;TZID=America/Halifax:20301219T190000
DTEND;TZID=America/Halifax:20301219T200000
DTSTAMP:20260423T224621
CREATED:20260306T115459Z
LAST-MODIFIED:20260306T115459Z
UID:10007957-1923937200-1923940800@saintignatius.ca
SUMMARY:Online Rosary
DESCRIPTION:
URL:https://saintignatius.ca/event/online-rosary-24/2030-12-19
LOCATION:Online\, Canada
END:VEVENT
BEGIN:VEVENT
DTSTART;TZID=America/Halifax:20301223T190000
DTEND;TZID=America/Halifax:20301223T200000
DTSTAMP:20260423T224621
CREATED:20260306T115204Z
LAST-MODIFIED:20260306T115204Z
UID:10007697-1924282800-1924286400@saintignatius.ca
SUMMARY:Online Rosary
DESCRIPTION:
URL:https://saintignatius.ca/event/online-rosary-23/2030-12-23
LOCATION:Online\, Canada
END:VEVENT
END:VCALENDAR