BEGIN:VCALENDAR
VERSION:2.0
PRODID:-//Saint Ignatius of Loyola Parish - ECPv6.15.13//NONSGML v1.0//EN
CALSCALE:GREGORIAN
METHOD:PUBLISH
X-WR-CALNAME:Saint Ignatius of Loyola Parish
X-ORIGINAL-URL:https://saintignatius.ca
X-WR-CALDESC:Events for Saint Ignatius of Loyola Parish
REFRESH-INTERVAL;VALUE=DURATION:PT1H
X-Robots-Tag:noindex
X-PUBLISHED-TTL:PT1H
BEGIN:VTIMEZONE
TZID:America/Halifax
BEGIN:DAYLIGHT
TZOFFSETFROM:-0400
TZOFFSETTO:-0300
TZNAME:ADT
DTSTART:20290311T060000
END:DAYLIGHT
BEGIN:STANDARD
TZOFFSETFROM:-0300
TZOFFSETTO:-0400
TZNAME:AST
DTSTART:20291104T050000
END:STANDARD
BEGIN:DAYLIGHT
TZOFFSETFROM:-0400
TZOFFSETTO:-0300
TZNAME:ADT
DTSTART:20300310T060000
END:DAYLIGHT
BEGIN:STANDARD
TZOFFSETFROM:-0300
TZOFFSETTO:-0400
TZNAME:AST
DTSTART:20301103T050000
END:STANDARD
BEGIN:DAYLIGHT
TZOFFSETFROM:-0400
TZOFFSETTO:-0300
TZNAME:ADT
DTSTART:20310309T060000
END:DAYLIGHT
BEGIN:STANDARD
TZOFFSETFROM:-0300
TZOFFSETTO:-0400
TZNAME:AST
DTSTART:20311102T050000
END:STANDARD
END:VTIMEZONE
BEGIN:VEVENT
DTSTART;TZID=America/Halifax:20300805T190000
DTEND;TZID=America/Halifax:20300805T200000
DTSTAMP:20260423T185114
CREATED:20260306T115204Z
LAST-MODIFIED:20260306T115204Z
UID:10007677-1912186800-1912190400@saintignatius.ca
SUMMARY:Online Rosary
DESCRIPTION:
URL:https://saintignatius.ca/event/online-rosary-23/2030-08-05
LOCATION:Online\, Canada
END:VEVENT
BEGIN:VEVENT
DTSTART;TZID=America/Halifax:20300806T190000
DTEND;TZID=America/Halifax:20300806T200000
DTSTAMP:20260423T185114
CREATED:20260204T183111Z
LAST-MODIFIED:20260204T183112Z
UID:10001311-1912273200-1912276800@saintignatius.ca
SUMMARY:Online Rosary
DESCRIPTION:
URL:https://saintignatius.ca/event/online-rosary-20-2/2030-08-06
LOCATION:Online\, Canada
END:VEVENT
BEGIN:VEVENT
DTSTART;TZID=America/Halifax:20300808T190000
DTEND;TZID=America/Halifax:20300808T200000
DTSTAMP:20260423T185114
CREATED:20260306T115459Z
LAST-MODIFIED:20260306T115459Z
UID:10007938-1912446000-1912449600@saintignatius.ca
SUMMARY:Online Rosary
DESCRIPTION:
URL:https://saintignatius.ca/event/online-rosary-24/2030-08-08
LOCATION:Online\, Canada
END:VEVENT
BEGIN:VEVENT
DTSTART;TZID=America/Halifax:20300812T190000
DTEND;TZID=America/Halifax:20300812T200000
DTSTAMP:20260423T185114
CREATED:20260306T115204Z
LAST-MODIFIED:20260306T115204Z
UID:10007678-1912791600-1912795200@saintignatius.ca
SUMMARY:Online Rosary
DESCRIPTION:
URL:https://saintignatius.ca/event/online-rosary-23/2030-08-12
LOCATION:Online\, Canada
END:VEVENT
BEGIN:VEVENT
DTSTART;TZID=America/Halifax:20300813T190000
DTEND;TZID=America/Halifax:20300813T200000
DTSTAMP:20260423T185114
CREATED:20260204T183111Z
LAST-MODIFIED:20260204T183112Z
UID:10001312-1912878000-1912881600@saintignatius.ca
SUMMARY:Online Rosary
DESCRIPTION:
URL:https://saintignatius.ca/event/online-rosary-20-2/2030-08-13
LOCATION:Online\, Canada
END:VEVENT
BEGIN:VEVENT
DTSTART;TZID=America/Halifax:20300815T190000
DTEND;TZID=America/Halifax:20300815T200000
DTSTAMP:20260423T185114
CREATED:20260306T115459Z
LAST-MODIFIED:20260306T115459Z
UID:10007939-1913050800-1913054400@saintignatius.ca
SUMMARY:Online Rosary
DESCRIPTION:
URL:https://saintignatius.ca/event/online-rosary-24/2030-08-15
LOCATION:Online\, Canada
END:VEVENT
BEGIN:VEVENT
DTSTART;TZID=America/Halifax:20300819T190000
DTEND;TZID=America/Halifax:20300819T200000
DTSTAMP:20260423T185114
CREATED:20260306T115204Z
LAST-MODIFIED:20260306T115204Z
UID:10007679-1913396400-1913400000@saintignatius.ca
SUMMARY:Online Rosary
DESCRIPTION:
URL:https://saintignatius.ca/event/online-rosary-23/2030-08-19
LOCATION:Online\, Canada
END:VEVENT
BEGIN:VEVENT
DTSTART;TZID=America/Halifax:20300820T190000
DTEND;TZID=America/Halifax:20300820T200000
DTSTAMP:20260423T185114
CREATED:20260204T183111Z
LAST-MODIFIED:20260204T183112Z
UID:10001313-1913482800-1913486400@saintignatius.ca
SUMMARY:Online Rosary
DESCRIPTION:
URL:https://saintignatius.ca/event/online-rosary-20-2/2030-08-20
LOCATION:Online\, Canada
END:VEVENT
BEGIN:VEVENT
DTSTART;TZID=America/Halifax:20300822T190000
DTEND;TZID=America/Halifax:20300822T200000
DTSTAMP:20260423T185114
CREATED:20260306T115459Z
LAST-MODIFIED:20260306T115459Z
UID:10007940-1913655600-1913659200@saintignatius.ca
SUMMARY:Online Rosary
DESCRIPTION:
URL:https://saintignatius.ca/event/online-rosary-24/2030-08-22
LOCATION:Online\, Canada
END:VEVENT
BEGIN:VEVENT
DTSTART;TZID=America/Halifax:20300826T190000
DTEND;TZID=America/Halifax:20300826T200000
DTSTAMP:20260423T185114
CREATED:20260306T115204Z
LAST-MODIFIED:20260306T115204Z
UID:10007680-1914001200-1914004800@saintignatius.ca
SUMMARY:Online Rosary
DESCRIPTION:
URL:https://saintignatius.ca/event/online-rosary-23/2030-08-26
LOCATION:Online\, Canada
END:VEVENT
BEGIN:VEVENT
DTSTART;TZID=America/Halifax:20300827T190000
DTEND;TZID=America/Halifax:20300827T200000
DTSTAMP:20260423T185114
CREATED:20260204T183111Z
LAST-MODIFIED:20260204T183112Z
UID:10001314-1914087600-1914091200@saintignatius.ca
SUMMARY:Online Rosary
DESCRIPTION:
URL:https://saintignatius.ca/event/online-rosary-20-2/2030-08-27
LOCATION:Online\, Canada
END:VEVENT
BEGIN:VEVENT
DTSTART;TZID=America/Halifax:20300829T190000
DTEND;TZID=America/Halifax:20300829T200000
DTSTAMP:20260423T185114
CREATED:20260306T115459Z
LAST-MODIFIED:20260306T115459Z
UID:10007941-1914260400-1914264000@saintignatius.ca
SUMMARY:Online Rosary
DESCRIPTION:
URL:https://saintignatius.ca/event/online-rosary-24/2030-08-29
LOCATION:Online\, Canada
END:VEVENT
BEGIN:VEVENT
DTSTART;TZID=America/Halifax:20300902T190000
DTEND;TZID=America/Halifax:20300902T200000
DTSTAMP:20260423T185114
CREATED:20260306T115204Z
LAST-MODIFIED:20260306T115204Z
UID:10007681-1914606000-1914609600@saintignatius.ca
SUMMARY:Online Rosary
DESCRIPTION:
URL:https://saintignatius.ca/event/online-rosary-23/2030-09-02
LOCATION:Online\, Canada
END:VEVENT
BEGIN:VEVENT
DTSTART;TZID=America/Halifax:20300903T190000
DTEND;TZID=America/Halifax:20300903T200000
DTSTAMP:20260423T185115
CREATED:20260204T183111Z
LAST-MODIFIED:20260204T183112Z
UID:10001315-1914692400-1914696000@saintignatius.ca
SUMMARY:Online Rosary
DESCRIPTION:
URL:https://saintignatius.ca/event/online-rosary-20-2/2030-09-03
LOCATION:Online\, Canada
END:VEVENT
BEGIN:VEVENT
DTSTART;TZID=America/Halifax:20300905T190000
DTEND;TZID=America/Halifax:20300905T200000
DTSTAMP:20260423T185115
CREATED:20260306T115459Z
LAST-MODIFIED:20260306T115459Z
UID:10007942-1914865200-1914868800@saintignatius.ca
SUMMARY:Online Rosary
DESCRIPTION:
URL:https://saintignatius.ca/event/online-rosary-24/2030-09-05
LOCATION:Online\, Canada
END:VEVENT
BEGIN:VEVENT
DTSTART;TZID=America/Halifax:20300909T190000
DTEND;TZID=America/Halifax:20300909T200000
DTSTAMP:20260423T185115
CREATED:20260306T115204Z
LAST-MODIFIED:20260306T115204Z
UID:10007682-1915210800-1915214400@saintignatius.ca
SUMMARY:Online Rosary
DESCRIPTION:
URL:https://saintignatius.ca/event/online-rosary-23/2030-09-09
LOCATION:Online\, Canada
END:VEVENT
BEGIN:VEVENT
DTSTART;TZID=America/Halifax:20300910T190000
DTEND;TZID=America/Halifax:20300910T200000
DTSTAMP:20260423T185115
CREATED:20260204T183111Z
LAST-MODIFIED:20260204T183112Z
UID:10001316-1915297200-1915300800@saintignatius.ca
SUMMARY:Online Rosary
DESCRIPTION:
URL:https://saintignatius.ca/event/online-rosary-20-2/2030-09-10
LOCATION:Online\, Canada
END:VEVENT
BEGIN:VEVENT
DTSTART;TZID=America/Halifax:20300912T190000
DTEND;TZID=America/Halifax:20300912T200000
DTSTAMP:20260423T185115
CREATED:20260306T115459Z
LAST-MODIFIED:20260306T115459Z
UID:10007943-1915470000-1915473600@saintignatius.ca
SUMMARY:Online Rosary
DESCRIPTION:
URL:https://saintignatius.ca/event/online-rosary-24/2030-09-12
LOCATION:Online\, Canada
END:VEVENT
BEGIN:VEVENT
DTSTART;TZID=America/Halifax:20300916T190000
DTEND;TZID=America/Halifax:20300916T200000
DTSTAMP:20260423T185115
CREATED:20260306T115204Z
LAST-MODIFIED:20260306T115204Z
UID:10007683-1915815600-1915819200@saintignatius.ca
SUMMARY:Online Rosary
DESCRIPTION:
URL:https://saintignatius.ca/event/online-rosary-23/2030-09-16
LOCATION:Online\, Canada
END:VEVENT
BEGIN:VEVENT
DTSTART;TZID=America/Halifax:20300917T190000
DTEND;TZID=America/Halifax:20300917T200000
DTSTAMP:20260423T185115
CREATED:20260204T183111Z
LAST-MODIFIED:20260204T183112Z
UID:10001317-1915902000-1915905600@saintignatius.ca
SUMMARY:Online Rosary
DESCRIPTION:
URL:https://saintignatius.ca/event/online-rosary-20-2/2030-09-17
LOCATION:Online\, Canada
END:VEVENT
BEGIN:VEVENT
DTSTART;TZID=America/Halifax:20300919T190000
DTEND;TZID=America/Halifax:20300919T200000
DTSTAMP:20260423T185115
CREATED:20260306T115459Z
LAST-MODIFIED:20260306T115459Z
UID:10007944-1916074800-1916078400@saintignatius.ca
SUMMARY:Online Rosary
DESCRIPTION:
URL:https://saintignatius.ca/event/online-rosary-24/2030-09-19
LOCATION:Online\, Canada
END:VEVENT
BEGIN:VEVENT
DTSTART;TZID=America/Halifax:20300923T190000
DTEND;TZID=America/Halifax:20300923T200000
DTSTAMP:20260423T185115
CREATED:20260306T115204Z
LAST-MODIFIED:20260306T115204Z
UID:10007684-1916420400-1916424000@saintignatius.ca
SUMMARY:Online Rosary
DESCRIPTION:
URL:https://saintignatius.ca/event/online-rosary-23/2030-09-23
LOCATION:Online\, Canada
END:VEVENT
BEGIN:VEVENT
DTSTART;TZID=America/Halifax:20300924T190000
DTEND;TZID=America/Halifax:20300924T200000
DTSTAMP:20260423T185115
CREATED:20260204T183111Z
LAST-MODIFIED:20260204T183112Z
UID:10001318-1916506800-1916510400@saintignatius.ca
SUMMARY:Online Rosary
DESCRIPTION:
URL:https://saintignatius.ca/event/online-rosary-20-2/2030-09-24
LOCATION:Online\, Canada
END:VEVENT
BEGIN:VEVENT
DTSTART;TZID=America/Halifax:20300926T190000
DTEND;TZID=America/Halifax:20300926T200000
DTSTAMP:20260423T185115
CREATED:20260306T115459Z
LAST-MODIFIED:20260306T115459Z
UID:10007945-1916679600-1916683200@saintignatius.ca
SUMMARY:Online Rosary
DESCRIPTION:
URL:https://saintignatius.ca/event/online-rosary-24/2030-09-26
LOCATION:Online\, Canada
END:VEVENT
BEGIN:VEVENT
DTSTART;TZID=America/Halifax:20300930T190000
DTEND;TZID=America/Halifax:20300930T200000
DTSTAMP:20260423T185115
CREATED:20260306T115204Z
LAST-MODIFIED:20260306T115204Z
UID:10007685-1917025200-1917028800@saintignatius.ca
SUMMARY:Online Rosary
DESCRIPTION:
URL:https://saintignatius.ca/event/online-rosary-23/2030-09-30
LOCATION:Online\, Canada
END:VEVENT
BEGIN:VEVENT
DTSTART;TZID=America/Halifax:20301001T190000
DTEND;TZID=America/Halifax:20301001T200000
DTSTAMP:20260423T185115
CREATED:20260204T183111Z
LAST-MODIFIED:20260204T183112Z
UID:10001319-1917111600-1917115200@saintignatius.ca
SUMMARY:Online Rosary
DESCRIPTION:
URL:https://saintignatius.ca/event/online-rosary-20-2/2030-10-01
LOCATION:Online\, Canada
END:VEVENT
BEGIN:VEVENT
DTSTART;TZID=America/Halifax:20301003T190000
DTEND;TZID=America/Halifax:20301003T200000
DTSTAMP:20260423T185115
CREATED:20260306T115459Z
LAST-MODIFIED:20260306T115459Z
UID:10007946-1917284400-1917288000@saintignatius.ca
SUMMARY:Online Rosary
DESCRIPTION:
URL:https://saintignatius.ca/event/online-rosary-24/2030-10-03
LOCATION:Online\, Canada
END:VEVENT
BEGIN:VEVENT
DTSTART;TZID=America/Halifax:20301007T190000
DTEND;TZID=America/Halifax:20301007T200000
DTSTAMP:20260423T185115
CREATED:20260306T115204Z
LAST-MODIFIED:20260306T115204Z
UID:10007686-1917630000-1917633600@saintignatius.ca
SUMMARY:Online Rosary
DESCRIPTION:
URL:https://saintignatius.ca/event/online-rosary-23/2030-10-07
LOCATION:Online\, Canada
END:VEVENT
BEGIN:VEVENT
DTSTART;TZID=America/Halifax:20301008T190000
DTEND;TZID=America/Halifax:20301008T200000
DTSTAMP:20260423T185115
CREATED:20260204T183111Z
LAST-MODIFIED:20260204T183112Z
UID:10001320-1917716400-1917720000@saintignatius.ca
SUMMARY:Online Rosary
DESCRIPTION:
URL:https://saintignatius.ca/event/online-rosary-20-2/2030-10-08
LOCATION:Online\, Canada
END:VEVENT
BEGIN:VEVENT
DTSTART;TZID=America/Halifax:20301010T190000
DTEND;TZID=America/Halifax:20301010T200000
DTSTAMP:20260423T185115
CREATED:20260306T115459Z
LAST-MODIFIED:20260306T115459Z
UID:10007947-1917889200-1917892800@saintignatius.ca
SUMMARY:Online Rosary
DESCRIPTION:
URL:https://saintignatius.ca/event/online-rosary-24/2030-10-10
LOCATION:Online\, Canada
END:VEVENT
END:VCALENDAR