BEGIN:VCALENDAR
VERSION:2.0
PRODID:-//Saint Ignatius of Loyola Parish - ECPv6.15.13//NONSGML v1.0//EN
CALSCALE:GREGORIAN
METHOD:PUBLISH
X-WR-CALNAME:Saint Ignatius of Loyola Parish
X-ORIGINAL-URL:https://saintignatius.ca
X-WR-CALDESC:Events for Saint Ignatius of Loyola Parish
REFRESH-INTERVAL;VALUE=DURATION:PT1H
X-Robots-Tag:noindex
X-PUBLISHED-TTL:PT1H
BEGIN:VTIMEZONE
TZID:America/Halifax
BEGIN:DAYLIGHT
TZOFFSETFROM:-0400
TZOFFSETTO:-0300
TZNAME:ADT
DTSTART:20290311T060000
END:DAYLIGHT
BEGIN:STANDARD
TZOFFSETFROM:-0300
TZOFFSETTO:-0400
TZNAME:AST
DTSTART:20291104T050000
END:STANDARD
BEGIN:DAYLIGHT
TZOFFSETFROM:-0400
TZOFFSETTO:-0300
TZNAME:ADT
DTSTART:20300310T060000
END:DAYLIGHT
BEGIN:STANDARD
TZOFFSETFROM:-0300
TZOFFSETTO:-0400
TZNAME:AST
DTSTART:20301103T050000
END:STANDARD
BEGIN:DAYLIGHT
TZOFFSETFROM:-0400
TZOFFSETTO:-0300
TZNAME:ADT
DTSTART:20310309T060000
END:DAYLIGHT
BEGIN:STANDARD
TZOFFSETFROM:-0300
TZOFFSETTO:-0400
TZNAME:AST
DTSTART:20311102T050000
END:STANDARD
END:VTIMEZONE
BEGIN:VEVENT
DTSTART;TZID=America/Halifax:20300527T190000
DTEND;TZID=America/Halifax:20300527T200000
DTSTAMP:20260423T144233
CREATED:20260306T115204Z
LAST-MODIFIED:20260306T115204Z
UID:10007667-1906138800-1906142400@saintignatius.ca
SUMMARY:Online Rosary
DESCRIPTION:
URL:https://saintignatius.ca/event/online-rosary-23/2030-05-27
LOCATION:Online\, Canada
END:VEVENT
BEGIN:VEVENT
DTSTART;TZID=America/Halifax:20300528T190000
DTEND;TZID=America/Halifax:20300528T200000
DTSTAMP:20260423T144233
CREATED:20260204T183111Z
LAST-MODIFIED:20260204T183112Z
UID:10001301-1906225200-1906228800@saintignatius.ca
SUMMARY:Online Rosary
DESCRIPTION:
URL:https://saintignatius.ca/event/online-rosary-20-2/2030-05-28
LOCATION:Online\, Canada
END:VEVENT
BEGIN:VEVENT
DTSTART;TZID=America/Halifax:20300530T190000
DTEND;TZID=America/Halifax:20300530T200000
DTSTAMP:20260423T144233
CREATED:20260306T115459Z
LAST-MODIFIED:20260306T115459Z
UID:10007928-1906398000-1906401600@saintignatius.ca
SUMMARY:Online Rosary
DESCRIPTION:
URL:https://saintignatius.ca/event/online-rosary-24/2030-05-30
LOCATION:Online\, Canada
END:VEVENT
BEGIN:VEVENT
DTSTART;TZID=America/Halifax:20300603T190000
DTEND;TZID=America/Halifax:20300603T200000
DTSTAMP:20260423T144233
CREATED:20260306T115204Z
LAST-MODIFIED:20260306T115204Z
UID:10007668-1906743600-1906747200@saintignatius.ca
SUMMARY:Online Rosary
DESCRIPTION:
URL:https://saintignatius.ca/event/online-rosary-23/2030-06-03
LOCATION:Online\, Canada
END:VEVENT
BEGIN:VEVENT
DTSTART;TZID=America/Halifax:20300604T190000
DTEND;TZID=America/Halifax:20300604T200000
DTSTAMP:20260423T144233
CREATED:20260204T183111Z
LAST-MODIFIED:20260204T183112Z
UID:10001302-1906830000-1906833600@saintignatius.ca
SUMMARY:Online Rosary
DESCRIPTION:
URL:https://saintignatius.ca/event/online-rosary-20-2/2030-06-04
LOCATION:Online\, Canada
END:VEVENT
BEGIN:VEVENT
DTSTART;TZID=America/Halifax:20300606T190000
DTEND;TZID=America/Halifax:20300606T200000
DTSTAMP:20260423T144233
CREATED:20260306T115459Z
LAST-MODIFIED:20260306T115459Z
UID:10007929-1907002800-1907006400@saintignatius.ca
SUMMARY:Online Rosary
DESCRIPTION:
URL:https://saintignatius.ca/event/online-rosary-24/2030-06-06
LOCATION:Online\, Canada
END:VEVENT
BEGIN:VEVENT
DTSTART;TZID=America/Halifax:20300610T190000
DTEND;TZID=America/Halifax:20300610T200000
DTSTAMP:20260423T144233
CREATED:20260306T115204Z
LAST-MODIFIED:20260306T115204Z
UID:10007669-1907348400-1907352000@saintignatius.ca
SUMMARY:Online Rosary
DESCRIPTION:
URL:https://saintignatius.ca/event/online-rosary-23/2030-06-10
LOCATION:Online\, Canada
END:VEVENT
BEGIN:VEVENT
DTSTART;TZID=America/Halifax:20300611T190000
DTEND;TZID=America/Halifax:20300611T200000
DTSTAMP:20260423T144233
CREATED:20260204T183111Z
LAST-MODIFIED:20260204T183112Z
UID:10001303-1907434800-1907438400@saintignatius.ca
SUMMARY:Online Rosary
DESCRIPTION:
URL:https://saintignatius.ca/event/online-rosary-20-2/2030-06-11
LOCATION:Online\, Canada
END:VEVENT
BEGIN:VEVENT
DTSTART;TZID=America/Halifax:20300613T190000
DTEND;TZID=America/Halifax:20300613T200000
DTSTAMP:20260423T144233
CREATED:20260306T115459Z
LAST-MODIFIED:20260306T115459Z
UID:10007930-1907607600-1907611200@saintignatius.ca
SUMMARY:Online Rosary
DESCRIPTION:
URL:https://saintignatius.ca/event/online-rosary-24/2030-06-13
LOCATION:Online\, Canada
END:VEVENT
BEGIN:VEVENT
DTSTART;TZID=America/Halifax:20300617T190000
DTEND;TZID=America/Halifax:20300617T200000
DTSTAMP:20260423T144233
CREATED:20260306T115204Z
LAST-MODIFIED:20260306T115204Z
UID:10007670-1907953200-1907956800@saintignatius.ca
SUMMARY:Online Rosary
DESCRIPTION:
URL:https://saintignatius.ca/event/online-rosary-23/2030-06-17
LOCATION:Online\, Canada
END:VEVENT
BEGIN:VEVENT
DTSTART;TZID=America/Halifax:20300618T190000
DTEND;TZID=America/Halifax:20300618T200000
DTSTAMP:20260423T144233
CREATED:20260204T183111Z
LAST-MODIFIED:20260204T183112Z
UID:10001304-1908039600-1908043200@saintignatius.ca
SUMMARY:Online Rosary
DESCRIPTION:
URL:https://saintignatius.ca/event/online-rosary-20-2/2030-06-18
LOCATION:Online\, Canada
END:VEVENT
BEGIN:VEVENT
DTSTART;TZID=America/Halifax:20300620T190000
DTEND;TZID=America/Halifax:20300620T200000
DTSTAMP:20260423T144233
CREATED:20260306T115459Z
LAST-MODIFIED:20260306T115459Z
UID:10007931-1908212400-1908216000@saintignatius.ca
SUMMARY:Online Rosary
DESCRIPTION:
URL:https://saintignatius.ca/event/online-rosary-24/2030-06-20
LOCATION:Online\, Canada
END:VEVENT
BEGIN:VEVENT
DTSTART;TZID=America/Halifax:20300624T190000
DTEND;TZID=America/Halifax:20300624T200000
DTSTAMP:20260423T144233
CREATED:20260306T115204Z
LAST-MODIFIED:20260306T115204Z
UID:10007671-1908558000-1908561600@saintignatius.ca
SUMMARY:Online Rosary
DESCRIPTION:
URL:https://saintignatius.ca/event/online-rosary-23/2030-06-24
LOCATION:Online\, Canada
END:VEVENT
BEGIN:VEVENT
DTSTART;TZID=America/Halifax:20300625T190000
DTEND;TZID=America/Halifax:20300625T200000
DTSTAMP:20260423T144233
CREATED:20260204T183111Z
LAST-MODIFIED:20260204T183112Z
UID:10001305-1908644400-1908648000@saintignatius.ca
SUMMARY:Online Rosary
DESCRIPTION:
URL:https://saintignatius.ca/event/online-rosary-20-2/2030-06-25
LOCATION:Online\, Canada
END:VEVENT
BEGIN:VEVENT
DTSTART;TZID=America/Halifax:20300627T190000
DTEND;TZID=America/Halifax:20300627T200000
DTSTAMP:20260423T144233
CREATED:20260306T115459Z
LAST-MODIFIED:20260306T115459Z
UID:10007932-1908817200-1908820800@saintignatius.ca
SUMMARY:Online Rosary
DESCRIPTION:
URL:https://saintignatius.ca/event/online-rosary-24/2030-06-27
LOCATION:Online\, Canada
END:VEVENT
BEGIN:VEVENT
DTSTART;TZID=America/Halifax:20300701T190000
DTEND;TZID=America/Halifax:20300701T200000
DTSTAMP:20260423T144233
CREATED:20260306T115204Z
LAST-MODIFIED:20260306T115204Z
UID:10007672-1909162800-1909166400@saintignatius.ca
SUMMARY:Online Rosary
DESCRIPTION:
URL:https://saintignatius.ca/event/online-rosary-23/2030-07-01
LOCATION:Online\, Canada
END:VEVENT
BEGIN:VEVENT
DTSTART;TZID=America/Halifax:20300702T190000
DTEND;TZID=America/Halifax:20300702T200000
DTSTAMP:20260423T144233
CREATED:20260204T183111Z
LAST-MODIFIED:20260204T183112Z
UID:10001306-1909249200-1909252800@saintignatius.ca
SUMMARY:Online Rosary
DESCRIPTION:
URL:https://saintignatius.ca/event/online-rosary-20-2/2030-07-02
LOCATION:Online\, Canada
END:VEVENT
BEGIN:VEVENT
DTSTART;TZID=America/Halifax:20300704T190000
DTEND;TZID=America/Halifax:20300704T200000
DTSTAMP:20260423T144233
CREATED:20260306T115459Z
LAST-MODIFIED:20260306T115459Z
UID:10007933-1909422000-1909425600@saintignatius.ca
SUMMARY:Online Rosary
DESCRIPTION:
URL:https://saintignatius.ca/event/online-rosary-24/2030-07-04
LOCATION:Online\, Canada
END:VEVENT
BEGIN:VEVENT
DTSTART;TZID=America/Halifax:20300708T190000
DTEND;TZID=America/Halifax:20300708T200000
DTSTAMP:20260423T144233
CREATED:20260306T115204Z
LAST-MODIFIED:20260306T115204Z
UID:10007673-1909767600-1909771200@saintignatius.ca
SUMMARY:Online Rosary
DESCRIPTION:
URL:https://saintignatius.ca/event/online-rosary-23/2030-07-08
LOCATION:Online\, Canada
END:VEVENT
BEGIN:VEVENT
DTSTART;TZID=America/Halifax:20300709T190000
DTEND;TZID=America/Halifax:20300709T200000
DTSTAMP:20260423T144233
CREATED:20260204T183111Z
LAST-MODIFIED:20260204T183112Z
UID:10001307-1909854000-1909857600@saintignatius.ca
SUMMARY:Online Rosary
DESCRIPTION:
URL:https://saintignatius.ca/event/online-rosary-20-2/2030-07-09
LOCATION:Online\, Canada
END:VEVENT
BEGIN:VEVENT
DTSTART;TZID=America/Halifax:20300711T190000
DTEND;TZID=America/Halifax:20300711T200000
DTSTAMP:20260423T144233
CREATED:20260306T115459Z
LAST-MODIFIED:20260306T115459Z
UID:10007934-1910026800-1910030400@saintignatius.ca
SUMMARY:Online Rosary
DESCRIPTION:
URL:https://saintignatius.ca/event/online-rosary-24/2030-07-11
LOCATION:Online\, Canada
END:VEVENT
BEGIN:VEVENT
DTSTART;TZID=America/Halifax:20300715T190000
DTEND;TZID=America/Halifax:20300715T200000
DTSTAMP:20260423T144233
CREATED:20260306T115204Z
LAST-MODIFIED:20260306T115204Z
UID:10007674-1910372400-1910376000@saintignatius.ca
SUMMARY:Online Rosary
DESCRIPTION:
URL:https://saintignatius.ca/event/online-rosary-23/2030-07-15
LOCATION:Online\, Canada
END:VEVENT
BEGIN:VEVENT
DTSTART;TZID=America/Halifax:20300716T190000
DTEND;TZID=America/Halifax:20300716T200000
DTSTAMP:20260423T144233
CREATED:20260204T183111Z
LAST-MODIFIED:20260204T183112Z
UID:10001308-1910458800-1910462400@saintignatius.ca
SUMMARY:Online Rosary
DESCRIPTION:
URL:https://saintignatius.ca/event/online-rosary-20-2/2030-07-16
LOCATION:Online\, Canada
END:VEVENT
BEGIN:VEVENT
DTSTART;TZID=America/Halifax:20300718T190000
DTEND;TZID=America/Halifax:20300718T200000
DTSTAMP:20260423T144233
CREATED:20260306T115459Z
LAST-MODIFIED:20260306T115459Z
UID:10007935-1910631600-1910635200@saintignatius.ca
SUMMARY:Online Rosary
DESCRIPTION:
URL:https://saintignatius.ca/event/online-rosary-24/2030-07-18
LOCATION:Online\, Canada
END:VEVENT
BEGIN:VEVENT
DTSTART;TZID=America/Halifax:20300722T190000
DTEND;TZID=America/Halifax:20300722T200000
DTSTAMP:20260423T144233
CREATED:20260306T115204Z
LAST-MODIFIED:20260306T115204Z
UID:10007675-1910977200-1910980800@saintignatius.ca
SUMMARY:Online Rosary
DESCRIPTION:
URL:https://saintignatius.ca/event/online-rosary-23/2030-07-22
LOCATION:Online\, Canada
END:VEVENT
BEGIN:VEVENT
DTSTART;TZID=America/Halifax:20300723T190000
DTEND;TZID=America/Halifax:20300723T200000
DTSTAMP:20260423T144233
CREATED:20260204T183111Z
LAST-MODIFIED:20260204T183112Z
UID:10001309-1911063600-1911067200@saintignatius.ca
SUMMARY:Online Rosary
DESCRIPTION:
URL:https://saintignatius.ca/event/online-rosary-20-2/2030-07-23
LOCATION:Online\, Canada
END:VEVENT
BEGIN:VEVENT
DTSTART;TZID=America/Halifax:20300725T190000
DTEND;TZID=America/Halifax:20300725T200000
DTSTAMP:20260423T144233
CREATED:20260306T115459Z
LAST-MODIFIED:20260306T115459Z
UID:10007936-1911236400-1911240000@saintignatius.ca
SUMMARY:Online Rosary
DESCRIPTION:
URL:https://saintignatius.ca/event/online-rosary-24/2030-07-25
LOCATION:Online\, Canada
END:VEVENT
BEGIN:VEVENT
DTSTART;TZID=America/Halifax:20300729T190000
DTEND;TZID=America/Halifax:20300729T200000
DTSTAMP:20260423T144233
CREATED:20260306T115204Z
LAST-MODIFIED:20260306T115204Z
UID:10007676-1911582000-1911585600@saintignatius.ca
SUMMARY:Online Rosary
DESCRIPTION:
URL:https://saintignatius.ca/event/online-rosary-23/2030-07-29
LOCATION:Online\, Canada
END:VEVENT
BEGIN:VEVENT
DTSTART;TZID=America/Halifax:20300730T190000
DTEND;TZID=America/Halifax:20300730T200000
DTSTAMP:20260423T144233
CREATED:20260204T183111Z
LAST-MODIFIED:20260204T183112Z
UID:10001310-1911668400-1911672000@saintignatius.ca
SUMMARY:Online Rosary
DESCRIPTION:
URL:https://saintignatius.ca/event/online-rosary-20-2/2030-07-30
LOCATION:Online\, Canada
END:VEVENT
BEGIN:VEVENT
DTSTART;TZID=America/Halifax:20300801T190000
DTEND;TZID=America/Halifax:20300801T200000
DTSTAMP:20260423T144233
CREATED:20260306T115459Z
LAST-MODIFIED:20260306T115459Z
UID:10007937-1911841200-1911844800@saintignatius.ca
SUMMARY:Online Rosary
DESCRIPTION:
URL:https://saintignatius.ca/event/online-rosary-24/2030-08-01
LOCATION:Online\, Canada
END:VEVENT
END:VCALENDAR