BEGIN:VCALENDAR
VERSION:2.0
PRODID:-//Saint Ignatius of Loyola Parish - ECPv6.15.13//NONSGML v1.0//EN
CALSCALE:GREGORIAN
METHOD:PUBLISH
X-WR-CALNAME:Saint Ignatius of Loyola Parish
X-ORIGINAL-URL:https://saintignatius.ca
X-WR-CALDESC:Events for Saint Ignatius of Loyola Parish
REFRESH-INTERVAL;VALUE=DURATION:PT1H
X-Robots-Tag:noindex
X-PUBLISHED-TTL:PT1H
BEGIN:VTIMEZONE
TZID:America/Halifax
BEGIN:DAYLIGHT
TZOFFSETFROM:-0400
TZOFFSETTO:-0300
TZNAME:ADT
DTSTART:20290311T060000
END:DAYLIGHT
BEGIN:STANDARD
TZOFFSETFROM:-0300
TZOFFSETTO:-0400
TZNAME:AST
DTSTART:20291104T050000
END:STANDARD
BEGIN:DAYLIGHT
TZOFFSETFROM:-0400
TZOFFSETTO:-0300
TZNAME:ADT
DTSTART:20300310T060000
END:DAYLIGHT
BEGIN:STANDARD
TZOFFSETFROM:-0300
TZOFFSETTO:-0400
TZNAME:AST
DTSTART:20301103T050000
END:STANDARD
BEGIN:DAYLIGHT
TZOFFSETFROM:-0400
TZOFFSETTO:-0300
TZNAME:ADT
DTSTART:20310309T060000
END:DAYLIGHT
BEGIN:STANDARD
TZOFFSETFROM:-0300
TZOFFSETTO:-0400
TZNAME:AST
DTSTART:20311102T050000
END:STANDARD
END:VTIMEZONE
BEGIN:VEVENT
DTSTART;TZID=America/Halifax:20300129T190000
DTEND;TZID=America/Halifax:20300129T200000
DTSTAMP:20260423T071617
CREATED:20260204T183111Z
LAST-MODIFIED:20260204T183112Z
UID:10001284-1895943600-1895947200@saintignatius.ca
SUMMARY:Online Rosary
DESCRIPTION:
URL:https://saintignatius.ca/event/online-rosary-20-2/2030-01-29
LOCATION:Online\, Canada
END:VEVENT
BEGIN:VEVENT
DTSTART;TZID=America/Halifax:20300131T190000
DTEND;TZID=America/Halifax:20300131T200000
DTSTAMP:20260423T071617
CREATED:20260306T115459Z
LAST-MODIFIED:20260306T115459Z
UID:10007911-1896116400-1896120000@saintignatius.ca
SUMMARY:Online Rosary
DESCRIPTION:
URL:https://saintignatius.ca/event/online-rosary-24/2030-01-31
LOCATION:Online\, Canada
END:VEVENT
BEGIN:VEVENT
DTSTART;TZID=America/Halifax:20300204T190000
DTEND;TZID=America/Halifax:20300204T200000
DTSTAMP:20260423T071617
CREATED:20260306T115204Z
LAST-MODIFIED:20260306T115204Z
UID:10007651-1896462000-1896465600@saintignatius.ca
SUMMARY:Online Rosary
DESCRIPTION:
URL:https://saintignatius.ca/event/online-rosary-23/2030-02-04
LOCATION:Online\, Canada
END:VEVENT
BEGIN:VEVENT
DTSTART;TZID=America/Halifax:20300205T190000
DTEND;TZID=America/Halifax:20300205T200000
DTSTAMP:20260423T071617
CREATED:20260204T183111Z
LAST-MODIFIED:20260204T183112Z
UID:10001285-1896548400-1896552000@saintignatius.ca
SUMMARY:Online Rosary
DESCRIPTION:
URL:https://saintignatius.ca/event/online-rosary-20-2/2030-02-05
LOCATION:Online\, Canada
END:VEVENT
BEGIN:VEVENT
DTSTART;TZID=America/Halifax:20300207T190000
DTEND;TZID=America/Halifax:20300207T200000
DTSTAMP:20260423T071617
CREATED:20260306T115459Z
LAST-MODIFIED:20260306T115459Z
UID:10007912-1896721200-1896724800@saintignatius.ca
SUMMARY:Online Rosary
DESCRIPTION:
URL:https://saintignatius.ca/event/online-rosary-24/2030-02-07
LOCATION:Online\, Canada
END:VEVENT
BEGIN:VEVENT
DTSTART;TZID=America/Halifax:20300211T190000
DTEND;TZID=America/Halifax:20300211T200000
DTSTAMP:20260423T071617
CREATED:20260306T115204Z
LAST-MODIFIED:20260306T115204Z
UID:10007652-1897066800-1897070400@saintignatius.ca
SUMMARY:Online Rosary
DESCRIPTION:
URL:https://saintignatius.ca/event/online-rosary-23/2030-02-11
LOCATION:Online\, Canada
END:VEVENT
BEGIN:VEVENT
DTSTART;TZID=America/Halifax:20300212T190000
DTEND;TZID=America/Halifax:20300212T200000
DTSTAMP:20260423T071617
CREATED:20260204T183111Z
LAST-MODIFIED:20260204T183112Z
UID:10001286-1897153200-1897156800@saintignatius.ca
SUMMARY:Online Rosary
DESCRIPTION:
URL:https://saintignatius.ca/event/online-rosary-20-2/2030-02-12
LOCATION:Online\, Canada
END:VEVENT
BEGIN:VEVENT
DTSTART;TZID=America/Halifax:20300214T190000
DTEND;TZID=America/Halifax:20300214T200000
DTSTAMP:20260423T071617
CREATED:20260306T115459Z
LAST-MODIFIED:20260306T115459Z
UID:10007913-1897326000-1897329600@saintignatius.ca
SUMMARY:Online Rosary
DESCRIPTION:
URL:https://saintignatius.ca/event/online-rosary-24/2030-02-14
LOCATION:Online\, Canada
END:VEVENT
BEGIN:VEVENT
DTSTART;TZID=America/Halifax:20300218T190000
DTEND;TZID=America/Halifax:20300218T200000
DTSTAMP:20260423T071617
CREATED:20260306T115204Z
LAST-MODIFIED:20260306T115204Z
UID:10007653-1897671600-1897675200@saintignatius.ca
SUMMARY:Online Rosary
DESCRIPTION:
URL:https://saintignatius.ca/event/online-rosary-23/2030-02-18
LOCATION:Online\, Canada
END:VEVENT
BEGIN:VEVENT
DTSTART;TZID=America/Halifax:20300219T190000
DTEND;TZID=America/Halifax:20300219T200000
DTSTAMP:20260423T071617
CREATED:20260204T183111Z
LAST-MODIFIED:20260204T183112Z
UID:10001287-1897758000-1897761600@saintignatius.ca
SUMMARY:Online Rosary
DESCRIPTION:
URL:https://saintignatius.ca/event/online-rosary-20-2/2030-02-19
LOCATION:Online\, Canada
END:VEVENT
BEGIN:VEVENT
DTSTART;TZID=America/Halifax:20300221T190000
DTEND;TZID=America/Halifax:20300221T200000
DTSTAMP:20260423T071617
CREATED:20260306T115459Z
LAST-MODIFIED:20260306T115459Z
UID:10007914-1897930800-1897934400@saintignatius.ca
SUMMARY:Online Rosary
DESCRIPTION:
URL:https://saintignatius.ca/event/online-rosary-24/2030-02-21
LOCATION:Online\, Canada
END:VEVENT
BEGIN:VEVENT
DTSTART;TZID=America/Halifax:20300225T190000
DTEND;TZID=America/Halifax:20300225T200000
DTSTAMP:20260423T071617
CREATED:20260306T115204Z
LAST-MODIFIED:20260306T115204Z
UID:10007654-1898276400-1898280000@saintignatius.ca
SUMMARY:Online Rosary
DESCRIPTION:
URL:https://saintignatius.ca/event/online-rosary-23/2030-02-25
LOCATION:Online\, Canada
END:VEVENT
BEGIN:VEVENT
DTSTART;TZID=America/Halifax:20300226T190000
DTEND;TZID=America/Halifax:20300226T200000
DTSTAMP:20260423T071617
CREATED:20260204T183111Z
LAST-MODIFIED:20260204T183112Z
UID:10001288-1898362800-1898366400@saintignatius.ca
SUMMARY:Online Rosary
DESCRIPTION:
URL:https://saintignatius.ca/event/online-rosary-20-2/2030-02-26
LOCATION:Online\, Canada
END:VEVENT
BEGIN:VEVENT
DTSTART;TZID=America/Halifax:20300228T190000
DTEND;TZID=America/Halifax:20300228T200000
DTSTAMP:20260423T071617
CREATED:20260306T115459Z
LAST-MODIFIED:20260306T115459Z
UID:10007915-1898535600-1898539200@saintignatius.ca
SUMMARY:Online Rosary
DESCRIPTION:
URL:https://saintignatius.ca/event/online-rosary-24/2030-02-28
LOCATION:Online\, Canada
END:VEVENT
BEGIN:VEVENT
DTSTART;TZID=America/Halifax:20300304T190000
DTEND;TZID=America/Halifax:20300304T200000
DTSTAMP:20260423T071617
CREATED:20260306T115204Z
LAST-MODIFIED:20260306T115204Z
UID:10007655-1898881200-1898884800@saintignatius.ca
SUMMARY:Online Rosary
DESCRIPTION:
URL:https://saintignatius.ca/event/online-rosary-23/2030-03-04
LOCATION:Online\, Canada
END:VEVENT
BEGIN:VEVENT
DTSTART;TZID=America/Halifax:20300305T190000
DTEND;TZID=America/Halifax:20300305T200000
DTSTAMP:20260423T071617
CREATED:20260204T183111Z
LAST-MODIFIED:20260204T183112Z
UID:10001289-1898967600-1898971200@saintignatius.ca
SUMMARY:Online Rosary
DESCRIPTION:
URL:https://saintignatius.ca/event/online-rosary-20-2/2030-03-05
LOCATION:Online\, Canada
END:VEVENT
BEGIN:VEVENT
DTSTART;TZID=America/Halifax:20300307T190000
DTEND;TZID=America/Halifax:20300307T200000
DTSTAMP:20260423T071617
CREATED:20260306T115459Z
LAST-MODIFIED:20260306T115459Z
UID:10007916-1899140400-1899144000@saintignatius.ca
SUMMARY:Online Rosary
DESCRIPTION:
URL:https://saintignatius.ca/event/online-rosary-24/2030-03-07
LOCATION:Online\, Canada
END:VEVENT
BEGIN:VEVENT
DTSTART;TZID=America/Halifax:20300311T190000
DTEND;TZID=America/Halifax:20300311T200000
DTSTAMP:20260423T071617
CREATED:20260306T115204Z
LAST-MODIFIED:20260306T115204Z
UID:10007656-1899486000-1899489600@saintignatius.ca
SUMMARY:Online Rosary
DESCRIPTION:
URL:https://saintignatius.ca/event/online-rosary-23/2030-03-11
LOCATION:Online\, Canada
END:VEVENT
BEGIN:VEVENT
DTSTART;TZID=America/Halifax:20300312T190000
DTEND;TZID=America/Halifax:20300312T200000
DTSTAMP:20260423T071617
CREATED:20260204T183111Z
LAST-MODIFIED:20260204T183112Z
UID:10001290-1899572400-1899576000@saintignatius.ca
SUMMARY:Online Rosary
DESCRIPTION:
URL:https://saintignatius.ca/event/online-rosary-20-2/2030-03-12
LOCATION:Online\, Canada
END:VEVENT
BEGIN:VEVENT
DTSTART;TZID=America/Halifax:20300314T190000
DTEND;TZID=America/Halifax:20300314T200000
DTSTAMP:20260423T071617
CREATED:20260306T115459Z
LAST-MODIFIED:20260306T115459Z
UID:10007917-1899745200-1899748800@saintignatius.ca
SUMMARY:Online Rosary
DESCRIPTION:
URL:https://saintignatius.ca/event/online-rosary-24/2030-03-14
LOCATION:Online\, Canada
END:VEVENT
BEGIN:VEVENT
DTSTART;TZID=America/Halifax:20300318T190000
DTEND;TZID=America/Halifax:20300318T200000
DTSTAMP:20260423T071617
CREATED:20260306T115204Z
LAST-MODIFIED:20260306T115204Z
UID:10007657-1900090800-1900094400@saintignatius.ca
SUMMARY:Online Rosary
DESCRIPTION:
URL:https://saintignatius.ca/event/online-rosary-23/2030-03-18
LOCATION:Online\, Canada
END:VEVENT
BEGIN:VEVENT
DTSTART;TZID=America/Halifax:20300319T190000
DTEND;TZID=America/Halifax:20300319T200000
DTSTAMP:20260423T071617
CREATED:20260204T183111Z
LAST-MODIFIED:20260204T183112Z
UID:10001291-1900177200-1900180800@saintignatius.ca
SUMMARY:Online Rosary
DESCRIPTION:
URL:https://saintignatius.ca/event/online-rosary-20-2/2030-03-19
LOCATION:Online\, Canada
END:VEVENT
BEGIN:VEVENT
DTSTART;TZID=America/Halifax:20300321T190000
DTEND;TZID=America/Halifax:20300321T200000
DTSTAMP:20260423T071617
CREATED:20260306T115459Z
LAST-MODIFIED:20260306T115459Z
UID:10007918-1900350000-1900353600@saintignatius.ca
SUMMARY:Online Rosary
DESCRIPTION:
URL:https://saintignatius.ca/event/online-rosary-24/2030-03-21
LOCATION:Online\, Canada
END:VEVENT
BEGIN:VEVENT
DTSTART;TZID=America/Halifax:20300325T190000
DTEND;TZID=America/Halifax:20300325T200000
DTSTAMP:20260423T071617
CREATED:20260306T115204Z
LAST-MODIFIED:20260306T115204Z
UID:10007658-1900695600-1900699200@saintignatius.ca
SUMMARY:Online Rosary
DESCRIPTION:
URL:https://saintignatius.ca/event/online-rosary-23/2030-03-25
LOCATION:Online\, Canada
END:VEVENT
BEGIN:VEVENT
DTSTART;TZID=America/Halifax:20300326T190000
DTEND;TZID=America/Halifax:20300326T200000
DTSTAMP:20260423T071617
CREATED:20260204T183111Z
LAST-MODIFIED:20260204T183112Z
UID:10001292-1900782000-1900785600@saintignatius.ca
SUMMARY:Online Rosary
DESCRIPTION:
URL:https://saintignatius.ca/event/online-rosary-20-2/2030-03-26
LOCATION:Online\, Canada
END:VEVENT
BEGIN:VEVENT
DTSTART;TZID=America/Halifax:20300328T190000
DTEND;TZID=America/Halifax:20300328T200000
DTSTAMP:20260423T071617
CREATED:20260306T115459Z
LAST-MODIFIED:20260306T115459Z
UID:10007919-1900954800-1900958400@saintignatius.ca
SUMMARY:Online Rosary
DESCRIPTION:
URL:https://saintignatius.ca/event/online-rosary-24/2030-03-28
LOCATION:Online\, Canada
END:VEVENT
BEGIN:VEVENT
DTSTART;TZID=America/Halifax:20300401T190000
DTEND;TZID=America/Halifax:20300401T200000
DTSTAMP:20260423T071617
CREATED:20260306T115204Z
LAST-MODIFIED:20260306T115204Z
UID:10007659-1901300400-1901304000@saintignatius.ca
SUMMARY:Online Rosary
DESCRIPTION:
URL:https://saintignatius.ca/event/online-rosary-23/2030-04-01
LOCATION:Online\, Canada
END:VEVENT
BEGIN:VEVENT
DTSTART;TZID=America/Halifax:20300402T190000
DTEND;TZID=America/Halifax:20300402T200000
DTSTAMP:20260423T071617
CREATED:20260204T183111Z
LAST-MODIFIED:20260204T183112Z
UID:10001293-1901386800-1901390400@saintignatius.ca
SUMMARY:Online Rosary
DESCRIPTION:
URL:https://saintignatius.ca/event/online-rosary-20-2/2030-04-02
LOCATION:Online\, Canada
END:VEVENT
BEGIN:VEVENT
DTSTART;TZID=America/Halifax:20300404T190000
DTEND;TZID=America/Halifax:20300404T200000
DTSTAMP:20260423T071617
CREATED:20260306T115459Z
LAST-MODIFIED:20260306T115459Z
UID:10007920-1901559600-1901563200@saintignatius.ca
SUMMARY:Online Rosary
DESCRIPTION:
URL:https://saintignatius.ca/event/online-rosary-24/2030-04-04
LOCATION:Online\, Canada
END:VEVENT
BEGIN:VEVENT
DTSTART;TZID=America/Halifax:20300408T190000
DTEND;TZID=America/Halifax:20300408T200000
DTSTAMP:20260423T071617
CREATED:20260306T115204Z
LAST-MODIFIED:20260306T115204Z
UID:10007660-1901905200-1901908800@saintignatius.ca
SUMMARY:Online Rosary
DESCRIPTION:
URL:https://saintignatius.ca/event/online-rosary-23/2030-04-08
LOCATION:Online\, Canada
END:VEVENT
END:VCALENDAR