BEGIN:VCALENDAR
VERSION:2.0
PRODID:-//Saint Ignatius of Loyola Parish - ECPv6.15.13//NONSGML v1.0//EN
CALSCALE:GREGORIAN
METHOD:PUBLISH
X-ORIGINAL-URL:https://saintignatius.ca
X-WR-CALDESC:Events for Saint Ignatius of Loyola Parish
REFRESH-INTERVAL;VALUE=DURATION:PT1H
X-Robots-Tag:noindex
X-PUBLISHED-TTL:PT1H
BEGIN:VTIMEZONE
TZID:America/Halifax
BEGIN:DAYLIGHT
TZOFFSETFROM:-0400
TZOFFSETTO:-0300
TZNAME:ADT
DTSTART:20280312T060000
END:DAYLIGHT
BEGIN:STANDARD
TZOFFSETFROM:-0300
TZOFFSETTO:-0400
TZNAME:AST
DTSTART:20281105T050000
END:STANDARD
BEGIN:DAYLIGHT
TZOFFSETFROM:-0400
TZOFFSETTO:-0300
TZNAME:ADT
DTSTART:20290311T060000
END:DAYLIGHT
BEGIN:STANDARD
TZOFFSETFROM:-0300
TZOFFSETTO:-0400
TZNAME:AST
DTSTART:20291104T050000
END:STANDARD
BEGIN:DAYLIGHT
TZOFFSETFROM:-0400
TZOFFSETTO:-0300
TZNAME:ADT
DTSTART:20300310T060000
END:DAYLIGHT
BEGIN:STANDARD
TZOFFSETFROM:-0300
TZOFFSETTO:-0400
TZNAME:AST
DTSTART:20301103T050000
END:STANDARD
BEGIN:DAYLIGHT
TZOFFSETFROM:-0400
TZOFFSETTO:-0300
TZNAME:ADT
DTSTART:20310309T060000
END:DAYLIGHT
BEGIN:STANDARD
TZOFFSETFROM:-0300
TZOFFSETTO:-0400
TZNAME:AST
DTSTART:20311102T050000
END:STANDARD
END:VTIMEZONE
BEGIN:VEVENT
DTSTART;TZID=America/Halifax:20291120T190000
DTEND;TZID=America/Halifax:20291120T200000
DTSTAMP:20260423T022531
CREATED:20260204T183111Z
LAST-MODIFIED:20260204T183112Z
UID:10001274-1889895600-1889899200@saintignatius.ca
SUMMARY:Online Rosary
DESCRIPTION:
URL:https://saintignatius.ca/event/online-rosary-20-2/2029-11-20
LOCATION:Online\, Canada
END:VEVENT
BEGIN:VEVENT
DTSTART;TZID=America/Halifax:20291122T190000
DTEND;TZID=America/Halifax:20291122T200000
DTSTAMP:20260423T022531
CREATED:20260306T115459Z
LAST-MODIFIED:20260306T115459Z
UID:10007901-1890068400-1890072000@saintignatius.ca
SUMMARY:Online Rosary
DESCRIPTION:
URL:https://saintignatius.ca/event/online-rosary-24/2029-11-22
LOCATION:Online\, Canada
END:VEVENT
BEGIN:VEVENT
DTSTART;TZID=America/Halifax:20291126T190000
DTEND;TZID=America/Halifax:20291126T200000
DTSTAMP:20260423T022531
CREATED:20260306T115204Z
LAST-MODIFIED:20260306T115204Z
UID:10007641-1890414000-1890417600@saintignatius.ca
SUMMARY:Online Rosary
DESCRIPTION:
URL:https://saintignatius.ca/event/online-rosary-23/2029-11-26
LOCATION:Online\, Canada
END:VEVENT
BEGIN:VEVENT
DTSTART;TZID=America/Halifax:20291127T190000
DTEND;TZID=America/Halifax:20291127T200000
DTSTAMP:20260423T022531
CREATED:20260204T183111Z
LAST-MODIFIED:20260204T183112Z
UID:10001275-1890500400-1890504000@saintignatius.ca
SUMMARY:Online Rosary
DESCRIPTION:
URL:https://saintignatius.ca/event/online-rosary-20-2/2029-11-27
LOCATION:Online\, Canada
END:VEVENT
BEGIN:VEVENT
DTSTART;TZID=America/Halifax:20291129T190000
DTEND;TZID=America/Halifax:20291129T200000
DTSTAMP:20260423T022531
CREATED:20260306T115459Z
LAST-MODIFIED:20260306T115459Z
UID:10007902-1890673200-1890676800@saintignatius.ca
SUMMARY:Online Rosary
DESCRIPTION:
URL:https://saintignatius.ca/event/online-rosary-24/2029-11-29
LOCATION:Online\, Canada
END:VEVENT
BEGIN:VEVENT
DTSTART;TZID=America/Halifax:20291203T190000
DTEND;TZID=America/Halifax:20291203T200000
DTSTAMP:20260423T022531
CREATED:20260306T115204Z
LAST-MODIFIED:20260306T115204Z
UID:10007642-1891018800-1891022400@saintignatius.ca
SUMMARY:Online Rosary
DESCRIPTION:
URL:https://saintignatius.ca/event/online-rosary-23/2029-12-03
LOCATION:Online\, Canada
END:VEVENT
BEGIN:VEVENT
DTSTART;TZID=America/Halifax:20291204T190000
DTEND;TZID=America/Halifax:20291204T200000
DTSTAMP:20260423T022531
CREATED:20260204T183111Z
LAST-MODIFIED:20260204T183112Z
UID:10001276-1891105200-1891108800@saintignatius.ca
SUMMARY:Online Rosary
DESCRIPTION:
URL:https://saintignatius.ca/event/online-rosary-20-2/2029-12-04
LOCATION:Online\, Canada
END:VEVENT
BEGIN:VEVENT
DTSTART;TZID=America/Halifax:20291206T190000
DTEND;TZID=America/Halifax:20291206T200000
DTSTAMP:20260423T022531
CREATED:20260306T115459Z
LAST-MODIFIED:20260306T115459Z
UID:10007903-1891278000-1891281600@saintignatius.ca
SUMMARY:Online Rosary
DESCRIPTION:
URL:https://saintignatius.ca/event/online-rosary-24/2029-12-06
LOCATION:Online\, Canada
END:VEVENT
BEGIN:VEVENT
DTSTART;TZID=America/Halifax:20291210T190000
DTEND;TZID=America/Halifax:20291210T200000
DTSTAMP:20260423T022531
CREATED:20260306T115204Z
LAST-MODIFIED:20260306T115204Z
UID:10007643-1891623600-1891627200@saintignatius.ca
SUMMARY:Online Rosary
DESCRIPTION:
URL:https://saintignatius.ca/event/online-rosary-23/2029-12-10
LOCATION:Online\, Canada
END:VEVENT
BEGIN:VEVENT
DTSTART;TZID=America/Halifax:20291211T190000
DTEND;TZID=America/Halifax:20291211T200000
DTSTAMP:20260423T022531
CREATED:20260204T183111Z
LAST-MODIFIED:20260204T183112Z
UID:10001277-1891710000-1891713600@saintignatius.ca
SUMMARY:Online Rosary
DESCRIPTION:
URL:https://saintignatius.ca/event/online-rosary-20-2/2029-12-11
LOCATION:Online\, Canada
END:VEVENT
BEGIN:VEVENT
DTSTART;TZID=America/Halifax:20291213T190000
DTEND;TZID=America/Halifax:20291213T200000
DTSTAMP:20260423T022531
CREATED:20260306T115459Z
LAST-MODIFIED:20260306T115459Z
UID:10007904-1891882800-1891886400@saintignatius.ca
SUMMARY:Online Rosary
DESCRIPTION:
URL:https://saintignatius.ca/event/online-rosary-24/2029-12-13
LOCATION:Online\, Canada
END:VEVENT
BEGIN:VEVENT
DTSTART;TZID=America/Halifax:20291217T190000
DTEND;TZID=America/Halifax:20291217T200000
DTSTAMP:20260423T022531
CREATED:20260306T115204Z
LAST-MODIFIED:20260306T115204Z
UID:10007644-1892228400-1892232000@saintignatius.ca
SUMMARY:Online Rosary
DESCRIPTION:
URL:https://saintignatius.ca/event/online-rosary-23/2029-12-17
LOCATION:Online\, Canada
END:VEVENT
BEGIN:VEVENT
DTSTART;TZID=America/Halifax:20291218T190000
DTEND;TZID=America/Halifax:20291218T200000
DTSTAMP:20260423T022531
CREATED:20260204T183111Z
LAST-MODIFIED:20260204T183112Z
UID:10001278-1892314800-1892318400@saintignatius.ca
SUMMARY:Online Rosary
DESCRIPTION:
URL:https://saintignatius.ca/event/online-rosary-20-2/2029-12-18
LOCATION:Online\, Canada
END:VEVENT
BEGIN:VEVENT
DTSTART;TZID=America/Halifax:20291220T190000
DTEND;TZID=America/Halifax:20291220T200000
DTSTAMP:20260423T022531
CREATED:20260306T115459Z
LAST-MODIFIED:20260306T115459Z
UID:10007905-1892487600-1892491200@saintignatius.ca
SUMMARY:Online Rosary
DESCRIPTION:
URL:https://saintignatius.ca/event/online-rosary-24/2029-12-20
LOCATION:Online\, Canada
END:VEVENT
BEGIN:VEVENT
DTSTART;TZID=America/Halifax:20291224T190000
DTEND;TZID=America/Halifax:20291224T200000
DTSTAMP:20260423T022531
CREATED:20260306T115204Z
LAST-MODIFIED:20260306T115204Z
UID:10007645-1892833200-1892836800@saintignatius.ca
SUMMARY:Online Rosary
DESCRIPTION:
URL:https://saintignatius.ca/event/online-rosary-23/2029-12-24
LOCATION:Online\, Canada
END:VEVENT
BEGIN:VEVENT
DTSTART;TZID=America/Halifax:20291225T190000
DTEND;TZID=America/Halifax:20291225T200000
DTSTAMP:20260423T022531
CREATED:20260204T183111Z
LAST-MODIFIED:20260204T183112Z
UID:10001279-1892919600-1892923200@saintignatius.ca
SUMMARY:Online Rosary
DESCRIPTION:
URL:https://saintignatius.ca/event/online-rosary-20-2/2029-12-25
LOCATION:Online\, Canada
END:VEVENT
BEGIN:VEVENT
DTSTART;TZID=America/Halifax:20291227T190000
DTEND;TZID=America/Halifax:20291227T200000
DTSTAMP:20260423T022531
CREATED:20260306T115459Z
LAST-MODIFIED:20260306T115459Z
UID:10007906-1893092400-1893096000@saintignatius.ca
SUMMARY:Online Rosary
DESCRIPTION:
URL:https://saintignatius.ca/event/online-rosary-24/2029-12-27
LOCATION:Online\, Canada
END:VEVENT
BEGIN:VEVENT
DTSTART;TZID=America/Halifax:20291231T190000
DTEND;TZID=America/Halifax:20291231T200000
DTSTAMP:20260423T022531
CREATED:20260306T115204Z
LAST-MODIFIED:20260306T115204Z
UID:10007646-1893438000-1893441600@saintignatius.ca
SUMMARY:Online Rosary
DESCRIPTION:
URL:https://saintignatius.ca/event/online-rosary-23/2029-12-31
LOCATION:Online\, Canada
END:VEVENT
BEGIN:VEVENT
DTSTART;TZID=America/Halifax:20300101T190000
DTEND;TZID=America/Halifax:20300101T200000
DTSTAMP:20260423T022531
CREATED:20260204T183111Z
LAST-MODIFIED:20260204T183112Z
UID:10001280-1893524400-1893528000@saintignatius.ca
SUMMARY:Online Rosary
DESCRIPTION:
URL:https://saintignatius.ca/event/online-rosary-20-2/2030-01-01
LOCATION:Online\, Canada
END:VEVENT
BEGIN:VEVENT
DTSTART;TZID=America/Halifax:20300103T190000
DTEND;TZID=America/Halifax:20300103T200000
DTSTAMP:20260423T022531
CREATED:20260306T115459Z
LAST-MODIFIED:20260306T115459Z
UID:10007907-1893697200-1893700800@saintignatius.ca
SUMMARY:Online Rosary
DESCRIPTION:
URL:https://saintignatius.ca/event/online-rosary-24/2030-01-03
LOCATION:Online\, Canada
END:VEVENT
BEGIN:VEVENT
DTSTART;TZID=America/Halifax:20300107T190000
DTEND;TZID=America/Halifax:20300107T200000
DTSTAMP:20260423T022531
CREATED:20260306T115204Z
LAST-MODIFIED:20260306T115204Z
UID:10007647-1894042800-1894046400@saintignatius.ca
SUMMARY:Online Rosary
DESCRIPTION:
URL:https://saintignatius.ca/event/online-rosary-23/2030-01-07
LOCATION:Online\, Canada
END:VEVENT
BEGIN:VEVENT
DTSTART;TZID=America/Halifax:20300108T190000
DTEND;TZID=America/Halifax:20300108T200000
DTSTAMP:20260423T022531
CREATED:20260204T183111Z
LAST-MODIFIED:20260204T183112Z
UID:10001281-1894129200-1894132800@saintignatius.ca
SUMMARY:Online Rosary
DESCRIPTION:
URL:https://saintignatius.ca/event/online-rosary-20-2/2030-01-08
LOCATION:Online\, Canada
END:VEVENT
BEGIN:VEVENT
DTSTART;TZID=America/Halifax:20300110T190000
DTEND;TZID=America/Halifax:20300110T200000
DTSTAMP:20260423T022531
CREATED:20260306T115459Z
LAST-MODIFIED:20260306T115459Z
UID:10007908-1894302000-1894305600@saintignatius.ca
SUMMARY:Online Rosary
DESCRIPTION:
URL:https://saintignatius.ca/event/online-rosary-24/2030-01-10
LOCATION:Online\, Canada
END:VEVENT
BEGIN:VEVENT
DTSTART;TZID=America/Halifax:20300114T190000
DTEND;TZID=America/Halifax:20300114T200000
DTSTAMP:20260423T022531
CREATED:20260306T115204Z
LAST-MODIFIED:20260306T115204Z
UID:10007648-1894647600-1894651200@saintignatius.ca
SUMMARY:Online Rosary
DESCRIPTION:
URL:https://saintignatius.ca/event/online-rosary-23/2030-01-14
LOCATION:Online\, Canada
END:VEVENT
BEGIN:VEVENT
DTSTART;TZID=America/Halifax:20300115T190000
DTEND;TZID=America/Halifax:20300115T200000
DTSTAMP:20260423T022531
CREATED:20260204T183111Z
LAST-MODIFIED:20260204T183112Z
UID:10001282-1894734000-1894737600@saintignatius.ca
SUMMARY:Online Rosary
DESCRIPTION:
URL:https://saintignatius.ca/event/online-rosary-20-2/2030-01-15
LOCATION:Online\, Canada
END:VEVENT
BEGIN:VEVENT
DTSTART;TZID=America/Halifax:20300117T190000
DTEND;TZID=America/Halifax:20300117T200000
DTSTAMP:20260423T022531
CREATED:20260306T115459Z
LAST-MODIFIED:20260306T115459Z
UID:10007909-1894906800-1894910400@saintignatius.ca
SUMMARY:Online Rosary
DESCRIPTION:
URL:https://saintignatius.ca/event/online-rosary-24/2030-01-17
LOCATION:Online\, Canada
END:VEVENT
BEGIN:VEVENT
DTSTART;TZID=America/Halifax:20300121T190000
DTEND;TZID=America/Halifax:20300121T200000
DTSTAMP:20260423T022531
CREATED:20260306T115204Z
LAST-MODIFIED:20260306T115204Z
UID:10007649-1895252400-1895256000@saintignatius.ca
SUMMARY:Online Rosary
DESCRIPTION:
URL:https://saintignatius.ca/event/online-rosary-23/2030-01-21
LOCATION:Online\, Canada
END:VEVENT
BEGIN:VEVENT
DTSTART;TZID=America/Halifax:20300122T190000
DTEND;TZID=America/Halifax:20300122T200000
DTSTAMP:20260423T022531
CREATED:20260204T183111Z
LAST-MODIFIED:20260204T183112Z
UID:10001283-1895338800-1895342400@saintignatius.ca
SUMMARY:Online Rosary
DESCRIPTION:
URL:https://saintignatius.ca/event/online-rosary-20-2/2030-01-22
LOCATION:Online\, Canada
END:VEVENT
BEGIN:VEVENT
DTSTART;TZID=America/Halifax:20300124T190000
DTEND;TZID=America/Halifax:20300124T200000
DTSTAMP:20260423T022531
CREATED:20260306T115459Z
LAST-MODIFIED:20260306T115459Z
UID:10007910-1895511600-1895515200@saintignatius.ca
SUMMARY:Online Rosary
DESCRIPTION:
URL:https://saintignatius.ca/event/online-rosary-24/2030-01-24
LOCATION:Online\, Canada
END:VEVENT
BEGIN:VEVENT
DTSTART;TZID=America/Halifax:20300128T190000
DTEND;TZID=America/Halifax:20300128T200000
DTSTAMP:20260423T022531
CREATED:20260306T115204Z
LAST-MODIFIED:20260306T115204Z
UID:10007650-1895857200-1895860800@saintignatius.ca
SUMMARY:Online Rosary
DESCRIPTION:
URL:https://saintignatius.ca/event/online-rosary-23/2030-01-28
LOCATION:Online\, Canada
END:VEVENT
END:VCALENDAR