BEGIN:VCALENDAR
VERSION:2.0
PRODID:-//Saint Ignatius of Loyola Parish - ECPv6.15.13//NONSGML v1.0//EN
CALSCALE:GREGORIAN
METHOD:PUBLISH
X-ORIGINAL-URL:https://saintignatius.ca
X-WR-CALDESC:Events for Saint Ignatius of Loyola Parish
REFRESH-INTERVAL;VALUE=DURATION:PT1H
X-Robots-Tag:noindex
X-PUBLISHED-TTL:PT1H
BEGIN:VTIMEZONE
TZID:America/Halifax
BEGIN:DAYLIGHT
TZOFFSETFROM:-0400
TZOFFSETTO:-0300
TZNAME:ADT
DTSTART:20280312T060000
END:DAYLIGHT
BEGIN:STANDARD
TZOFFSETFROM:-0300
TZOFFSETTO:-0400
TZNAME:AST
DTSTART:20281105T050000
END:STANDARD
BEGIN:DAYLIGHT
TZOFFSETFROM:-0400
TZOFFSETTO:-0300
TZNAME:ADT
DTSTART:20290311T060000
END:DAYLIGHT
BEGIN:STANDARD
TZOFFSETFROM:-0300
TZOFFSETTO:-0400
TZNAME:AST
DTSTART:20291104T050000
END:STANDARD
BEGIN:DAYLIGHT
TZOFFSETFROM:-0400
TZOFFSETTO:-0300
TZNAME:ADT
DTSTART:20300310T060000
END:DAYLIGHT
BEGIN:STANDARD
TZOFFSETFROM:-0300
TZOFFSETTO:-0400
TZNAME:AST
DTSTART:20301103T050000
END:STANDARD
END:VTIMEZONE
BEGIN:VEVENT
DTSTART;TZID=America/Halifax:20290911T190000
DTEND;TZID=America/Halifax:20290911T200000
DTSTAMP:20260422T214615
CREATED:20260204T183111Z
LAST-MODIFIED:20260204T183112Z
UID:10001264-1883847600-1883851200@saintignatius.ca
SUMMARY:Online Rosary
DESCRIPTION:
URL:https://saintignatius.ca/event/online-rosary-20-2/2029-09-11
LOCATION:Online\, Canada
END:VEVENT
BEGIN:VEVENT
DTSTART;TZID=America/Halifax:20290913T190000
DTEND;TZID=America/Halifax:20290913T200000
DTSTAMP:20260422T214615
CREATED:20260306T115459Z
LAST-MODIFIED:20260306T115459Z
UID:10007891-1884020400-1884024000@saintignatius.ca
SUMMARY:Online Rosary
DESCRIPTION:
URL:https://saintignatius.ca/event/online-rosary-24/2029-09-13
LOCATION:Online\, Canada
END:VEVENT
BEGIN:VEVENT
DTSTART;TZID=America/Halifax:20290917T190000
DTEND;TZID=America/Halifax:20290917T200000
DTSTAMP:20260422T214615
CREATED:20260306T115204Z
LAST-MODIFIED:20260306T115204Z
UID:10007631-1884366000-1884369600@saintignatius.ca
SUMMARY:Online Rosary
DESCRIPTION:
URL:https://saintignatius.ca/event/online-rosary-23/2029-09-17
LOCATION:Online\, Canada
END:VEVENT
BEGIN:VEVENT
DTSTART;TZID=America/Halifax:20290918T190000
DTEND;TZID=America/Halifax:20290918T200000
DTSTAMP:20260422T214615
CREATED:20260204T183111Z
LAST-MODIFIED:20260204T183112Z
UID:10001265-1884452400-1884456000@saintignatius.ca
SUMMARY:Online Rosary
DESCRIPTION:
URL:https://saintignatius.ca/event/online-rosary-20-2/2029-09-18
LOCATION:Online\, Canada
END:VEVENT
BEGIN:VEVENT
DTSTART;TZID=America/Halifax:20290920T190000
DTEND;TZID=America/Halifax:20290920T200000
DTSTAMP:20260422T214615
CREATED:20260306T115459Z
LAST-MODIFIED:20260306T115459Z
UID:10007892-1884625200-1884628800@saintignatius.ca
SUMMARY:Online Rosary
DESCRIPTION:
URL:https://saintignatius.ca/event/online-rosary-24/2029-09-20
LOCATION:Online\, Canada
END:VEVENT
BEGIN:VEVENT
DTSTART;TZID=America/Halifax:20290924T190000
DTEND;TZID=America/Halifax:20290924T200000
DTSTAMP:20260422T214615
CREATED:20260306T115204Z
LAST-MODIFIED:20260306T115204Z
UID:10007632-1884970800-1884974400@saintignatius.ca
SUMMARY:Online Rosary
DESCRIPTION:
URL:https://saintignatius.ca/event/online-rosary-23/2029-09-24
LOCATION:Online\, Canada
END:VEVENT
BEGIN:VEVENT
DTSTART;TZID=America/Halifax:20290925T190000
DTEND;TZID=America/Halifax:20290925T200000
DTSTAMP:20260422T214615
CREATED:20260204T183111Z
LAST-MODIFIED:20260204T183112Z
UID:10001266-1885057200-1885060800@saintignatius.ca
SUMMARY:Online Rosary
DESCRIPTION:
URL:https://saintignatius.ca/event/online-rosary-20-2/2029-09-25
LOCATION:Online\, Canada
END:VEVENT
BEGIN:VEVENT
DTSTART;TZID=America/Halifax:20290927T190000
DTEND;TZID=America/Halifax:20290927T200000
DTSTAMP:20260422T214615
CREATED:20260306T115459Z
LAST-MODIFIED:20260306T115459Z
UID:10007893-1885230000-1885233600@saintignatius.ca
SUMMARY:Online Rosary
DESCRIPTION:
URL:https://saintignatius.ca/event/online-rosary-24/2029-09-27
LOCATION:Online\, Canada
END:VEVENT
BEGIN:VEVENT
DTSTART;TZID=America/Halifax:20291001T190000
DTEND;TZID=America/Halifax:20291001T200000
DTSTAMP:20260422T214615
CREATED:20260306T115204Z
LAST-MODIFIED:20260306T115204Z
UID:10007633-1885575600-1885579200@saintignatius.ca
SUMMARY:Online Rosary
DESCRIPTION:
URL:https://saintignatius.ca/event/online-rosary-23/2029-10-01
LOCATION:Online\, Canada
END:VEVENT
BEGIN:VEVENT
DTSTART;TZID=America/Halifax:20291002T190000
DTEND;TZID=America/Halifax:20291002T200000
DTSTAMP:20260422T214615
CREATED:20260204T183111Z
LAST-MODIFIED:20260204T183112Z
UID:10001267-1885662000-1885665600@saintignatius.ca
SUMMARY:Online Rosary
DESCRIPTION:
URL:https://saintignatius.ca/event/online-rosary-20-2/2029-10-02
LOCATION:Online\, Canada
END:VEVENT
BEGIN:VEVENT
DTSTART;TZID=America/Halifax:20291004T190000
DTEND;TZID=America/Halifax:20291004T200000
DTSTAMP:20260422T214615
CREATED:20260306T115459Z
LAST-MODIFIED:20260306T115459Z
UID:10007894-1885834800-1885838400@saintignatius.ca
SUMMARY:Online Rosary
DESCRIPTION:
URL:https://saintignatius.ca/event/online-rosary-24/2029-10-04
LOCATION:Online\, Canada
END:VEVENT
BEGIN:VEVENT
DTSTART;TZID=America/Halifax:20291008T190000
DTEND;TZID=America/Halifax:20291008T200000
DTSTAMP:20260422T214615
CREATED:20260306T115204Z
LAST-MODIFIED:20260306T115204Z
UID:10007634-1886180400-1886184000@saintignatius.ca
SUMMARY:Online Rosary
DESCRIPTION:
URL:https://saintignatius.ca/event/online-rosary-23/2029-10-08
LOCATION:Online\, Canada
END:VEVENT
BEGIN:VEVENT
DTSTART;TZID=America/Halifax:20291009T190000
DTEND;TZID=America/Halifax:20291009T200000
DTSTAMP:20260422T214615
CREATED:20260204T183111Z
LAST-MODIFIED:20260204T183112Z
UID:10001268-1886266800-1886270400@saintignatius.ca
SUMMARY:Online Rosary
DESCRIPTION:
URL:https://saintignatius.ca/event/online-rosary-20-2/2029-10-09
LOCATION:Online\, Canada
END:VEVENT
BEGIN:VEVENT
DTSTART;TZID=America/Halifax:20291011T190000
DTEND;TZID=America/Halifax:20291011T200000
DTSTAMP:20260422T214615
CREATED:20260306T115459Z
LAST-MODIFIED:20260306T115459Z
UID:10007895-1886439600-1886443200@saintignatius.ca
SUMMARY:Online Rosary
DESCRIPTION:
URL:https://saintignatius.ca/event/online-rosary-24/2029-10-11
LOCATION:Online\, Canada
END:VEVENT
BEGIN:VEVENT
DTSTART;TZID=America/Halifax:20291015T190000
DTEND;TZID=America/Halifax:20291015T200000
DTSTAMP:20260422T214615
CREATED:20260306T115204Z
LAST-MODIFIED:20260306T115204Z
UID:10007635-1886785200-1886788800@saintignatius.ca
SUMMARY:Online Rosary
DESCRIPTION:
URL:https://saintignatius.ca/event/online-rosary-23/2029-10-15
LOCATION:Online\, Canada
END:VEVENT
BEGIN:VEVENT
DTSTART;TZID=America/Halifax:20291016T190000
DTEND;TZID=America/Halifax:20291016T200000
DTSTAMP:20260422T214615
CREATED:20260204T183111Z
LAST-MODIFIED:20260204T183112Z
UID:10001269-1886871600-1886875200@saintignatius.ca
SUMMARY:Online Rosary
DESCRIPTION:
URL:https://saintignatius.ca/event/online-rosary-20-2/2029-10-16
LOCATION:Online\, Canada
END:VEVENT
BEGIN:VEVENT
DTSTART;TZID=America/Halifax:20291018T190000
DTEND;TZID=America/Halifax:20291018T200000
DTSTAMP:20260422T214615
CREATED:20260306T115459Z
LAST-MODIFIED:20260306T115459Z
UID:10007896-1887044400-1887048000@saintignatius.ca
SUMMARY:Online Rosary
DESCRIPTION:
URL:https://saintignatius.ca/event/online-rosary-24/2029-10-18
LOCATION:Online\, Canada
END:VEVENT
BEGIN:VEVENT
DTSTART;TZID=America/Halifax:20291022T190000
DTEND;TZID=America/Halifax:20291022T200000
DTSTAMP:20260422T214615
CREATED:20260306T115204Z
LAST-MODIFIED:20260306T115204Z
UID:10007636-1887390000-1887393600@saintignatius.ca
SUMMARY:Online Rosary
DESCRIPTION:
URL:https://saintignatius.ca/event/online-rosary-23/2029-10-22
LOCATION:Online\, Canada
END:VEVENT
BEGIN:VEVENT
DTSTART;TZID=America/Halifax:20291023T190000
DTEND;TZID=America/Halifax:20291023T200000
DTSTAMP:20260422T214615
CREATED:20260204T183111Z
LAST-MODIFIED:20260204T183112Z
UID:10001270-1887476400-1887480000@saintignatius.ca
SUMMARY:Online Rosary
DESCRIPTION:
URL:https://saintignatius.ca/event/online-rosary-20-2/2029-10-23
LOCATION:Online\, Canada
END:VEVENT
BEGIN:VEVENT
DTSTART;TZID=America/Halifax:20291025T190000
DTEND;TZID=America/Halifax:20291025T200000
DTSTAMP:20260422T214615
CREATED:20260306T115459Z
LAST-MODIFIED:20260306T115459Z
UID:10007897-1887649200-1887652800@saintignatius.ca
SUMMARY:Online Rosary
DESCRIPTION:
URL:https://saintignatius.ca/event/online-rosary-24/2029-10-25
LOCATION:Online\, Canada
END:VEVENT
BEGIN:VEVENT
DTSTART;TZID=America/Halifax:20291029T190000
DTEND;TZID=America/Halifax:20291029T200000
DTSTAMP:20260422T214615
CREATED:20260306T115204Z
LAST-MODIFIED:20260306T115204Z
UID:10007637-1887994800-1887998400@saintignatius.ca
SUMMARY:Online Rosary
DESCRIPTION:
URL:https://saintignatius.ca/event/online-rosary-23/2029-10-29
LOCATION:Online\, Canada
END:VEVENT
BEGIN:VEVENT
DTSTART;TZID=America/Halifax:20291030T190000
DTEND;TZID=America/Halifax:20291030T200000
DTSTAMP:20260422T214615
CREATED:20260204T183111Z
LAST-MODIFIED:20260204T183112Z
UID:10001271-1888081200-1888084800@saintignatius.ca
SUMMARY:Online Rosary
DESCRIPTION:
URL:https://saintignatius.ca/event/online-rosary-20-2/2029-10-30
LOCATION:Online\, Canada
END:VEVENT
BEGIN:VEVENT
DTSTART;TZID=America/Halifax:20291101T190000
DTEND;TZID=America/Halifax:20291101T200000
DTSTAMP:20260422T214615
CREATED:20260306T115459Z
LAST-MODIFIED:20260306T115459Z
UID:10007898-1888254000-1888257600@saintignatius.ca
SUMMARY:Online Rosary
DESCRIPTION:
URL:https://saintignatius.ca/event/online-rosary-24/2029-11-01
LOCATION:Online\, Canada
END:VEVENT
BEGIN:VEVENT
DTSTART;TZID=America/Halifax:20291105T190000
DTEND;TZID=America/Halifax:20291105T200000
DTSTAMP:20260422T214615
CREATED:20260306T115204Z
LAST-MODIFIED:20260306T115204Z
UID:10007638-1888599600-1888603200@saintignatius.ca
SUMMARY:Online Rosary
DESCRIPTION:
URL:https://saintignatius.ca/event/online-rosary-23/2029-11-05
LOCATION:Online\, Canada
END:VEVENT
BEGIN:VEVENT
DTSTART;TZID=America/Halifax:20291106T190000
DTEND;TZID=America/Halifax:20291106T200000
DTSTAMP:20260422T214615
CREATED:20260204T183111Z
LAST-MODIFIED:20260204T183112Z
UID:10001272-1888686000-1888689600@saintignatius.ca
SUMMARY:Online Rosary
DESCRIPTION:
URL:https://saintignatius.ca/event/online-rosary-20-2/2029-11-06
LOCATION:Online\, Canada
END:VEVENT
BEGIN:VEVENT
DTSTART;TZID=America/Halifax:20291108T190000
DTEND;TZID=America/Halifax:20291108T200000
DTSTAMP:20260422T214615
CREATED:20260306T115459Z
LAST-MODIFIED:20260306T115459Z
UID:10007899-1888858800-1888862400@saintignatius.ca
SUMMARY:Online Rosary
DESCRIPTION:
URL:https://saintignatius.ca/event/online-rosary-24/2029-11-08
LOCATION:Online\, Canada
END:VEVENT
BEGIN:VEVENT
DTSTART;TZID=America/Halifax:20291112T190000
DTEND;TZID=America/Halifax:20291112T200000
DTSTAMP:20260422T214615
CREATED:20260306T115204Z
LAST-MODIFIED:20260306T115204Z
UID:10007639-1889204400-1889208000@saintignatius.ca
SUMMARY:Online Rosary
DESCRIPTION:
URL:https://saintignatius.ca/event/online-rosary-23/2029-11-12
LOCATION:Online\, Canada
END:VEVENT
BEGIN:VEVENT
DTSTART;TZID=America/Halifax:20291113T190000
DTEND;TZID=America/Halifax:20291113T200000
DTSTAMP:20260422T214615
CREATED:20260204T183111Z
LAST-MODIFIED:20260204T183112Z
UID:10001273-1889290800-1889294400@saintignatius.ca
SUMMARY:Online Rosary
DESCRIPTION:
URL:https://saintignatius.ca/event/online-rosary-20-2/2029-11-13
LOCATION:Online\, Canada
END:VEVENT
BEGIN:VEVENT
DTSTART;TZID=America/Halifax:20291115T190000
DTEND;TZID=America/Halifax:20291115T200000
DTSTAMP:20260422T214615
CREATED:20260306T115459Z
LAST-MODIFIED:20260306T115459Z
UID:10007900-1889463600-1889467200@saintignatius.ca
SUMMARY:Online Rosary
DESCRIPTION:
URL:https://saintignatius.ca/event/online-rosary-24/2029-11-15
LOCATION:Online\, Canada
END:VEVENT
BEGIN:VEVENT
DTSTART;TZID=America/Halifax:20291119T190000
DTEND;TZID=America/Halifax:20291119T200000
DTSTAMP:20260422T214615
CREATED:20260306T115204Z
LAST-MODIFIED:20260306T115204Z
UID:10007640-1889809200-1889812800@saintignatius.ca
SUMMARY:Online Rosary
DESCRIPTION:
URL:https://saintignatius.ca/event/online-rosary-23/2029-11-19
LOCATION:Online\, Canada
END:VEVENT
END:VCALENDAR