BEGIN:VCALENDAR
VERSION:2.0
PRODID:-//Saint Ignatius of Loyola Parish - ECPv6.15.13//NONSGML v1.0//EN
CALSCALE:GREGORIAN
METHOD:PUBLISH
X-ORIGINAL-URL:https://saintignatius.ca
X-WR-CALDESC:Events for Saint Ignatius of Loyola Parish
REFRESH-INTERVAL;VALUE=DURATION:PT1H
X-Robots-Tag:noindex
X-PUBLISHED-TTL:PT1H
BEGIN:VTIMEZONE
TZID:America/Halifax
BEGIN:DAYLIGHT
TZOFFSETFROM:-0400
TZOFFSETTO:-0300
TZNAME:ADT
DTSTART:20280312T060000
END:DAYLIGHT
BEGIN:STANDARD
TZOFFSETFROM:-0300
TZOFFSETTO:-0400
TZNAME:AST
DTSTART:20281105T050000
END:STANDARD
BEGIN:DAYLIGHT
TZOFFSETFROM:-0400
TZOFFSETTO:-0300
TZNAME:ADT
DTSTART:20290311T060000
END:DAYLIGHT
BEGIN:STANDARD
TZOFFSETFROM:-0300
TZOFFSETTO:-0400
TZNAME:AST
DTSTART:20291104T050000
END:STANDARD
BEGIN:DAYLIGHT
TZOFFSETFROM:-0400
TZOFFSETTO:-0300
TZNAME:ADT
DTSTART:20300310T060000
END:DAYLIGHT
BEGIN:STANDARD
TZOFFSETFROM:-0300
TZOFFSETTO:-0400
TZNAME:AST
DTSTART:20301103T050000
END:STANDARD
END:VTIMEZONE
BEGIN:VEVENT
DTSTART;TZID=America/Halifax:20290726T190000
DTEND;TZID=America/Halifax:20290726T200000
DTSTAMP:20260422T184519
CREATED:20260306T115459Z
LAST-MODIFIED:20260306T115459Z
UID:10007884-1879786800-1879790400@saintignatius.ca
SUMMARY:Online Rosary
DESCRIPTION:
URL:https://saintignatius.ca/event/online-rosary-24/2029-07-26
LOCATION:Online\, Canada
END:VEVENT
BEGIN:VEVENT
DTSTART;TZID=America/Halifax:20290730T190000
DTEND;TZID=America/Halifax:20290730T200000
DTSTAMP:20260422T184519
CREATED:20260306T115204Z
LAST-MODIFIED:20260306T115204Z
UID:10007624-1880132400-1880136000@saintignatius.ca
SUMMARY:Online Rosary
DESCRIPTION:
URL:https://saintignatius.ca/event/online-rosary-23/2029-07-30
LOCATION:Online\, Canada
END:VEVENT
BEGIN:VEVENT
DTSTART;TZID=America/Halifax:20290731T190000
DTEND;TZID=America/Halifax:20290731T200000
DTSTAMP:20260422T184519
CREATED:20260204T183111Z
LAST-MODIFIED:20260204T183112Z
UID:10001258-1880218800-1880222400@saintignatius.ca
SUMMARY:Online Rosary
DESCRIPTION:
URL:https://saintignatius.ca/event/online-rosary-20-2/2029-07-31
LOCATION:Online\, Canada
END:VEVENT
BEGIN:VEVENT
DTSTART;TZID=America/Halifax:20290802T190000
DTEND;TZID=America/Halifax:20290802T200000
DTSTAMP:20260422T184519
CREATED:20260306T115459Z
LAST-MODIFIED:20260306T115459Z
UID:10007885-1880391600-1880395200@saintignatius.ca
SUMMARY:Online Rosary
DESCRIPTION:
URL:https://saintignatius.ca/event/online-rosary-24/2029-08-02
LOCATION:Online\, Canada
END:VEVENT
BEGIN:VEVENT
DTSTART;TZID=America/Halifax:20290806T190000
DTEND;TZID=America/Halifax:20290806T200000
DTSTAMP:20260422T184519
CREATED:20260306T115204Z
LAST-MODIFIED:20260306T115204Z
UID:10007625-1880737200-1880740800@saintignatius.ca
SUMMARY:Online Rosary
DESCRIPTION:
URL:https://saintignatius.ca/event/online-rosary-23/2029-08-06
LOCATION:Online\, Canada
END:VEVENT
BEGIN:VEVENT
DTSTART;TZID=America/Halifax:20290807T190000
DTEND;TZID=America/Halifax:20290807T200000
DTSTAMP:20260422T184519
CREATED:20260204T183111Z
LAST-MODIFIED:20260204T183112Z
UID:10001259-1880823600-1880827200@saintignatius.ca
SUMMARY:Online Rosary
DESCRIPTION:
URL:https://saintignatius.ca/event/online-rosary-20-2/2029-08-07
LOCATION:Online\, Canada
END:VEVENT
BEGIN:VEVENT
DTSTART;TZID=America/Halifax:20290809T190000
DTEND;TZID=America/Halifax:20290809T200000
DTSTAMP:20260422T184519
CREATED:20260306T115459Z
LAST-MODIFIED:20260306T115459Z
UID:10007886-1880996400-1881000000@saintignatius.ca
SUMMARY:Online Rosary
DESCRIPTION:
URL:https://saintignatius.ca/event/online-rosary-24/2029-08-09
LOCATION:Online\, Canada
END:VEVENT
BEGIN:VEVENT
DTSTART;TZID=America/Halifax:20290813T190000
DTEND;TZID=America/Halifax:20290813T200000
DTSTAMP:20260422T184519
CREATED:20260306T115204Z
LAST-MODIFIED:20260306T115204Z
UID:10007626-1881342000-1881345600@saintignatius.ca
SUMMARY:Online Rosary
DESCRIPTION:
URL:https://saintignatius.ca/event/online-rosary-23/2029-08-13
LOCATION:Online\, Canada
END:VEVENT
BEGIN:VEVENT
DTSTART;TZID=America/Halifax:20290814T190000
DTEND;TZID=America/Halifax:20290814T200000
DTSTAMP:20260422T184519
CREATED:20260204T183111Z
LAST-MODIFIED:20260204T183112Z
UID:10001260-1881428400-1881432000@saintignatius.ca
SUMMARY:Online Rosary
DESCRIPTION:
URL:https://saintignatius.ca/event/online-rosary-20-2/2029-08-14
LOCATION:Online\, Canada
END:VEVENT
BEGIN:VEVENT
DTSTART;TZID=America/Halifax:20290816T190000
DTEND;TZID=America/Halifax:20290816T200000
DTSTAMP:20260422T184519
CREATED:20260306T115459Z
LAST-MODIFIED:20260306T115459Z
UID:10007887-1881601200-1881604800@saintignatius.ca
SUMMARY:Online Rosary
DESCRIPTION:
URL:https://saintignatius.ca/event/online-rosary-24/2029-08-16
LOCATION:Online\, Canada
END:VEVENT
BEGIN:VEVENT
DTSTART;TZID=America/Halifax:20290820T190000
DTEND;TZID=America/Halifax:20290820T200000
DTSTAMP:20260422T184519
CREATED:20260306T115204Z
LAST-MODIFIED:20260306T115204Z
UID:10007627-1881946800-1881950400@saintignatius.ca
SUMMARY:Online Rosary
DESCRIPTION:
URL:https://saintignatius.ca/event/online-rosary-23/2029-08-20
LOCATION:Online\, Canada
END:VEVENT
BEGIN:VEVENT
DTSTART;TZID=America/Halifax:20290821T190000
DTEND;TZID=America/Halifax:20290821T200000
DTSTAMP:20260422T184519
CREATED:20260204T183111Z
LAST-MODIFIED:20260204T183112Z
UID:10001261-1882033200-1882036800@saintignatius.ca
SUMMARY:Online Rosary
DESCRIPTION:
URL:https://saintignatius.ca/event/online-rosary-20-2/2029-08-21
LOCATION:Online\, Canada
END:VEVENT
BEGIN:VEVENT
DTSTART;TZID=America/Halifax:20290823T190000
DTEND;TZID=America/Halifax:20290823T200000
DTSTAMP:20260422T184519
CREATED:20260306T115459Z
LAST-MODIFIED:20260306T115459Z
UID:10007888-1882206000-1882209600@saintignatius.ca
SUMMARY:Online Rosary
DESCRIPTION:
URL:https://saintignatius.ca/event/online-rosary-24/2029-08-23
LOCATION:Online\, Canada
END:VEVENT
BEGIN:VEVENT
DTSTART;TZID=America/Halifax:20290827T190000
DTEND;TZID=America/Halifax:20290827T200000
DTSTAMP:20260422T184519
CREATED:20260306T115204Z
LAST-MODIFIED:20260306T115204Z
UID:10007628-1882551600-1882555200@saintignatius.ca
SUMMARY:Online Rosary
DESCRIPTION:
URL:https://saintignatius.ca/event/online-rosary-23/2029-08-27
LOCATION:Online\, Canada
END:VEVENT
BEGIN:VEVENT
DTSTART;TZID=America/Halifax:20290828T190000
DTEND;TZID=America/Halifax:20290828T200000
DTSTAMP:20260422T184519
CREATED:20260204T183111Z
LAST-MODIFIED:20260204T183112Z
UID:10001262-1882638000-1882641600@saintignatius.ca
SUMMARY:Online Rosary
DESCRIPTION:
URL:https://saintignatius.ca/event/online-rosary-20-2/2029-08-28
LOCATION:Online\, Canada
END:VEVENT
BEGIN:VEVENT
DTSTART;TZID=America/Halifax:20290830T190000
DTEND;TZID=America/Halifax:20290830T200000
DTSTAMP:20260422T184519
CREATED:20260306T115459Z
LAST-MODIFIED:20260306T115459Z
UID:10007889-1882810800-1882814400@saintignatius.ca
SUMMARY:Online Rosary
DESCRIPTION:
URL:https://saintignatius.ca/event/online-rosary-24/2029-08-30
LOCATION:Online\, Canada
END:VEVENT
BEGIN:VEVENT
DTSTART;TZID=America/Halifax:20290903T190000
DTEND;TZID=America/Halifax:20290903T200000
DTSTAMP:20260422T184519
CREATED:20260306T115204Z
LAST-MODIFIED:20260306T115204Z
UID:10007629-1883156400-1883160000@saintignatius.ca
SUMMARY:Online Rosary
DESCRIPTION:
URL:https://saintignatius.ca/event/online-rosary-23/2029-09-03
LOCATION:Online\, Canada
END:VEVENT
BEGIN:VEVENT
DTSTART;TZID=America/Halifax:20290904T190000
DTEND;TZID=America/Halifax:20290904T200000
DTSTAMP:20260422T184519
CREATED:20260204T183111Z
LAST-MODIFIED:20260204T183112Z
UID:10001263-1883242800-1883246400@saintignatius.ca
SUMMARY:Online Rosary
DESCRIPTION:
URL:https://saintignatius.ca/event/online-rosary-20-2/2029-09-04
LOCATION:Online\, Canada
END:VEVENT
BEGIN:VEVENT
DTSTART;TZID=America/Halifax:20290906T190000
DTEND;TZID=America/Halifax:20290906T200000
DTSTAMP:20260422T184519
CREATED:20260306T115459Z
LAST-MODIFIED:20260306T115459Z
UID:10007890-1883415600-1883419200@saintignatius.ca
SUMMARY:Online Rosary
DESCRIPTION:
URL:https://saintignatius.ca/event/online-rosary-24/2029-09-06
LOCATION:Online\, Canada
END:VEVENT
BEGIN:VEVENT
DTSTART;TZID=America/Halifax:20290910T190000
DTEND;TZID=America/Halifax:20290910T200000
DTSTAMP:20260422T184519
CREATED:20260306T115204Z
LAST-MODIFIED:20260306T115204Z
UID:10007630-1883761200-1883764800@saintignatius.ca
SUMMARY:Online Rosary
DESCRIPTION:
URL:https://saintignatius.ca/event/online-rosary-23/2029-09-10
LOCATION:Online\, Canada
END:VEVENT
BEGIN:VEVENT
DTSTART;TZID=America/Halifax:20290911T190000
DTEND;TZID=America/Halifax:20290911T200000
DTSTAMP:20260422T184519
CREATED:20260204T183111Z
LAST-MODIFIED:20260204T183112Z
UID:10001264-1883847600-1883851200@saintignatius.ca
SUMMARY:Online Rosary
DESCRIPTION:
URL:https://saintignatius.ca/event/online-rosary-20-2/2029-09-11
LOCATION:Online\, Canada
END:VEVENT
BEGIN:VEVENT
DTSTART;TZID=America/Halifax:20290913T190000
DTEND;TZID=America/Halifax:20290913T200000
DTSTAMP:20260422T184519
CREATED:20260306T115459Z
LAST-MODIFIED:20260306T115459Z
UID:10007891-1884020400-1884024000@saintignatius.ca
SUMMARY:Online Rosary
DESCRIPTION:
URL:https://saintignatius.ca/event/online-rosary-24/2029-09-13
LOCATION:Online\, Canada
END:VEVENT
BEGIN:VEVENT
DTSTART;TZID=America/Halifax:20290917T190000
DTEND;TZID=America/Halifax:20290917T200000
DTSTAMP:20260422T184519
CREATED:20260306T115204Z
LAST-MODIFIED:20260306T115204Z
UID:10007631-1884366000-1884369600@saintignatius.ca
SUMMARY:Online Rosary
DESCRIPTION:
URL:https://saintignatius.ca/event/online-rosary-23/2029-09-17
LOCATION:Online\, Canada
END:VEVENT
BEGIN:VEVENT
DTSTART;TZID=America/Halifax:20290918T190000
DTEND;TZID=America/Halifax:20290918T200000
DTSTAMP:20260422T184519
CREATED:20260204T183111Z
LAST-MODIFIED:20260204T183112Z
UID:10001265-1884452400-1884456000@saintignatius.ca
SUMMARY:Online Rosary
DESCRIPTION:
URL:https://saintignatius.ca/event/online-rosary-20-2/2029-09-18
LOCATION:Online\, Canada
END:VEVENT
BEGIN:VEVENT
DTSTART;TZID=America/Halifax:20290920T190000
DTEND;TZID=America/Halifax:20290920T200000
DTSTAMP:20260422T184519
CREATED:20260306T115459Z
LAST-MODIFIED:20260306T115459Z
UID:10007892-1884625200-1884628800@saintignatius.ca
SUMMARY:Online Rosary
DESCRIPTION:
URL:https://saintignatius.ca/event/online-rosary-24/2029-09-20
LOCATION:Online\, Canada
END:VEVENT
BEGIN:VEVENT
DTSTART;TZID=America/Halifax:20290924T190000
DTEND;TZID=America/Halifax:20290924T200000
DTSTAMP:20260422T184519
CREATED:20260306T115204Z
LAST-MODIFIED:20260306T115204Z
UID:10007632-1884970800-1884974400@saintignatius.ca
SUMMARY:Online Rosary
DESCRIPTION:
URL:https://saintignatius.ca/event/online-rosary-23/2029-09-24
LOCATION:Online\, Canada
END:VEVENT
BEGIN:VEVENT
DTSTART;TZID=America/Halifax:20290925T190000
DTEND;TZID=America/Halifax:20290925T200000
DTSTAMP:20260422T184519
CREATED:20260204T183111Z
LAST-MODIFIED:20260204T183112Z
UID:10001266-1885057200-1885060800@saintignatius.ca
SUMMARY:Online Rosary
DESCRIPTION:
URL:https://saintignatius.ca/event/online-rosary-20-2/2029-09-25
LOCATION:Online\, Canada
END:VEVENT
BEGIN:VEVENT
DTSTART;TZID=America/Halifax:20290927T190000
DTEND;TZID=America/Halifax:20290927T200000
DTSTAMP:20260422T184519
CREATED:20260306T115459Z
LAST-MODIFIED:20260306T115459Z
UID:10007893-1885230000-1885233600@saintignatius.ca
SUMMARY:Online Rosary
DESCRIPTION:
URL:https://saintignatius.ca/event/online-rosary-24/2029-09-27
LOCATION:Online\, Canada
END:VEVENT
BEGIN:VEVENT
DTSTART;TZID=America/Halifax:20291001T190000
DTEND;TZID=America/Halifax:20291001T200000
DTSTAMP:20260422T184519
CREATED:20260306T115204Z
LAST-MODIFIED:20260306T115204Z
UID:10007633-1885575600-1885579200@saintignatius.ca
SUMMARY:Online Rosary
DESCRIPTION:
URL:https://saintignatius.ca/event/online-rosary-23/2029-10-01
LOCATION:Online\, Canada
END:VEVENT
BEGIN:VEVENT
DTSTART;TZID=America/Halifax:20291002T190000
DTEND;TZID=America/Halifax:20291002T200000
DTSTAMP:20260422T184519
CREATED:20260204T183111Z
LAST-MODIFIED:20260204T183112Z
UID:10001267-1885662000-1885665600@saintignatius.ca
SUMMARY:Online Rosary
DESCRIPTION:
URL:https://saintignatius.ca/event/online-rosary-20-2/2029-10-02
LOCATION:Online\, Canada
END:VEVENT
END:VCALENDAR