BEGIN:VCALENDAR
VERSION:2.0
PRODID:-//Saint Ignatius of Loyola Parish - ECPv6.15.13//NONSGML v1.0//EN
CALSCALE:GREGORIAN
METHOD:PUBLISH
X-ORIGINAL-URL:https://saintignatius.ca
X-WR-CALDESC:Events for Saint Ignatius of Loyola Parish
REFRESH-INTERVAL;VALUE=DURATION:PT1H
X-Robots-Tag:noindex
X-PUBLISHED-TTL:PT1H
BEGIN:VTIMEZONE
TZID:America/Halifax
BEGIN:DAYLIGHT
TZOFFSETFROM:-0400
TZOFFSETTO:-0300
TZNAME:ADT
DTSTART:20280312T060000
END:DAYLIGHT
BEGIN:STANDARD
TZOFFSETFROM:-0300
TZOFFSETTO:-0400
TZNAME:AST
DTSTART:20281105T050000
END:STANDARD
BEGIN:DAYLIGHT
TZOFFSETFROM:-0400
TZOFFSETTO:-0300
TZNAME:ADT
DTSTART:20290311T060000
END:DAYLIGHT
BEGIN:STANDARD
TZOFFSETFROM:-0300
TZOFFSETTO:-0400
TZNAME:AST
DTSTART:20291104T050000
END:STANDARD
BEGIN:DAYLIGHT
TZOFFSETFROM:-0400
TZOFFSETTO:-0300
TZNAME:ADT
DTSTART:20300310T060000
END:DAYLIGHT
BEGIN:STANDARD
TZOFFSETFROM:-0300
TZOFFSETTO:-0400
TZNAME:AST
DTSTART:20301103T050000
END:STANDARD
END:VTIMEZONE
BEGIN:VEVENT
DTSTART;TZID=America/Halifax:20290611T190000
DTEND;TZID=America/Halifax:20290611T200000
DTSTAMP:20260422T154855
CREATED:20260306T115204Z
LAST-MODIFIED:20260306T115204Z
UID:10007617-1875898800-1875902400@saintignatius.ca
SUMMARY:Online Rosary
DESCRIPTION:
URL:https://saintignatius.ca/event/online-rosary-23/2029-06-11
LOCATION:Online\, Canada
END:VEVENT
BEGIN:VEVENT
DTSTART;TZID=America/Halifax:20290612T190000
DTEND;TZID=America/Halifax:20290612T200000
DTSTAMP:20260422T154855
CREATED:20260204T183111Z
LAST-MODIFIED:20260204T183112Z
UID:10001251-1875985200-1875988800@saintignatius.ca
SUMMARY:Online Rosary
DESCRIPTION:
URL:https://saintignatius.ca/event/online-rosary-20-2/2029-06-12
LOCATION:Online\, Canada
END:VEVENT
BEGIN:VEVENT
DTSTART;TZID=America/Halifax:20290614T190000
DTEND;TZID=America/Halifax:20290614T200000
DTSTAMP:20260422T154855
CREATED:20260306T115459Z
LAST-MODIFIED:20260306T115459Z
UID:10007878-1876158000-1876161600@saintignatius.ca
SUMMARY:Online Rosary
DESCRIPTION:
URL:https://saintignatius.ca/event/online-rosary-24/2029-06-14
LOCATION:Online\, Canada
END:VEVENT
BEGIN:VEVENT
DTSTART;TZID=America/Halifax:20290618T190000
DTEND;TZID=America/Halifax:20290618T200000
DTSTAMP:20260422T154855
CREATED:20260306T115204Z
LAST-MODIFIED:20260306T115204Z
UID:10007618-1876503600-1876507200@saintignatius.ca
SUMMARY:Online Rosary
DESCRIPTION:
URL:https://saintignatius.ca/event/online-rosary-23/2029-06-18
LOCATION:Online\, Canada
END:VEVENT
BEGIN:VEVENT
DTSTART;TZID=America/Halifax:20290619T190000
DTEND;TZID=America/Halifax:20290619T200000
DTSTAMP:20260422T154855
CREATED:20260204T183111Z
LAST-MODIFIED:20260204T183112Z
UID:10001252-1876590000-1876593600@saintignatius.ca
SUMMARY:Online Rosary
DESCRIPTION:
URL:https://saintignatius.ca/event/online-rosary-20-2/2029-06-19
LOCATION:Online\, Canada
END:VEVENT
BEGIN:VEVENT
DTSTART;TZID=America/Halifax:20290621T190000
DTEND;TZID=America/Halifax:20290621T200000
DTSTAMP:20260422T154855
CREATED:20260306T115459Z
LAST-MODIFIED:20260306T115459Z
UID:10007879-1876762800-1876766400@saintignatius.ca
SUMMARY:Online Rosary
DESCRIPTION:
URL:https://saintignatius.ca/event/online-rosary-24/2029-06-21
LOCATION:Online\, Canada
END:VEVENT
BEGIN:VEVENT
DTSTART;TZID=America/Halifax:20290625T190000
DTEND;TZID=America/Halifax:20290625T200000
DTSTAMP:20260422T154855
CREATED:20260306T115204Z
LAST-MODIFIED:20260306T115204Z
UID:10007619-1877108400-1877112000@saintignatius.ca
SUMMARY:Online Rosary
DESCRIPTION:
URL:https://saintignatius.ca/event/online-rosary-23/2029-06-25
LOCATION:Online\, Canada
END:VEVENT
BEGIN:VEVENT
DTSTART;TZID=America/Halifax:20290626T190000
DTEND;TZID=America/Halifax:20290626T200000
DTSTAMP:20260422T154855
CREATED:20260204T183111Z
LAST-MODIFIED:20260204T183112Z
UID:10001253-1877194800-1877198400@saintignatius.ca
SUMMARY:Online Rosary
DESCRIPTION:
URL:https://saintignatius.ca/event/online-rosary-20-2/2029-06-26
LOCATION:Online\, Canada
END:VEVENT
BEGIN:VEVENT
DTSTART;TZID=America/Halifax:20290628T190000
DTEND;TZID=America/Halifax:20290628T200000
DTSTAMP:20260422T154855
CREATED:20260306T115459Z
LAST-MODIFIED:20260306T115459Z
UID:10007880-1877367600-1877371200@saintignatius.ca
SUMMARY:Online Rosary
DESCRIPTION:
URL:https://saintignatius.ca/event/online-rosary-24/2029-06-28
LOCATION:Online\, Canada
END:VEVENT
BEGIN:VEVENT
DTSTART;TZID=America/Halifax:20290702T190000
DTEND;TZID=America/Halifax:20290702T200000
DTSTAMP:20260422T154855
CREATED:20260306T115204Z
LAST-MODIFIED:20260306T115204Z
UID:10007620-1877713200-1877716800@saintignatius.ca
SUMMARY:Online Rosary
DESCRIPTION:
URL:https://saintignatius.ca/event/online-rosary-23/2029-07-02
LOCATION:Online\, Canada
END:VEVENT
BEGIN:VEVENT
DTSTART;TZID=America/Halifax:20290703T190000
DTEND;TZID=America/Halifax:20290703T200000
DTSTAMP:20260422T154855
CREATED:20260204T183111Z
LAST-MODIFIED:20260204T183112Z
UID:10001254-1877799600-1877803200@saintignatius.ca
SUMMARY:Online Rosary
DESCRIPTION:
URL:https://saintignatius.ca/event/online-rosary-20-2/2029-07-03
LOCATION:Online\, Canada
END:VEVENT
BEGIN:VEVENT
DTSTART;TZID=America/Halifax:20290705T190000
DTEND;TZID=America/Halifax:20290705T200000
DTSTAMP:20260422T154855
CREATED:20260306T115459Z
LAST-MODIFIED:20260306T115459Z
UID:10007881-1877972400-1877976000@saintignatius.ca
SUMMARY:Online Rosary
DESCRIPTION:
URL:https://saintignatius.ca/event/online-rosary-24/2029-07-05
LOCATION:Online\, Canada
END:VEVENT
BEGIN:VEVENT
DTSTART;TZID=America/Halifax:20290709T190000
DTEND;TZID=America/Halifax:20290709T200000
DTSTAMP:20260422T154855
CREATED:20260306T115204Z
LAST-MODIFIED:20260306T115204Z
UID:10007621-1878318000-1878321600@saintignatius.ca
SUMMARY:Online Rosary
DESCRIPTION:
URL:https://saintignatius.ca/event/online-rosary-23/2029-07-09
LOCATION:Online\, Canada
END:VEVENT
BEGIN:VEVENT
DTSTART;TZID=America/Halifax:20290710T190000
DTEND;TZID=America/Halifax:20290710T200000
DTSTAMP:20260422T154855
CREATED:20260204T183111Z
LAST-MODIFIED:20260204T183112Z
UID:10001255-1878404400-1878408000@saintignatius.ca
SUMMARY:Online Rosary
DESCRIPTION:
URL:https://saintignatius.ca/event/online-rosary-20-2/2029-07-10
LOCATION:Online\, Canada
END:VEVENT
BEGIN:VEVENT
DTSTART;TZID=America/Halifax:20290712T190000
DTEND;TZID=America/Halifax:20290712T200000
DTSTAMP:20260422T154855
CREATED:20260306T115459Z
LAST-MODIFIED:20260306T115459Z
UID:10007882-1878577200-1878580800@saintignatius.ca
SUMMARY:Online Rosary
DESCRIPTION:
URL:https://saintignatius.ca/event/online-rosary-24/2029-07-12
LOCATION:Online\, Canada
END:VEVENT
BEGIN:VEVENT
DTSTART;TZID=America/Halifax:20290716T190000
DTEND;TZID=America/Halifax:20290716T200000
DTSTAMP:20260422T154855
CREATED:20260306T115204Z
LAST-MODIFIED:20260306T115204Z
UID:10007622-1878922800-1878926400@saintignatius.ca
SUMMARY:Online Rosary
DESCRIPTION:
URL:https://saintignatius.ca/event/online-rosary-23/2029-07-16
LOCATION:Online\, Canada
END:VEVENT
BEGIN:VEVENT
DTSTART;TZID=America/Halifax:20290717T190000
DTEND;TZID=America/Halifax:20290717T200000
DTSTAMP:20260422T154855
CREATED:20260204T183111Z
LAST-MODIFIED:20260204T183112Z
UID:10001256-1879009200-1879012800@saintignatius.ca
SUMMARY:Online Rosary
DESCRIPTION:
URL:https://saintignatius.ca/event/online-rosary-20-2/2029-07-17
LOCATION:Online\, Canada
END:VEVENT
BEGIN:VEVENT
DTSTART;TZID=America/Halifax:20290719T190000
DTEND;TZID=America/Halifax:20290719T200000
DTSTAMP:20260422T154855
CREATED:20260306T115459Z
LAST-MODIFIED:20260306T115459Z
UID:10007883-1879182000-1879185600@saintignatius.ca
SUMMARY:Online Rosary
DESCRIPTION:
URL:https://saintignatius.ca/event/online-rosary-24/2029-07-19
LOCATION:Online\, Canada
END:VEVENT
BEGIN:VEVENT
DTSTART;TZID=America/Halifax:20290723T190000
DTEND;TZID=America/Halifax:20290723T200000
DTSTAMP:20260422T154855
CREATED:20260306T115204Z
LAST-MODIFIED:20260306T115204Z
UID:10007623-1879527600-1879531200@saintignatius.ca
SUMMARY:Online Rosary
DESCRIPTION:
URL:https://saintignatius.ca/event/online-rosary-23/2029-07-23
LOCATION:Online\, Canada
END:VEVENT
BEGIN:VEVENT
DTSTART;TZID=America/Halifax:20290724T190000
DTEND;TZID=America/Halifax:20290724T200000
DTSTAMP:20260422T154855
CREATED:20260204T183111Z
LAST-MODIFIED:20260204T183112Z
UID:10001257-1879614000-1879617600@saintignatius.ca
SUMMARY:Online Rosary
DESCRIPTION:
URL:https://saintignatius.ca/event/online-rosary-20-2/2029-07-24
LOCATION:Online\, Canada
END:VEVENT
BEGIN:VEVENT
DTSTART;TZID=America/Halifax:20290726T190000
DTEND;TZID=America/Halifax:20290726T200000
DTSTAMP:20260422T154855
CREATED:20260306T115459Z
LAST-MODIFIED:20260306T115459Z
UID:10007884-1879786800-1879790400@saintignatius.ca
SUMMARY:Online Rosary
DESCRIPTION:
URL:https://saintignatius.ca/event/online-rosary-24/2029-07-26
LOCATION:Online\, Canada
END:VEVENT
BEGIN:VEVENT
DTSTART;TZID=America/Halifax:20290730T190000
DTEND;TZID=America/Halifax:20290730T200000
DTSTAMP:20260422T154855
CREATED:20260306T115204Z
LAST-MODIFIED:20260306T115204Z
UID:10007624-1880132400-1880136000@saintignatius.ca
SUMMARY:Online Rosary
DESCRIPTION:
URL:https://saintignatius.ca/event/online-rosary-23/2029-07-30
LOCATION:Online\, Canada
END:VEVENT
BEGIN:VEVENT
DTSTART;TZID=America/Halifax:20290731T190000
DTEND;TZID=America/Halifax:20290731T200000
DTSTAMP:20260422T154855
CREATED:20260204T183111Z
LAST-MODIFIED:20260204T183112Z
UID:10001258-1880218800-1880222400@saintignatius.ca
SUMMARY:Online Rosary
DESCRIPTION:
URL:https://saintignatius.ca/event/online-rosary-20-2/2029-07-31
LOCATION:Online\, Canada
END:VEVENT
BEGIN:VEVENT
DTSTART;TZID=America/Halifax:20290802T190000
DTEND;TZID=America/Halifax:20290802T200000
DTSTAMP:20260422T154855
CREATED:20260306T115459Z
LAST-MODIFIED:20260306T115459Z
UID:10007885-1880391600-1880395200@saintignatius.ca
SUMMARY:Online Rosary
DESCRIPTION:
URL:https://saintignatius.ca/event/online-rosary-24/2029-08-02
LOCATION:Online\, Canada
END:VEVENT
BEGIN:VEVENT
DTSTART;TZID=America/Halifax:20290806T190000
DTEND;TZID=America/Halifax:20290806T200000
DTSTAMP:20260422T154855
CREATED:20260306T115204Z
LAST-MODIFIED:20260306T115204Z
UID:10007625-1880737200-1880740800@saintignatius.ca
SUMMARY:Online Rosary
DESCRIPTION:
URL:https://saintignatius.ca/event/online-rosary-23/2029-08-06
LOCATION:Online\, Canada
END:VEVENT
BEGIN:VEVENT
DTSTART;TZID=America/Halifax:20290807T190000
DTEND;TZID=America/Halifax:20290807T200000
DTSTAMP:20260422T154855
CREATED:20260204T183111Z
LAST-MODIFIED:20260204T183112Z
UID:10001259-1880823600-1880827200@saintignatius.ca
SUMMARY:Online Rosary
DESCRIPTION:
URL:https://saintignatius.ca/event/online-rosary-20-2/2029-08-07
LOCATION:Online\, Canada
END:VEVENT
BEGIN:VEVENT
DTSTART;TZID=America/Halifax:20290809T190000
DTEND;TZID=America/Halifax:20290809T200000
DTSTAMP:20260422T154855
CREATED:20260306T115459Z
LAST-MODIFIED:20260306T115459Z
UID:10007886-1880996400-1881000000@saintignatius.ca
SUMMARY:Online Rosary
DESCRIPTION:
URL:https://saintignatius.ca/event/online-rosary-24/2029-08-09
LOCATION:Online\, Canada
END:VEVENT
BEGIN:VEVENT
DTSTART;TZID=America/Halifax:20290813T190000
DTEND;TZID=America/Halifax:20290813T200000
DTSTAMP:20260422T154855
CREATED:20260306T115204Z
LAST-MODIFIED:20260306T115204Z
UID:10007626-1881342000-1881345600@saintignatius.ca
SUMMARY:Online Rosary
DESCRIPTION:
URL:https://saintignatius.ca/event/online-rosary-23/2029-08-13
LOCATION:Online\, Canada
END:VEVENT
BEGIN:VEVENT
DTSTART;TZID=America/Halifax:20290814T190000
DTEND;TZID=America/Halifax:20290814T200000
DTSTAMP:20260422T154855
CREATED:20260204T183111Z
LAST-MODIFIED:20260204T183112Z
UID:10001260-1881428400-1881432000@saintignatius.ca
SUMMARY:Online Rosary
DESCRIPTION:
URL:https://saintignatius.ca/event/online-rosary-20-2/2029-08-14
LOCATION:Online\, Canada
END:VEVENT
BEGIN:VEVENT
DTSTART;TZID=America/Halifax:20290816T190000
DTEND;TZID=America/Halifax:20290816T200000
DTSTAMP:20260422T154855
CREATED:20260306T115459Z
LAST-MODIFIED:20260306T115459Z
UID:10007887-1881601200-1881604800@saintignatius.ca
SUMMARY:Online Rosary
DESCRIPTION:
URL:https://saintignatius.ca/event/online-rosary-24/2029-08-16
LOCATION:Online\, Canada
END:VEVENT
END:VCALENDAR