BEGIN:VCALENDAR
VERSION:2.0
PRODID:-//Saint Ignatius of Loyola Parish - ECPv6.15.13//NONSGML v1.0//EN
CALSCALE:GREGORIAN
METHOD:PUBLISH
X-ORIGINAL-URL:https://saintignatius.ca
X-WR-CALDESC:Events for Saint Ignatius of Loyola Parish
REFRESH-INTERVAL;VALUE=DURATION:PT1H
X-Robots-Tag:noindex
X-PUBLISHED-TTL:PT1H
BEGIN:VTIMEZONE
TZID:America/Halifax
BEGIN:DAYLIGHT
TZOFFSETFROM:-0400
TZOFFSETTO:-0300
TZNAME:ADT
DTSTART:20280312T060000
END:DAYLIGHT
BEGIN:STANDARD
TZOFFSETFROM:-0300
TZOFFSETTO:-0400
TZNAME:AST
DTSTART:20281105T050000
END:STANDARD
BEGIN:DAYLIGHT
TZOFFSETFROM:-0400
TZOFFSETTO:-0300
TZNAME:ADT
DTSTART:20290311T060000
END:DAYLIGHT
BEGIN:STANDARD
TZOFFSETFROM:-0300
TZOFFSETTO:-0400
TZNAME:AST
DTSTART:20291104T050000
END:STANDARD
BEGIN:DAYLIGHT
TZOFFSETFROM:-0400
TZOFFSETTO:-0300
TZNAME:ADT
DTSTART:20300310T060000
END:DAYLIGHT
BEGIN:STANDARD
TZOFFSETFROM:-0300
TZOFFSETTO:-0400
TZNAME:AST
DTSTART:20301103T050000
END:STANDARD
END:VTIMEZONE
BEGIN:VEVENT
DTSTART;TZID=America/Halifax:20290402T190000
DTEND;TZID=America/Halifax:20290402T200000
DTSTAMP:20260422T110235
CREATED:20260306T115204Z
LAST-MODIFIED:20260306T115204Z
UID:10007607-1869850800-1869854400@saintignatius.ca
SUMMARY:Online Rosary
DESCRIPTION:
URL:https://saintignatius.ca/event/online-rosary-23/2029-04-02
LOCATION:Online\, Canada
END:VEVENT
BEGIN:VEVENT
DTSTART;TZID=America/Halifax:20290403T190000
DTEND;TZID=America/Halifax:20290403T200000
DTSTAMP:20260422T110235
CREATED:20260204T183111Z
LAST-MODIFIED:20260204T183112Z
UID:10001241-1869937200-1869940800@saintignatius.ca
SUMMARY:Online Rosary
DESCRIPTION:
URL:https://saintignatius.ca/event/online-rosary-20-2/2029-04-03
LOCATION:Online\, Canada
END:VEVENT
BEGIN:VEVENT
DTSTART;TZID=America/Halifax:20290405T190000
DTEND;TZID=America/Halifax:20290405T200000
DTSTAMP:20260422T110235
CREATED:20260306T115459Z
LAST-MODIFIED:20260306T115459Z
UID:10007868-1870110000-1870113600@saintignatius.ca
SUMMARY:Online Rosary
DESCRIPTION:
URL:https://saintignatius.ca/event/online-rosary-24/2029-04-05
LOCATION:Online\, Canada
END:VEVENT
BEGIN:VEVENT
DTSTART;TZID=America/Halifax:20290409T190000
DTEND;TZID=America/Halifax:20290409T200000
DTSTAMP:20260422T110235
CREATED:20260306T115204Z
LAST-MODIFIED:20260306T115204Z
UID:10007608-1870455600-1870459200@saintignatius.ca
SUMMARY:Online Rosary
DESCRIPTION:
URL:https://saintignatius.ca/event/online-rosary-23/2029-04-09
LOCATION:Online\, Canada
END:VEVENT
BEGIN:VEVENT
DTSTART;TZID=America/Halifax:20290410T190000
DTEND;TZID=America/Halifax:20290410T200000
DTSTAMP:20260422T110235
CREATED:20260204T183111Z
LAST-MODIFIED:20260204T183112Z
UID:10001242-1870542000-1870545600@saintignatius.ca
SUMMARY:Online Rosary
DESCRIPTION:
URL:https://saintignatius.ca/event/online-rosary-20-2/2029-04-10
LOCATION:Online\, Canada
END:VEVENT
BEGIN:VEVENT
DTSTART;TZID=America/Halifax:20290412T190000
DTEND;TZID=America/Halifax:20290412T200000
DTSTAMP:20260422T110235
CREATED:20260306T115459Z
LAST-MODIFIED:20260306T115459Z
UID:10007869-1870714800-1870718400@saintignatius.ca
SUMMARY:Online Rosary
DESCRIPTION:
URL:https://saintignatius.ca/event/online-rosary-24/2029-04-12
LOCATION:Online\, Canada
END:VEVENT
BEGIN:VEVENT
DTSTART;TZID=America/Halifax:20290416T190000
DTEND;TZID=America/Halifax:20290416T200000
DTSTAMP:20260422T110235
CREATED:20260306T115204Z
LAST-MODIFIED:20260306T115204Z
UID:10007609-1871060400-1871064000@saintignatius.ca
SUMMARY:Online Rosary
DESCRIPTION:
URL:https://saintignatius.ca/event/online-rosary-23/2029-04-16
LOCATION:Online\, Canada
END:VEVENT
BEGIN:VEVENT
DTSTART;TZID=America/Halifax:20290417T190000
DTEND;TZID=America/Halifax:20290417T200000
DTSTAMP:20260422T110235
CREATED:20260204T183111Z
LAST-MODIFIED:20260204T183112Z
UID:10001243-1871146800-1871150400@saintignatius.ca
SUMMARY:Online Rosary
DESCRIPTION:
URL:https://saintignatius.ca/event/online-rosary-20-2/2029-04-17
LOCATION:Online\, Canada
END:VEVENT
BEGIN:VEVENT
DTSTART;TZID=America/Halifax:20290419T190000
DTEND;TZID=America/Halifax:20290419T200000
DTSTAMP:20260422T110235
CREATED:20260306T115459Z
LAST-MODIFIED:20260306T115459Z
UID:10007870-1871319600-1871323200@saintignatius.ca
SUMMARY:Online Rosary
DESCRIPTION:
URL:https://saintignatius.ca/event/online-rosary-24/2029-04-19
LOCATION:Online\, Canada
END:VEVENT
BEGIN:VEVENT
DTSTART;TZID=America/Halifax:20290423T190000
DTEND;TZID=America/Halifax:20290423T200000
DTSTAMP:20260422T110235
CREATED:20260306T115204Z
LAST-MODIFIED:20260306T115204Z
UID:10007610-1871665200-1871668800@saintignatius.ca
SUMMARY:Online Rosary
DESCRIPTION:
URL:https://saintignatius.ca/event/online-rosary-23/2029-04-23
LOCATION:Online\, Canada
END:VEVENT
BEGIN:VEVENT
DTSTART;TZID=America/Halifax:20290424T190000
DTEND;TZID=America/Halifax:20290424T200000
DTSTAMP:20260422T110235
CREATED:20260204T183111Z
LAST-MODIFIED:20260204T183112Z
UID:10001244-1871751600-1871755200@saintignatius.ca
SUMMARY:Online Rosary
DESCRIPTION:
URL:https://saintignatius.ca/event/online-rosary-20-2/2029-04-24
LOCATION:Online\, Canada
END:VEVENT
BEGIN:VEVENT
DTSTART;TZID=America/Halifax:20290426T190000
DTEND;TZID=America/Halifax:20290426T200000
DTSTAMP:20260422T110235
CREATED:20260306T115459Z
LAST-MODIFIED:20260306T115459Z
UID:10007871-1871924400-1871928000@saintignatius.ca
SUMMARY:Online Rosary
DESCRIPTION:
URL:https://saintignatius.ca/event/online-rosary-24/2029-04-26
LOCATION:Online\, Canada
END:VEVENT
BEGIN:VEVENT
DTSTART;TZID=America/Halifax:20290430T190000
DTEND;TZID=America/Halifax:20290430T200000
DTSTAMP:20260422T110235
CREATED:20260306T115204Z
LAST-MODIFIED:20260306T115204Z
UID:10007611-1872270000-1872273600@saintignatius.ca
SUMMARY:Online Rosary
DESCRIPTION:
URL:https://saintignatius.ca/event/online-rosary-23/2029-04-30
LOCATION:Online\, Canada
END:VEVENT
BEGIN:VEVENT
DTSTART;TZID=America/Halifax:20290501T190000
DTEND;TZID=America/Halifax:20290501T200000
DTSTAMP:20260422T110235
CREATED:20260204T183111Z
LAST-MODIFIED:20260204T183112Z
UID:10001245-1872356400-1872360000@saintignatius.ca
SUMMARY:Online Rosary
DESCRIPTION:
URL:https://saintignatius.ca/event/online-rosary-20-2/2029-05-01
LOCATION:Online\, Canada
END:VEVENT
BEGIN:VEVENT
DTSTART;TZID=America/Halifax:20290503T190000
DTEND;TZID=America/Halifax:20290503T200000
DTSTAMP:20260422T110235
CREATED:20260306T115459Z
LAST-MODIFIED:20260306T115459Z
UID:10007872-1872529200-1872532800@saintignatius.ca
SUMMARY:Online Rosary
DESCRIPTION:
URL:https://saintignatius.ca/event/online-rosary-24/2029-05-03
LOCATION:Online\, Canada
END:VEVENT
BEGIN:VEVENT
DTSTART;TZID=America/Halifax:20290507T190000
DTEND;TZID=America/Halifax:20290507T200000
DTSTAMP:20260422T110235
CREATED:20260306T115204Z
LAST-MODIFIED:20260306T115204Z
UID:10007612-1872874800-1872878400@saintignatius.ca
SUMMARY:Online Rosary
DESCRIPTION:
URL:https://saintignatius.ca/event/online-rosary-23/2029-05-07
LOCATION:Online\, Canada
END:VEVENT
BEGIN:VEVENT
DTSTART;TZID=America/Halifax:20290508T190000
DTEND;TZID=America/Halifax:20290508T200000
DTSTAMP:20260422T110235
CREATED:20260204T183111Z
LAST-MODIFIED:20260204T183112Z
UID:10001246-1872961200-1872964800@saintignatius.ca
SUMMARY:Online Rosary
DESCRIPTION:
URL:https://saintignatius.ca/event/online-rosary-20-2/2029-05-08
LOCATION:Online\, Canada
END:VEVENT
BEGIN:VEVENT
DTSTART;TZID=America/Halifax:20290510T190000
DTEND;TZID=America/Halifax:20290510T200000
DTSTAMP:20260422T110235
CREATED:20260306T115459Z
LAST-MODIFIED:20260306T115459Z
UID:10007873-1873134000-1873137600@saintignatius.ca
SUMMARY:Online Rosary
DESCRIPTION:
URL:https://saintignatius.ca/event/online-rosary-24/2029-05-10
LOCATION:Online\, Canada
END:VEVENT
BEGIN:VEVENT
DTSTART;TZID=America/Halifax:20290514T190000
DTEND;TZID=America/Halifax:20290514T200000
DTSTAMP:20260422T110235
CREATED:20260306T115204Z
LAST-MODIFIED:20260306T115204Z
UID:10007613-1873479600-1873483200@saintignatius.ca
SUMMARY:Online Rosary
DESCRIPTION:
URL:https://saintignatius.ca/event/online-rosary-23/2029-05-14
LOCATION:Online\, Canada
END:VEVENT
BEGIN:VEVENT
DTSTART;TZID=America/Halifax:20290515T190000
DTEND;TZID=America/Halifax:20290515T200000
DTSTAMP:20260422T110235
CREATED:20260204T183111Z
LAST-MODIFIED:20260204T183112Z
UID:10001247-1873566000-1873569600@saintignatius.ca
SUMMARY:Online Rosary
DESCRIPTION:
URL:https://saintignatius.ca/event/online-rosary-20-2/2029-05-15
LOCATION:Online\, Canada
END:VEVENT
BEGIN:VEVENT
DTSTART;TZID=America/Halifax:20290517T190000
DTEND;TZID=America/Halifax:20290517T200000
DTSTAMP:20260422T110235
CREATED:20260306T115459Z
LAST-MODIFIED:20260306T115459Z
UID:10007874-1873738800-1873742400@saintignatius.ca
SUMMARY:Online Rosary
DESCRIPTION:
URL:https://saintignatius.ca/event/online-rosary-24/2029-05-17
LOCATION:Online\, Canada
END:VEVENT
BEGIN:VEVENT
DTSTART;TZID=America/Halifax:20290521T190000
DTEND;TZID=America/Halifax:20290521T200000
DTSTAMP:20260422T110235
CREATED:20260306T115204Z
LAST-MODIFIED:20260306T115204Z
UID:10007614-1874084400-1874088000@saintignatius.ca
SUMMARY:Online Rosary
DESCRIPTION:
URL:https://saintignatius.ca/event/online-rosary-23/2029-05-21
LOCATION:Online\, Canada
END:VEVENT
BEGIN:VEVENT
DTSTART;TZID=America/Halifax:20290522T190000
DTEND;TZID=America/Halifax:20290522T200000
DTSTAMP:20260422T110235
CREATED:20260204T183111Z
LAST-MODIFIED:20260204T183112Z
UID:10001248-1874170800-1874174400@saintignatius.ca
SUMMARY:Online Rosary
DESCRIPTION:
URL:https://saintignatius.ca/event/online-rosary-20-2/2029-05-22
LOCATION:Online\, Canada
END:VEVENT
BEGIN:VEVENT
DTSTART;TZID=America/Halifax:20290524T190000
DTEND;TZID=America/Halifax:20290524T200000
DTSTAMP:20260422T110235
CREATED:20260306T115459Z
LAST-MODIFIED:20260306T115459Z
UID:10007875-1874343600-1874347200@saintignatius.ca
SUMMARY:Online Rosary
DESCRIPTION:
URL:https://saintignatius.ca/event/online-rosary-24/2029-05-24
LOCATION:Online\, Canada
END:VEVENT
BEGIN:VEVENT
DTSTART;TZID=America/Halifax:20290528T190000
DTEND;TZID=America/Halifax:20290528T200000
DTSTAMP:20260422T110235
CREATED:20260306T115204Z
LAST-MODIFIED:20260306T115204Z
UID:10007615-1874689200-1874692800@saintignatius.ca
SUMMARY:Online Rosary
DESCRIPTION:
URL:https://saintignatius.ca/event/online-rosary-23/2029-05-28
LOCATION:Online\, Canada
END:VEVENT
BEGIN:VEVENT
DTSTART;TZID=America/Halifax:20290529T190000
DTEND;TZID=America/Halifax:20290529T200000
DTSTAMP:20260422T110235
CREATED:20260204T183111Z
LAST-MODIFIED:20260204T183112Z
UID:10001249-1874775600-1874779200@saintignatius.ca
SUMMARY:Online Rosary
DESCRIPTION:
URL:https://saintignatius.ca/event/online-rosary-20-2/2029-05-29
LOCATION:Online\, Canada
END:VEVENT
BEGIN:VEVENT
DTSTART;TZID=America/Halifax:20290531T190000
DTEND;TZID=America/Halifax:20290531T200000
DTSTAMP:20260422T110235
CREATED:20260306T115459Z
LAST-MODIFIED:20260306T115459Z
UID:10007876-1874948400-1874952000@saintignatius.ca
SUMMARY:Online Rosary
DESCRIPTION:
URL:https://saintignatius.ca/event/online-rosary-24/2029-05-31
LOCATION:Online\, Canada
END:VEVENT
BEGIN:VEVENT
DTSTART;TZID=America/Halifax:20290604T190000
DTEND;TZID=America/Halifax:20290604T200000
DTSTAMP:20260422T110235
CREATED:20260306T115204Z
LAST-MODIFIED:20260306T115204Z
UID:10007616-1875294000-1875297600@saintignatius.ca
SUMMARY:Online Rosary
DESCRIPTION:
URL:https://saintignatius.ca/event/online-rosary-23/2029-06-04
LOCATION:Online\, Canada
END:VEVENT
BEGIN:VEVENT
DTSTART;TZID=America/Halifax:20290605T190000
DTEND;TZID=America/Halifax:20290605T200000
DTSTAMP:20260422T110235
CREATED:20260204T183111Z
LAST-MODIFIED:20260204T183112Z
UID:10001250-1875380400-1875384000@saintignatius.ca
SUMMARY:Online Rosary
DESCRIPTION:
URL:https://saintignatius.ca/event/online-rosary-20-2/2029-06-05
LOCATION:Online\, Canada
END:VEVENT
BEGIN:VEVENT
DTSTART;TZID=America/Halifax:20290607T190000
DTEND;TZID=America/Halifax:20290607T200000
DTSTAMP:20260422T110235
CREATED:20260306T115459Z
LAST-MODIFIED:20260306T115459Z
UID:10007877-1875553200-1875556800@saintignatius.ca
SUMMARY:Online Rosary
DESCRIPTION:
URL:https://saintignatius.ca/event/online-rosary-24/2029-06-07
LOCATION:Online\, Canada
END:VEVENT
END:VCALENDAR