BEGIN:VCALENDAR
VERSION:2.0
PRODID:-//Saint Ignatius of Loyola Parish - ECPv6.15.13//NONSGML v1.0//EN
CALSCALE:GREGORIAN
METHOD:PUBLISH
X-WR-CALNAME:Saint Ignatius of Loyola Parish
X-ORIGINAL-URL:https://saintignatius.ca
X-WR-CALDESC:Events for Saint Ignatius of Loyola Parish
REFRESH-INTERVAL;VALUE=DURATION:PT1H
X-Robots-Tag:noindex
X-PUBLISHED-TTL:PT1H
BEGIN:VTIMEZONE
TZID:America/Halifax
BEGIN:DAYLIGHT
TZOFFSETFROM:-0400
TZOFFSETTO:-0300
TZNAME:ADT
DTSTART:20280312T060000
END:DAYLIGHT
BEGIN:STANDARD
TZOFFSETFROM:-0300
TZOFFSETTO:-0400
TZNAME:AST
DTSTART:20281105T050000
END:STANDARD
BEGIN:DAYLIGHT
TZOFFSETFROM:-0400
TZOFFSETTO:-0300
TZNAME:ADT
DTSTART:20290311T060000
END:DAYLIGHT
BEGIN:STANDARD
TZOFFSETFROM:-0300
TZOFFSETTO:-0400
TZNAME:AST
DTSTART:20291104T050000
END:STANDARD
BEGIN:DAYLIGHT
TZOFFSETFROM:-0400
TZOFFSETTO:-0300
TZNAME:ADT
DTSTART:20300310T060000
END:DAYLIGHT
BEGIN:STANDARD
TZOFFSETFROM:-0300
TZOFFSETTO:-0400
TZNAME:AST
DTSTART:20301103T050000
END:STANDARD
END:VTIMEZONE
BEGIN:VEVENT
DTSTART;TZID=America/Halifax:20290213T190000
DTEND;TZID=America/Halifax:20290213T200000
DTSTAMP:20260422T081846
CREATED:20260204T183111Z
LAST-MODIFIED:20260204T183112Z
UID:10001234-1865703600-1865707200@saintignatius.ca
SUMMARY:Online Rosary
DESCRIPTION:
URL:https://saintignatius.ca/event/online-rosary-20-2/2029-02-13
LOCATION:Online\, Canada
END:VEVENT
BEGIN:VEVENT
DTSTART;TZID=America/Halifax:20290215T190000
DTEND;TZID=America/Halifax:20290215T200000
DTSTAMP:20260422T081846
CREATED:20260306T115459Z
LAST-MODIFIED:20260306T115459Z
UID:10007861-1865876400-1865880000@saintignatius.ca
SUMMARY:Online Rosary
DESCRIPTION:
URL:https://saintignatius.ca/event/online-rosary-24/2029-02-15
LOCATION:Online\, Canada
END:VEVENT
BEGIN:VEVENT
DTSTART;TZID=America/Halifax:20290219T190000
DTEND;TZID=America/Halifax:20290219T200000
DTSTAMP:20260422T081846
CREATED:20260306T115204Z
LAST-MODIFIED:20260306T115204Z
UID:10007601-1866222000-1866225600@saintignatius.ca
SUMMARY:Online Rosary
DESCRIPTION:
URL:https://saintignatius.ca/event/online-rosary-23/2029-02-19
LOCATION:Online\, Canada
END:VEVENT
BEGIN:VEVENT
DTSTART;TZID=America/Halifax:20290220T190000
DTEND;TZID=America/Halifax:20290220T200000
DTSTAMP:20260422T081846
CREATED:20260204T183111Z
LAST-MODIFIED:20260204T183112Z
UID:10001235-1866308400-1866312000@saintignatius.ca
SUMMARY:Online Rosary
DESCRIPTION:
URL:https://saintignatius.ca/event/online-rosary-20-2/2029-02-20
LOCATION:Online\, Canada
END:VEVENT
BEGIN:VEVENT
DTSTART;TZID=America/Halifax:20290222T190000
DTEND;TZID=America/Halifax:20290222T200000
DTSTAMP:20260422T081846
CREATED:20260306T115459Z
LAST-MODIFIED:20260306T115459Z
UID:10007862-1866481200-1866484800@saintignatius.ca
SUMMARY:Online Rosary
DESCRIPTION:
URL:https://saintignatius.ca/event/online-rosary-24/2029-02-22
LOCATION:Online\, Canada
END:VEVENT
BEGIN:VEVENT
DTSTART;TZID=America/Halifax:20290226T190000
DTEND;TZID=America/Halifax:20290226T200000
DTSTAMP:20260422T081846
CREATED:20260306T115204Z
LAST-MODIFIED:20260306T115204Z
UID:10007602-1866826800-1866830400@saintignatius.ca
SUMMARY:Online Rosary
DESCRIPTION:
URL:https://saintignatius.ca/event/online-rosary-23/2029-02-26
LOCATION:Online\, Canada
END:VEVENT
BEGIN:VEVENT
DTSTART;TZID=America/Halifax:20290227T190000
DTEND;TZID=America/Halifax:20290227T200000
DTSTAMP:20260422T081846
CREATED:20260204T183111Z
LAST-MODIFIED:20260204T183112Z
UID:10001236-1866913200-1866916800@saintignatius.ca
SUMMARY:Online Rosary
DESCRIPTION:
URL:https://saintignatius.ca/event/online-rosary-20-2/2029-02-27
LOCATION:Online\, Canada
END:VEVENT
BEGIN:VEVENT
DTSTART;TZID=America/Halifax:20290301T190000
DTEND;TZID=America/Halifax:20290301T200000
DTSTAMP:20260422T081846
CREATED:20260306T115459Z
LAST-MODIFIED:20260306T115459Z
UID:10007863-1867086000-1867089600@saintignatius.ca
SUMMARY:Online Rosary
DESCRIPTION:
URL:https://saintignatius.ca/event/online-rosary-24/2029-03-01
LOCATION:Online\, Canada
END:VEVENT
BEGIN:VEVENT
DTSTART;TZID=America/Halifax:20290305T190000
DTEND;TZID=America/Halifax:20290305T200000
DTSTAMP:20260422T081846
CREATED:20260306T115204Z
LAST-MODIFIED:20260306T115204Z
UID:10007603-1867431600-1867435200@saintignatius.ca
SUMMARY:Online Rosary
DESCRIPTION:
URL:https://saintignatius.ca/event/online-rosary-23/2029-03-05
LOCATION:Online\, Canada
END:VEVENT
BEGIN:VEVENT
DTSTART;TZID=America/Halifax:20290306T190000
DTEND;TZID=America/Halifax:20290306T200000
DTSTAMP:20260422T081846
CREATED:20260204T183111Z
LAST-MODIFIED:20260204T183112Z
UID:10001237-1867518000-1867521600@saintignatius.ca
SUMMARY:Online Rosary
DESCRIPTION:
URL:https://saintignatius.ca/event/online-rosary-20-2/2029-03-06
LOCATION:Online\, Canada
END:VEVENT
BEGIN:VEVENT
DTSTART;TZID=America/Halifax:20290308T190000
DTEND;TZID=America/Halifax:20290308T200000
DTSTAMP:20260422T081846
CREATED:20260306T115459Z
LAST-MODIFIED:20260306T115459Z
UID:10007864-1867690800-1867694400@saintignatius.ca
SUMMARY:Online Rosary
DESCRIPTION:
URL:https://saintignatius.ca/event/online-rosary-24/2029-03-08
LOCATION:Online\, Canada
END:VEVENT
BEGIN:VEVENT
DTSTART;TZID=America/Halifax:20290312T190000
DTEND;TZID=America/Halifax:20290312T200000
DTSTAMP:20260422T081846
CREATED:20260306T115204Z
LAST-MODIFIED:20260306T115204Z
UID:10007604-1868036400-1868040000@saintignatius.ca
SUMMARY:Online Rosary
DESCRIPTION:
URL:https://saintignatius.ca/event/online-rosary-23/2029-03-12
LOCATION:Online\, Canada
END:VEVENT
BEGIN:VEVENT
DTSTART;TZID=America/Halifax:20290313T190000
DTEND;TZID=America/Halifax:20290313T200000
DTSTAMP:20260422T081846
CREATED:20260204T183111Z
LAST-MODIFIED:20260204T183112Z
UID:10001238-1868122800-1868126400@saintignatius.ca
SUMMARY:Online Rosary
DESCRIPTION:
URL:https://saintignatius.ca/event/online-rosary-20-2/2029-03-13
LOCATION:Online\, Canada
END:VEVENT
BEGIN:VEVENT
DTSTART;TZID=America/Halifax:20290315T190000
DTEND;TZID=America/Halifax:20290315T200000
DTSTAMP:20260422T081846
CREATED:20260306T115459Z
LAST-MODIFIED:20260306T115459Z
UID:10007865-1868295600-1868299200@saintignatius.ca
SUMMARY:Online Rosary
DESCRIPTION:
URL:https://saintignatius.ca/event/online-rosary-24/2029-03-15
LOCATION:Online\, Canada
END:VEVENT
BEGIN:VEVENT
DTSTART;TZID=America/Halifax:20290319T190000
DTEND;TZID=America/Halifax:20290319T200000
DTSTAMP:20260422T081846
CREATED:20260306T115204Z
LAST-MODIFIED:20260306T115204Z
UID:10007605-1868641200-1868644800@saintignatius.ca
SUMMARY:Online Rosary
DESCRIPTION:
URL:https://saintignatius.ca/event/online-rosary-23/2029-03-19
LOCATION:Online\, Canada
END:VEVENT
BEGIN:VEVENT
DTSTART;TZID=America/Halifax:20290320T190000
DTEND;TZID=America/Halifax:20290320T200000
DTSTAMP:20260422T081846
CREATED:20260204T183111Z
LAST-MODIFIED:20260204T183112Z
UID:10001239-1868727600-1868731200@saintignatius.ca
SUMMARY:Online Rosary
DESCRIPTION:
URL:https://saintignatius.ca/event/online-rosary-20-2/2029-03-20
LOCATION:Online\, Canada
END:VEVENT
BEGIN:VEVENT
DTSTART;TZID=America/Halifax:20290322T190000
DTEND;TZID=America/Halifax:20290322T200000
DTSTAMP:20260422T081846
CREATED:20260306T115459Z
LAST-MODIFIED:20260306T115459Z
UID:10007866-1868900400-1868904000@saintignatius.ca
SUMMARY:Online Rosary
DESCRIPTION:
URL:https://saintignatius.ca/event/online-rosary-24/2029-03-22
LOCATION:Online\, Canada
END:VEVENT
BEGIN:VEVENT
DTSTART;TZID=America/Halifax:20290326T190000
DTEND;TZID=America/Halifax:20290326T200000
DTSTAMP:20260422T081846
CREATED:20260306T115204Z
LAST-MODIFIED:20260306T115204Z
UID:10007606-1869246000-1869249600@saintignatius.ca
SUMMARY:Online Rosary
DESCRIPTION:
URL:https://saintignatius.ca/event/online-rosary-23/2029-03-26
LOCATION:Online\, Canada
END:VEVENT
BEGIN:VEVENT
DTSTART;TZID=America/Halifax:20290327T190000
DTEND;TZID=America/Halifax:20290327T200000
DTSTAMP:20260422T081846
CREATED:20260204T183111Z
LAST-MODIFIED:20260204T183112Z
UID:10001240-1869332400-1869336000@saintignatius.ca
SUMMARY:Online Rosary
DESCRIPTION:
URL:https://saintignatius.ca/event/online-rosary-20-2/2029-03-27
LOCATION:Online\, Canada
END:VEVENT
BEGIN:VEVENT
DTSTART;TZID=America/Halifax:20290329T190000
DTEND;TZID=America/Halifax:20290329T200000
DTSTAMP:20260422T081846
CREATED:20260306T115459Z
LAST-MODIFIED:20260306T115459Z
UID:10007867-1869505200-1869508800@saintignatius.ca
SUMMARY:Online Rosary
DESCRIPTION:
URL:https://saintignatius.ca/event/online-rosary-24/2029-03-29
LOCATION:Online\, Canada
END:VEVENT
BEGIN:VEVENT
DTSTART;TZID=America/Halifax:20290402T190000
DTEND;TZID=America/Halifax:20290402T200000
DTSTAMP:20260422T081846
CREATED:20260306T115204Z
LAST-MODIFIED:20260306T115204Z
UID:10007607-1869850800-1869854400@saintignatius.ca
SUMMARY:Online Rosary
DESCRIPTION:
URL:https://saintignatius.ca/event/online-rosary-23/2029-04-02
LOCATION:Online\, Canada
END:VEVENT
BEGIN:VEVENT
DTSTART;TZID=America/Halifax:20290403T190000
DTEND;TZID=America/Halifax:20290403T200000
DTSTAMP:20260422T081846
CREATED:20260204T183111Z
LAST-MODIFIED:20260204T183112Z
UID:10001241-1869937200-1869940800@saintignatius.ca
SUMMARY:Online Rosary
DESCRIPTION:
URL:https://saintignatius.ca/event/online-rosary-20-2/2029-04-03
LOCATION:Online\, Canada
END:VEVENT
BEGIN:VEVENT
DTSTART;TZID=America/Halifax:20290405T190000
DTEND;TZID=America/Halifax:20290405T200000
DTSTAMP:20260422T081846
CREATED:20260306T115459Z
LAST-MODIFIED:20260306T115459Z
UID:10007868-1870110000-1870113600@saintignatius.ca
SUMMARY:Online Rosary
DESCRIPTION:
URL:https://saintignatius.ca/event/online-rosary-24/2029-04-05
LOCATION:Online\, Canada
END:VEVENT
BEGIN:VEVENT
DTSTART;TZID=America/Halifax:20290409T190000
DTEND;TZID=America/Halifax:20290409T200000
DTSTAMP:20260422T081846
CREATED:20260306T115204Z
LAST-MODIFIED:20260306T115204Z
UID:10007608-1870455600-1870459200@saintignatius.ca
SUMMARY:Online Rosary
DESCRIPTION:
URL:https://saintignatius.ca/event/online-rosary-23/2029-04-09
LOCATION:Online\, Canada
END:VEVENT
BEGIN:VEVENT
DTSTART;TZID=America/Halifax:20290410T190000
DTEND;TZID=America/Halifax:20290410T200000
DTSTAMP:20260422T081846
CREATED:20260204T183111Z
LAST-MODIFIED:20260204T183112Z
UID:10001242-1870542000-1870545600@saintignatius.ca
SUMMARY:Online Rosary
DESCRIPTION:
URL:https://saintignatius.ca/event/online-rosary-20-2/2029-04-10
LOCATION:Online\, Canada
END:VEVENT
BEGIN:VEVENT
DTSTART;TZID=America/Halifax:20290412T190000
DTEND;TZID=America/Halifax:20290412T200000
DTSTAMP:20260422T081846
CREATED:20260306T115459Z
LAST-MODIFIED:20260306T115459Z
UID:10007869-1870714800-1870718400@saintignatius.ca
SUMMARY:Online Rosary
DESCRIPTION:
URL:https://saintignatius.ca/event/online-rosary-24/2029-04-12
LOCATION:Online\, Canada
END:VEVENT
BEGIN:VEVENT
DTSTART;TZID=America/Halifax:20290416T190000
DTEND;TZID=America/Halifax:20290416T200000
DTSTAMP:20260422T081846
CREATED:20260306T115204Z
LAST-MODIFIED:20260306T115204Z
UID:10007609-1871060400-1871064000@saintignatius.ca
SUMMARY:Online Rosary
DESCRIPTION:
URL:https://saintignatius.ca/event/online-rosary-23/2029-04-16
LOCATION:Online\, Canada
END:VEVENT
BEGIN:VEVENT
DTSTART;TZID=America/Halifax:20290417T190000
DTEND;TZID=America/Halifax:20290417T200000
DTSTAMP:20260422T081846
CREATED:20260204T183111Z
LAST-MODIFIED:20260204T183112Z
UID:10001243-1871146800-1871150400@saintignatius.ca
SUMMARY:Online Rosary
DESCRIPTION:
URL:https://saintignatius.ca/event/online-rosary-20-2/2029-04-17
LOCATION:Online\, Canada
END:VEVENT
BEGIN:VEVENT
DTSTART;TZID=America/Halifax:20290419T190000
DTEND;TZID=America/Halifax:20290419T200000
DTSTAMP:20260422T081846
CREATED:20260306T115459Z
LAST-MODIFIED:20260306T115459Z
UID:10007870-1871319600-1871323200@saintignatius.ca
SUMMARY:Online Rosary
DESCRIPTION:
URL:https://saintignatius.ca/event/online-rosary-24/2029-04-19
LOCATION:Online\, Canada
END:VEVENT
BEGIN:VEVENT
DTSTART;TZID=America/Halifax:20290423T190000
DTEND;TZID=America/Halifax:20290423T200000
DTSTAMP:20260422T081846
CREATED:20260306T115204Z
LAST-MODIFIED:20260306T115204Z
UID:10007610-1871665200-1871668800@saintignatius.ca
SUMMARY:Online Rosary
DESCRIPTION:
URL:https://saintignatius.ca/event/online-rosary-23/2029-04-23
LOCATION:Online\, Canada
END:VEVENT
END:VCALENDAR