BEGIN:VCALENDAR
VERSION:2.0
PRODID:-//Saint Ignatius of Loyola Parish - ECPv6.15.13//NONSGML v1.0//EN
CALSCALE:GREGORIAN
METHOD:PUBLISH
X-ORIGINAL-URL:https://saintignatius.ca
X-WR-CALDESC:Events for Saint Ignatius of Loyola Parish
REFRESH-INTERVAL;VALUE=DURATION:PT1H
X-Robots-Tag:noindex
X-PUBLISHED-TTL:PT1H
BEGIN:VTIMEZONE
TZID:America/Halifax
BEGIN:DAYLIGHT
TZOFFSETFROM:-0400
TZOFFSETTO:-0300
TZNAME:ADT
DTSTART:20300310T060000
END:DAYLIGHT
BEGIN:STANDARD
TZOFFSETFROM:-0300
TZOFFSETTO:-0400
TZNAME:AST
DTSTART:20301103T050000
END:STANDARD
BEGIN:DAYLIGHT
TZOFFSETFROM:-0400
TZOFFSETTO:-0300
TZNAME:ADT
DTSTART:20310309T060000
END:DAYLIGHT
BEGIN:STANDARD
TZOFFSETFROM:-0300
TZOFFSETTO:-0400
TZNAME:AST
DTSTART:20311102T050000
END:STANDARD
BEGIN:DAYLIGHT
TZOFFSETFROM:-0400
TZOFFSETTO:-0300
TZNAME:ADT
DTSTART:20320314T060000
END:DAYLIGHT
BEGIN:STANDARD
TZOFFSETFROM:-0300
TZOFFSETTO:-0400
TZNAME:AST
DTSTART:20321107T050000
END:STANDARD
END:VTIMEZONE
BEGIN:VEVENT
DTSTART;TZID=America/Halifax:20310301T100000
DTEND;TZID=America/Halifax:20310301T120000
DTSTAMP:20260424T013110
CREATED:20260108T145146Z
LAST-MODIFIED:20260331T125003Z
UID:10008064-1930125600-1930132800@saintignatius.ca
SUMMARY:Confession
DESCRIPTION:
URL:https://saintignatius.ca/event/confession-10/2031-03-01
LOCATION:Church\, 1288 Bedford Highway\, Bedford\, Nova Scotia\, B4A 1W5\, Canada
END:VEVENT
BEGIN:VEVENT
DTSTART;TZID=America/Halifax:20310301T160000
DTEND;TZID=America/Halifax:20310301T170000
DTSTAMP:20260424T013110
CREATED:20260108T145245Z
LAST-MODIFIED:20260317T125657Z
UID:10007988-1930147200-1930150800@saintignatius.ca
SUMMARY:Mass
DESCRIPTION:
URL:https://saintignatius.ca/event/mass-6/2031-03-01
LOCATION:Church\, 1288 Bedford Highway\, Bedford\, Nova Scotia\, B4A 1W5\, Canada
END:VEVENT
BEGIN:VEVENT
DTSTART;TZID=America/Halifax:20310303T121500
DTEND;TZID=America/Halifax:20310303T130000
DTSTAMP:20260424T013110
CREATED:20260227T153523Z
LAST-MODIFIED:20260317T124233Z
UID:10007969-1930306500-1930309200@saintignatius.ca
SUMMARY:Daily Mass
DESCRIPTION:
URL:https://saintignatius.ca/event/daily-mass-37-3/2031-03-03
LOCATION:Church\, 1288 Bedford Highway\, Bedford\, Nova Scotia\, B4A 1W5\, Canada
END:VEVENT
BEGIN:VEVENT
DTSTART;TZID=America/Halifax:20310303T190000
DTEND;TZID=America/Halifax:20310303T200000
DTSTAMP:20260424T013110
CREATED:20260306T115204Z
LAST-MODIFIED:20260306T115204Z
UID:10007707-1930330800-1930334400@saintignatius.ca
SUMMARY:Online Rosary
DESCRIPTION:
URL:https://saintignatius.ca/event/online-rosary-23/2031-03-03
LOCATION:Online\, Canada
END:VEVENT
BEGIN:VEVENT
DTSTART;TZID=America/Halifax:20310304T121500
DTEND;TZID=America/Halifax:20310304T130000
DTSTAMP:20260424T013110
CREATED:20260204T174602Z
LAST-MODIFIED:20260331T125240Z
UID:10008071-1930392900-1930395600@saintignatius.ca
SUMMARY:Daily Mass
DESCRIPTION:
URL:https://saintignatius.ca/event/daily-mass-34/2031-03-04
LOCATION:Parish Hall\, 19 Rutledge St.\, Bedford\, Nova Scotia\, B4A1W5\, Canada
END:VEVENT
BEGIN:VEVENT
DTSTART;TZID=America/Halifax:20310305T121500
DTEND;TZID=America/Halifax:20310305T130000
DTSTAMP:20260424T013110
CREATED:20260227T154253Z
LAST-MODIFIED:20260407T151024Z
UID:10007972-1930479300-1930482000@saintignatius.ca
SUMMARY:Daily Mass
DESCRIPTION:
URL:https://saintignatius.ca/event/daily-mass-35-3/2031-03-05
LOCATION:Church\, 1288 Bedford Highway\, Bedford\, Nova Scotia\, B4A 1W5\, Canada
END:VEVENT
BEGIN:VEVENT
DTSTART;TZID=America/Halifax:20310306T121500
DTEND;TZID=America/Halifax:20310306T130000
DTSTAMP:20260424T013110
CREATED:20260204T174820Z
LAST-MODIFIED:20260317T125954Z
UID:10007977-1930565700-1930568400@saintignatius.ca
SUMMARY:Daily Mass
DESCRIPTION:
URL:https://saintignatius.ca/event/daily-mass-36/2031-03-06
LOCATION:Church\, 1288 Bedford Highway\, Bedford\, Nova Scotia\, B4A 1W5\, Canada
END:VEVENT
BEGIN:VEVENT
DTSTART;TZID=America/Halifax:20310306T190000
DTEND;TZID=America/Halifax:20310306T200000
DTSTAMP:20260424T013110
CREATED:20260108T154452Z
LAST-MODIFIED:20260317T130721Z
UID:10008052-1930590000-1930593600@saintignatius.ca
SUMMARY:K of C Meeting
DESCRIPTION:
URL:https://saintignatius.ca/event/k-of-c-meeting/2031-03-06
LOCATION:Parish Hall\, 19 Rutledge St.\, Bedford\, Nova Scotia\, B4A1W5\, Canada
END:VEVENT
BEGIN:VEVENT
DTSTART;TZID=America/Halifax:20310306T190000
DTEND;TZID=America/Halifax:20310306T200000
DTSTAMP:20260424T013110
CREATED:20260306T115459Z
LAST-MODIFIED:20260306T115459Z
UID:10007968-1930590000-1930593600@saintignatius.ca
SUMMARY:Online Rosary
DESCRIPTION:
URL:https://saintignatius.ca/event/online-rosary-24/2031-03-06
LOCATION:Online\, Canada
END:VEVENT
BEGIN:VEVENT
DTSTART;TZID=America/Halifax:20310308T100000
DTEND;TZID=America/Halifax:20310308T120000
DTSTAMP:20260424T013110
CREATED:20260108T145146Z
LAST-MODIFIED:20260331T125003Z
UID:10008065-1930730400-1930737600@saintignatius.ca
SUMMARY:Confession
DESCRIPTION:
URL:https://saintignatius.ca/event/confession-10/2031-03-08
LOCATION:Church\, 1288 Bedford Highway\, Bedford\, Nova Scotia\, B4A 1W5\, Canada
END:VEVENT
BEGIN:VEVENT
DTSTART;TZID=America/Halifax:20310308T160000
DTEND;TZID=America/Halifax:20310308T170000
DTSTAMP:20260424T013110
CREATED:20260108T145245Z
LAST-MODIFIED:20260317T125657Z
UID:10007989-1930752000-1930755600@saintignatius.ca
SUMMARY:Mass
DESCRIPTION:
URL:https://saintignatius.ca/event/mass-6/2031-03-08
LOCATION:Church\, 1288 Bedford Highway\, Bedford\, Nova Scotia\, B4A 1W5\, Canada
END:VEVENT
BEGIN:VEVENT
DTSTART;TZID=America/Halifax:20310310T121500
DTEND;TZID=America/Halifax:20310310T130000
DTSTAMP:20260424T013110
CREATED:20260227T153523Z
LAST-MODIFIED:20260317T124233Z
UID:10007970-1930911300-1930914000@saintignatius.ca
SUMMARY:Daily Mass
DESCRIPTION:
URL:https://saintignatius.ca/event/daily-mass-37-3/2031-03-10
LOCATION:Church\, 1288 Bedford Highway\, Bedford\, Nova Scotia\, B4A 1W5\, Canada
END:VEVENT
BEGIN:VEVENT
DTSTART;TZID=America/Halifax:20310311T121500
DTEND;TZID=America/Halifax:20310311T130000
DTSTAMP:20260424T013110
CREATED:20260204T174602Z
LAST-MODIFIED:20260331T125240Z
UID:10008072-1930997700-1931000400@saintignatius.ca
SUMMARY:Daily Mass
DESCRIPTION:
URL:https://saintignatius.ca/event/daily-mass-34/2031-03-11
LOCATION:Parish Hall\, 19 Rutledge St.\, Bedford\, Nova Scotia\, B4A1W5\, Canada
END:VEVENT
BEGIN:VEVENT
DTSTART;TZID=America/Halifax:20310312T121500
DTEND;TZID=America/Halifax:20310312T130000
DTSTAMP:20260424T013110
CREATED:20260227T154253Z
LAST-MODIFIED:20260407T151024Z
UID:10007973-1931084100-1931086800@saintignatius.ca
SUMMARY:Daily Mass
DESCRIPTION:
URL:https://saintignatius.ca/event/daily-mass-35-3/2031-03-12
LOCATION:Church\, 1288 Bedford Highway\, Bedford\, Nova Scotia\, B4A 1W5\, Canada
END:VEVENT
BEGIN:VEVENT
DTSTART;TZID=America/Halifax:20310313T121500
DTEND;TZID=America/Halifax:20310313T130000
DTSTAMP:20260424T013110
CREATED:20260204T174820Z
LAST-MODIFIED:20260317T125954Z
UID:10007978-1931170500-1931173200@saintignatius.ca
SUMMARY:Daily Mass
DESCRIPTION:
URL:https://saintignatius.ca/event/daily-mass-36/2031-03-13
LOCATION:Church\, 1288 Bedford Highway\, Bedford\, Nova Scotia\, B4A 1W5\, Canada
END:VEVENT
BEGIN:VEVENT
DTSTART;TZID=America/Halifax:20310315T100000
DTEND;TZID=America/Halifax:20310315T120000
DTSTAMP:20260424T013110
CREATED:20260108T145146Z
LAST-MODIFIED:20260331T125003Z
UID:10008066-1931335200-1931342400@saintignatius.ca
SUMMARY:Confession
DESCRIPTION:
URL:https://saintignatius.ca/event/confession-10/2031-03-15
LOCATION:Church\, 1288 Bedford Highway\, Bedford\, Nova Scotia\, B4A 1W5\, Canada
END:VEVENT
BEGIN:VEVENT
DTSTART;TZID=America/Halifax:20310315T160000
DTEND;TZID=America/Halifax:20310315T170000
DTSTAMP:20260424T013110
CREATED:20260108T145245Z
LAST-MODIFIED:20260317T125657Z
UID:10007990-1931356800-1931360400@saintignatius.ca
SUMMARY:Mass
DESCRIPTION:
URL:https://saintignatius.ca/event/mass-6/2031-03-15
LOCATION:Church\, 1288 Bedford Highway\, Bedford\, Nova Scotia\, B4A 1W5\, Canada
END:VEVENT
BEGIN:VEVENT
DTSTART;TZID=America/Halifax:20310317T121500
DTEND;TZID=America/Halifax:20310317T130000
DTSTAMP:20260424T013110
CREATED:20260227T153523Z
LAST-MODIFIED:20260317T124233Z
UID:10007971-1931516100-1931518800@saintignatius.ca
SUMMARY:Daily Mass
DESCRIPTION:
URL:https://saintignatius.ca/event/daily-mass-37-3/2031-03-17
LOCATION:Church\, 1288 Bedford Highway\, Bedford\, Nova Scotia\, B4A 1W5\, Canada
END:VEVENT
BEGIN:VEVENT
DTSTART;TZID=America/Halifax:20310318T121500
DTEND;TZID=America/Halifax:20310318T130000
DTSTAMP:20260424T013110
CREATED:20260204T174602Z
LAST-MODIFIED:20260331T125240Z
UID:10008073-1931602500-1931605200@saintignatius.ca
SUMMARY:Daily Mass
DESCRIPTION:
URL:https://saintignatius.ca/event/daily-mass-34/2031-03-18
LOCATION:Parish Hall\, 19 Rutledge St.\, Bedford\, Nova Scotia\, B4A1W5\, Canada
END:VEVENT
BEGIN:VEVENT
DTSTART;TZID=America/Halifax:20310319T121500
DTEND;TZID=America/Halifax:20310319T130000
DTSTAMP:20260424T013110
CREATED:20260227T154253Z
LAST-MODIFIED:20260407T151024Z
UID:10008075-1931688900-1931691600@saintignatius.ca
SUMMARY:Daily Mass
DESCRIPTION:
URL:https://saintignatius.ca/event/daily-mass-35-3/2031-03-19
LOCATION:Church\, 1288 Bedford Highway\, Bedford\, Nova Scotia\, B4A 1W5\, Canada
END:VEVENT
BEGIN:VEVENT
DTSTART;TZID=America/Halifax:20310322T100000
DTEND;TZID=America/Halifax:20310322T120000
DTSTAMP:20260424T013110
CREATED:20260108T145146Z
LAST-MODIFIED:20260331T125003Z
UID:10008067-1931940000-1931947200@saintignatius.ca
SUMMARY:Confession
DESCRIPTION:
URL:https://saintignatius.ca/event/confession-10/2031-03-22
LOCATION:Church\, 1288 Bedford Highway\, Bedford\, Nova Scotia\, B4A 1W5\, Canada
END:VEVENT
BEGIN:VEVENT
DTSTART;TZID=America/Halifax:20310325T121500
DTEND;TZID=America/Halifax:20310325T130000
DTSTAMP:20260424T013110
CREATED:20260204T174602Z
LAST-MODIFIED:20260331T125240Z
UID:10008074-1932207300-1932210000@saintignatius.ca
SUMMARY:Daily Mass
DESCRIPTION:
URL:https://saintignatius.ca/event/daily-mass-34/2031-03-25
LOCATION:Parish Hall\, 19 Rutledge St.\, Bedford\, Nova Scotia\, B4A1W5\, Canada
END:VEVENT
BEGIN:VEVENT
DTSTART;TZID=America/Halifax:20310326T121500
DTEND;TZID=America/Halifax:20310326T130000
DTSTAMP:20260424T013110
CREATED:20260227T154253Z
LAST-MODIFIED:20260407T151024Z
UID:10008076-1932293700-1932296400@saintignatius.ca
SUMMARY:Daily Mass
DESCRIPTION:
URL:https://saintignatius.ca/event/daily-mass-35-3/2031-03-26
LOCATION:Church\, 1288 Bedford Highway\, Bedford\, Nova Scotia\, B4A 1W5\, Canada
END:VEVENT
BEGIN:VEVENT
DTSTART;TZID=America/Halifax:20310329T100000
DTEND;TZID=America/Halifax:20310329T120000
DTSTAMP:20260424T013110
CREATED:20260108T145146Z
LAST-MODIFIED:20260331T125003Z
UID:10008068-1932544800-1932552000@saintignatius.ca
SUMMARY:Confession
DESCRIPTION:
URL:https://saintignatius.ca/event/confession-10/2031-03-29
LOCATION:Church\, 1288 Bedford Highway\, Bedford\, Nova Scotia\, B4A 1W5\, Canada
END:VEVENT
END:VCALENDAR