BEGIN:VCALENDAR
VERSION:2.0
PRODID:-//Saint Ignatius of Loyola Parish - ECPv6.15.13//NONSGML v1.0//EN
CALSCALE:GREGORIAN
METHOD:PUBLISH
X-ORIGINAL-URL:https://saintignatius.ca
X-WR-CALDESC:Events for Saint Ignatius of Loyola Parish
REFRESH-INTERVAL;VALUE=DURATION:PT1H
X-Robots-Tag:noindex
X-PUBLISHED-TTL:PT1H
BEGIN:VTIMEZONE
TZID:America/Halifax
BEGIN:DAYLIGHT
TZOFFSETFROM:-0400
TZOFFSETTO:-0300
TZNAME:ADT
DTSTART:20280312T060000
END:DAYLIGHT
BEGIN:STANDARD
TZOFFSETFROM:-0300
TZOFFSETTO:-0400
TZNAME:AST
DTSTART:20281105T050000
END:STANDARD
BEGIN:DAYLIGHT
TZOFFSETFROM:-0400
TZOFFSETTO:-0300
TZNAME:ADT
DTSTART:20290311T060000
END:DAYLIGHT
BEGIN:STANDARD
TZOFFSETFROM:-0300
TZOFFSETTO:-0400
TZNAME:AST
DTSTART:20291104T050000
END:STANDARD
BEGIN:DAYLIGHT
TZOFFSETFROM:-0400
TZOFFSETTO:-0300
TZNAME:ADT
DTSTART:20300310T060000
END:DAYLIGHT
BEGIN:STANDARD
TZOFFSETFROM:-0300
TZOFFSETTO:-0400
TZNAME:AST
DTSTART:20301103T050000
END:STANDARD
END:VTIMEZONE
BEGIN:VEVENT
DTSTART;VALUE=DATE:20290601
DTEND;VALUE=DATE:20290602
DTSTAMP:20260424T124227
CREATED:20260108T145644Z
LAST-MODIFIED:20260108T145644Z
UID:10000544-1874966400-1875052799@saintignatius.ca
SUMMARY:Parish Office Closed
DESCRIPTION:
URL:https://saintignatius.ca/event/parish-office-closed-3/2029-06-01
LOCATION:Saint Ignatius of Loyola Parish\, 5 Bedford Street\, Bedford\, Nova Scotia\, B4A 1W5\, Canada
END:VEVENT
BEGIN:VEVENT
DTSTART;TZID=America/Halifax:20290602T100000
DTEND;TZID=America/Halifax:20290602T120000
DTSTAMP:20260424T124227
CREATED:20260108T145146Z
LAST-MODIFIED:20260331T125003Z
UID:10006522-1875088800-1875096000@saintignatius.ca
SUMMARY:Confession
DESCRIPTION:
URL:https://saintignatius.ca/event/confession-10/2029-06-02
LOCATION:Church\, 1288 Bedford Highway\, Bedford\, Nova Scotia\, B4A 1W5\, Canada
END:VEVENT
BEGIN:VEVENT
DTSTART;TZID=America/Halifax:20290602T160000
DTEND;TZID=America/Halifax:20290602T170000
DTSTAMP:20260424T124227
CREATED:20260108T145245Z
LAST-MODIFIED:20260317T125657Z
UID:10006779-1875110400-1875114000@saintignatius.ca
SUMMARY:Mass
DESCRIPTION:
URL:https://saintignatius.ca/event/mass-6/2029-06-02
LOCATION:Church\, 1288 Bedford Highway\, Bedford\, Nova Scotia\, B4A 1W5\, Canada
END:VEVENT
BEGIN:VEVENT
DTSTART;TZID=America/Halifax:20290603T090000
DTEND;TZID=America/Halifax:20290603T100000
DTSTAMP:20260424T124227
CREATED:20260108T145358Z
LAST-MODIFIED:20260204T180749Z
UID:10007037-1875171600-1875175200@saintignatius.ca
SUMMARY:Sunday Mass
DESCRIPTION:
URL:https://saintignatius.ca/event/sunday-mass-26/2029-06-03
LOCATION:Church\, 1288 Bedford Highway\, Bedford\, Nova Scotia\, B4A 1W5\, Canada
END:VEVENT
BEGIN:VEVENT
DTSTART;TZID=America/Halifax:20290603T110000
DTEND;TZID=America/Halifax:20290603T120000
DTSTAMP:20260424T124227
CREATED:20260108T145505Z
LAST-MODIFIED:20260204T180829Z
UID:10007295-1875178800-1875182400@saintignatius.ca
SUMMARY:Sunday Mass
DESCRIPTION:
URL:https://saintignatius.ca/event/sunday-mass-27/2029-06-03
LOCATION:Church\, 1288 Bedford Highway\, Bedford\, Nova Scotia\, B4A 1W5\, Canada
END:VEVENT
BEGIN:VEVENT
DTSTART;TZID=America/Halifax:20290604T121500
DTEND;TZID=America/Halifax:20290604T130000
DTSTAMP:20260424T124227
CREATED:20260227T153523Z
LAST-MODIFIED:20260317T124233Z
UID:10006265-1875269700-1875272400@saintignatius.ca
SUMMARY:Daily Mass
DESCRIPTION:
URL:https://saintignatius.ca/event/daily-mass-37-3/2029-06-04
LOCATION:Church\, 1288 Bedford Highway\, Bedford\, Nova Scotia\, B4A 1W5\, Canada
END:VEVENT
BEGIN:VEVENT
DTSTART;TZID=America/Halifax:20290604T190000
DTEND;TZID=America/Halifax:20290604T200000
DTSTAMP:20260424T124227
CREATED:20260306T115204Z
LAST-MODIFIED:20260306T115204Z
UID:10007616-1875294000-1875297600@saintignatius.ca
SUMMARY:Online Rosary
DESCRIPTION:
URL:https://saintignatius.ca/event/online-rosary-23/2029-06-04
LOCATION:Online\, Canada
END:VEVENT
BEGIN:VEVENT
DTSTART;TZID=America/Halifax:20290605T121500
DTEND;TZID=America/Halifax:20290605T130000
DTSTAMP:20260424T124227
CREATED:20260204T174602Z
LAST-MODIFIED:20260331T125240Z
UID:10005485-1875356100-1875358800@saintignatius.ca
SUMMARY:Daily Mass
DESCRIPTION:
URL:https://saintignatius.ca/event/daily-mass-34/2029-06-05
LOCATION:Parish Hall\, 19 Rutledge St.\, Bedford\, Nova Scotia\, B4A1W5\, Canada
END:VEVENT
BEGIN:VEVENT
DTSTART;TZID=America/Halifax:20290605T180000
DTEND;TZID=America/Halifax:20290605T200000
DTSTAMP:20260424T124227
CREATED:20260108T150346Z
LAST-MODIFIED:20260204T154845Z
UID:10000992-1875376800-1875384000@saintignatius.ca
SUMMARY:Craft Night
DESCRIPTION:
URL:https://saintignatius.ca/event/craft-night-9/2029-06-05
LOCATION:Parish Office\, 5 Bedford Street\, Bedford\, Nova Scotia\, B4A 1W5\, Canada
END:VEVENT
BEGIN:VEVENT
DTSTART;TZID=America/Halifax:20290605T190000
DTEND;TZID=America/Halifax:20290605T200000
DTSTAMP:20260424T124227
CREATED:20260204T183111Z
LAST-MODIFIED:20260204T183112Z
UID:10001250-1875380400-1875384000@saintignatius.ca
SUMMARY:Online Rosary
DESCRIPTION:
URL:https://saintignatius.ca/event/online-rosary-20-2/2029-06-05
LOCATION:Online\, Canada
END:VEVENT
BEGIN:VEVENT
DTSTART;TZID=America/Halifax:20290606T121500
DTEND;TZID=America/Halifax:20290606T130000
DTSTAMP:20260424T124227
CREATED:20260227T154253Z
LAST-MODIFIED:20260407T151024Z
UID:10005746-1875442500-1875445200@saintignatius.ca
SUMMARY:Daily Mass
DESCRIPTION:
URL:https://saintignatius.ca/event/daily-mass-35-3/2029-06-06
LOCATION:Church\, 1288 Bedford Highway\, Bedford\, Nova Scotia\, B4A 1W5\, Canada
END:VEVENT
BEGIN:VEVENT
DTSTART;TZID=America/Halifax:20290607T121500
DTEND;TZID=America/Halifax:20290607T130000
DTSTAMP:20260424T124227
CREATED:20260204T174820Z
LAST-MODIFIED:20260317T125954Z
UID:10006006-1875528900-1875531600@saintignatius.ca
SUMMARY:Daily Mass
DESCRIPTION:
URL:https://saintignatius.ca/event/daily-mass-36/2029-06-07
LOCATION:Church\, 1288 Bedford Highway\, Bedford\, Nova Scotia\, B4A 1W5\, Canada
END:VEVENT
BEGIN:VEVENT
DTSTART;TZID=America/Halifax:20290607T190000
DTEND;TZID=America/Halifax:20290607T200000
DTSTAMP:20260424T124227
CREATED:20260108T154452Z
LAST-MODIFIED:20260317T130721Z
UID:10000732-1875553200-1875556800@saintignatius.ca
SUMMARY:K of C Meeting
DESCRIPTION:
URL:https://saintignatius.ca/event/k-of-c-meeting/2029-06-07
LOCATION:Parish Hall\, 19 Rutledge St.\, Bedford\, Nova Scotia\, B4A1W5\, Canada
END:VEVENT
BEGIN:VEVENT
DTSTART;TZID=America/Halifax:20290607T190000
DTEND;TZID=America/Halifax:20290607T200000
DTSTAMP:20260424T124227
CREATED:20260306T115459Z
LAST-MODIFIED:20260306T115459Z
UID:10007877-1875553200-1875556800@saintignatius.ca
SUMMARY:Online Rosary
DESCRIPTION:
URL:https://saintignatius.ca/event/online-rosary-24/2029-06-07
LOCATION:Online\, Canada
END:VEVENT
BEGIN:VEVENT
DTSTART;VALUE=DATE:20290608
DTEND;VALUE=DATE:20290609
DTSTAMP:20260424T124227
CREATED:20260108T145644Z
LAST-MODIFIED:20260108T145644Z
UID:10000545-1875571200-1875657599@saintignatius.ca
SUMMARY:Parish Office Closed
DESCRIPTION:
URL:https://saintignatius.ca/event/parish-office-closed-3/2029-06-08
LOCATION:Saint Ignatius of Loyola Parish\, 5 Bedford Street\, Bedford\, Nova Scotia\, B4A 1W5\, Canada
END:VEVENT
BEGIN:VEVENT
DTSTART;TZID=America/Halifax:20290609T100000
DTEND;TZID=America/Halifax:20290609T120000
DTSTAMP:20260424T124227
CREATED:20260108T145146Z
LAST-MODIFIED:20260331T125003Z
UID:10006523-1875693600-1875700800@saintignatius.ca
SUMMARY:Confession
DESCRIPTION:
URL:https://saintignatius.ca/event/confession-10/2029-06-09
LOCATION:Church\, 1288 Bedford Highway\, Bedford\, Nova Scotia\, B4A 1W5\, Canada
END:VEVENT
BEGIN:VEVENT
DTSTART;TZID=America/Halifax:20290609T160000
DTEND;TZID=America/Halifax:20290609T170000
DTSTAMP:20260424T124227
CREATED:20260108T145245Z
LAST-MODIFIED:20260317T125657Z
UID:10006780-1875715200-1875718800@saintignatius.ca
SUMMARY:Mass
DESCRIPTION:
URL:https://saintignatius.ca/event/mass-6/2029-06-09
LOCATION:Church\, 1288 Bedford Highway\, Bedford\, Nova Scotia\, B4A 1W5\, Canada
END:VEVENT
BEGIN:VEVENT
DTSTART;TZID=America/Halifax:20290610T090000
DTEND;TZID=America/Halifax:20290610T100000
DTSTAMP:20260424T124227
CREATED:20260108T145358Z
LAST-MODIFIED:20260204T180749Z
UID:10007038-1875776400-1875780000@saintignatius.ca
SUMMARY:Sunday Mass
DESCRIPTION:
URL:https://saintignatius.ca/event/sunday-mass-26/2029-06-10
LOCATION:Church\, 1288 Bedford Highway\, Bedford\, Nova Scotia\, B4A 1W5\, Canada
END:VEVENT
BEGIN:VEVENT
DTSTART;TZID=America/Halifax:20290610T110000
DTEND;TZID=America/Halifax:20290610T120000
DTSTAMP:20260424T124227
CREATED:20260108T145505Z
LAST-MODIFIED:20260204T180829Z
UID:10007296-1875783600-1875787200@saintignatius.ca
SUMMARY:Sunday Mass
DESCRIPTION:
URL:https://saintignatius.ca/event/sunday-mass-27/2029-06-10
LOCATION:Church\, 1288 Bedford Highway\, Bedford\, Nova Scotia\, B4A 1W5\, Canada
END:VEVENT
BEGIN:VEVENT
DTSTART;TZID=America/Halifax:20290611T121500
DTEND;TZID=America/Halifax:20290611T130000
DTSTAMP:20260424T124227
CREATED:20260227T153523Z
LAST-MODIFIED:20260317T124233Z
UID:10006266-1875874500-1875877200@saintignatius.ca
SUMMARY:Daily Mass
DESCRIPTION:
URL:https://saintignatius.ca/event/daily-mass-37-3/2029-06-11
LOCATION:Church\, 1288 Bedford Highway\, Bedford\, Nova Scotia\, B4A 1W5\, Canada
END:VEVENT
BEGIN:VEVENT
DTSTART;TZID=America/Halifax:20290611T190000
DTEND;TZID=America/Halifax:20290611T200000
DTSTAMP:20260424T124227
CREATED:20260306T115204Z
LAST-MODIFIED:20260306T115204Z
UID:10007617-1875898800-1875902400@saintignatius.ca
SUMMARY:Online Rosary
DESCRIPTION:
URL:https://saintignatius.ca/event/online-rosary-23/2029-06-11
LOCATION:Online\, Canada
END:VEVENT
BEGIN:VEVENT
DTSTART;TZID=America/Halifax:20290612T121500
DTEND;TZID=America/Halifax:20290612T130000
DTSTAMP:20260424T124227
CREATED:20260204T174602Z
LAST-MODIFIED:20260331T125240Z
UID:10005486-1875960900-1875963600@saintignatius.ca
SUMMARY:Daily Mass
DESCRIPTION:
URL:https://saintignatius.ca/event/daily-mass-34/2029-06-12
LOCATION:Parish Hall\, 19 Rutledge St.\, Bedford\, Nova Scotia\, B4A1W5\, Canada
END:VEVENT
BEGIN:VEVENT
DTSTART;TZID=America/Halifax:20290612T180000
DTEND;TZID=America/Halifax:20290612T200000
DTSTAMP:20260424T124227
CREATED:20260108T150346Z
LAST-MODIFIED:20260204T154845Z
UID:10000993-1875981600-1875988800@saintignatius.ca
SUMMARY:Craft Night
DESCRIPTION:
URL:https://saintignatius.ca/event/craft-night-9/2029-06-12
LOCATION:Parish Office\, 5 Bedford Street\, Bedford\, Nova Scotia\, B4A 1W5\, Canada
END:VEVENT
BEGIN:VEVENT
DTSTART;TZID=America/Halifax:20290612T190000
DTEND;TZID=America/Halifax:20290612T200000
DTSTAMP:20260424T124227
CREATED:20260204T183111Z
LAST-MODIFIED:20260204T183112Z
UID:10001251-1875985200-1875988800@saintignatius.ca
SUMMARY:Online Rosary
DESCRIPTION:
URL:https://saintignatius.ca/event/online-rosary-20-2/2029-06-12
LOCATION:Online\, Canada
END:VEVENT
BEGIN:VEVENT
DTSTART;TZID=America/Halifax:20290613T121500
DTEND;TZID=America/Halifax:20290613T130000
DTSTAMP:20260424T124227
CREATED:20260227T154253Z
LAST-MODIFIED:20260407T151024Z
UID:10005747-1876047300-1876050000@saintignatius.ca
SUMMARY:Daily Mass
DESCRIPTION:
URL:https://saintignatius.ca/event/daily-mass-35-3/2029-06-13
LOCATION:Church\, 1288 Bedford Highway\, Bedford\, Nova Scotia\, B4A 1W5\, Canada
END:VEVENT
BEGIN:VEVENT
DTSTART;TZID=America/Halifax:20290614T121500
DTEND;TZID=America/Halifax:20290614T130000
DTSTAMP:20260424T124227
CREATED:20260204T174820Z
LAST-MODIFIED:20260317T125954Z
UID:10006007-1876133700-1876136400@saintignatius.ca
SUMMARY:Daily Mass
DESCRIPTION:
URL:https://saintignatius.ca/event/daily-mass-36/2029-06-14
LOCATION:Church\, 1288 Bedford Highway\, Bedford\, Nova Scotia\, B4A 1W5\, Canada
END:VEVENT
BEGIN:VEVENT
DTSTART;TZID=America/Halifax:20290614T190000
DTEND;TZID=America/Halifax:20290614T200000
DTSTAMP:20260424T124227
CREATED:20260306T115459Z
LAST-MODIFIED:20260306T115459Z
UID:10007878-1876158000-1876161600@saintignatius.ca
SUMMARY:Online Rosary
DESCRIPTION:
URL:https://saintignatius.ca/event/online-rosary-24/2029-06-14
LOCATION:Online\, Canada
END:VEVENT
BEGIN:VEVENT
DTSTART;VALUE=DATE:20290615
DTEND;VALUE=DATE:20290616
DTSTAMP:20260424T124227
CREATED:20260108T145644Z
LAST-MODIFIED:20260108T145644Z
UID:10000546-1876176000-1876262399@saintignatius.ca
SUMMARY:Parish Office Closed
DESCRIPTION:
URL:https://saintignatius.ca/event/parish-office-closed-3/2029-06-15
LOCATION:Saint Ignatius of Loyola Parish\, 5 Bedford Street\, Bedford\, Nova Scotia\, B4A 1W5\, Canada
END:VEVENT
BEGIN:VEVENT
DTSTART;TZID=America/Halifax:20290616T100000
DTEND;TZID=America/Halifax:20290616T120000
DTSTAMP:20260424T124227
CREATED:20260108T145146Z
LAST-MODIFIED:20260331T125003Z
UID:10006524-1876298400-1876305600@saintignatius.ca
SUMMARY:Confession
DESCRIPTION:
URL:https://saintignatius.ca/event/confession-10/2029-06-16
LOCATION:Church\, 1288 Bedford Highway\, Bedford\, Nova Scotia\, B4A 1W5\, Canada
END:VEVENT
BEGIN:VEVENT
DTSTART;TZID=America/Halifax:20290616T160000
DTEND;TZID=America/Halifax:20290616T170000
DTSTAMP:20260424T124227
CREATED:20260108T145245Z
LAST-MODIFIED:20260317T125657Z
UID:10006781-1876320000-1876323600@saintignatius.ca
SUMMARY:Mass
DESCRIPTION:
URL:https://saintignatius.ca/event/mass-6/2029-06-16
LOCATION:Church\, 1288 Bedford Highway\, Bedford\, Nova Scotia\, B4A 1W5\, Canada
END:VEVENT
END:VCALENDAR