BEGIN:VCALENDAR
VERSION:2.0
PRODID:-//Saint Ignatius of Loyola Parish - ECPv6.15.13//NONSGML v1.0//EN
CALSCALE:GREGORIAN
METHOD:PUBLISH
X-WR-CALNAME:Saint Ignatius of Loyola Parish
X-ORIGINAL-URL:https://saintignatius.ca
X-WR-CALDESC:Events for Saint Ignatius of Loyola Parish
REFRESH-INTERVAL;VALUE=DURATION:PT1H
X-Robots-Tag:noindex
X-PUBLISHED-TTL:PT1H
BEGIN:VTIMEZONE
TZID:America/Halifax
BEGIN:DAYLIGHT
TZOFFSETFROM:-0400
TZOFFSETTO:-0300
TZNAME:ADT
DTSTART:20300310T060000
END:DAYLIGHT
BEGIN:STANDARD
TZOFFSETFROM:-0300
TZOFFSETTO:-0400
TZNAME:AST
DTSTART:20301103T050000
END:STANDARD
BEGIN:DAYLIGHT
TZOFFSETFROM:-0400
TZOFFSETTO:-0300
TZNAME:ADT
DTSTART:20310309T060000
END:DAYLIGHT
BEGIN:STANDARD
TZOFFSETFROM:-0300
TZOFFSETTO:-0400
TZNAME:AST
DTSTART:20311102T050000
END:STANDARD
BEGIN:DAYLIGHT
TZOFFSETFROM:-0400
TZOFFSETTO:-0300
TZNAME:ADT
DTSTART:20320314T060000
END:DAYLIGHT
BEGIN:STANDARD
TZOFFSETFROM:-0300
TZOFFSETTO:-0400
TZNAME:AST
DTSTART:20321107T050000
END:STANDARD
END:VTIMEZONE
BEGIN:VEVENT
DTSTART;TZID=America/Halifax:20310126T090000
DTEND;TZID=America/Halifax:20310126T100000
DTSTAMP:20260424T002158
CREATED:20260108T145358Z
LAST-MODIFIED:20260204T180749Z
UID:10007123-1927184400-1927188000@saintignatius.ca
SUMMARY:Sunday Mass
DESCRIPTION:
URL:https://saintignatius.ca/event/sunday-mass-26/2031-01-26
LOCATION:Church\, 1288 Bedford Highway\, Bedford\, Nova Scotia\, B4A 1W5\, Canada
END:VEVENT
BEGIN:VEVENT
DTSTART;TZID=America/Halifax:20310126T110000
DTEND;TZID=America/Halifax:20310126T120000
DTSTAMP:20260424T002158
CREATED:20260108T145505Z
LAST-MODIFIED:20260204T180829Z
UID:10007381-1927191600-1927195200@saintignatius.ca
SUMMARY:Sunday Mass
DESCRIPTION:
URL:https://saintignatius.ca/event/sunday-mass-27/2031-01-26
LOCATION:Church\, 1288 Bedford Highway\, Bedford\, Nova Scotia\, B4A 1W5\, Canada
END:VEVENT
END:VCALENDAR