BEGIN:VCALENDAR
VERSION:2.0
PRODID:-//Saint Ignatius of Loyola Parish - ECPv6.15.13//NONSGML v1.0//EN
CALSCALE:GREGORIAN
METHOD:PUBLISH
X-WR-CALNAME:Saint Ignatius of Loyola Parish
X-ORIGINAL-URL:https://saintignatius.ca
X-WR-CALDESC:Events for Saint Ignatius of Loyola Parish
REFRESH-INTERVAL;VALUE=DURATION:PT1H
X-Robots-Tag:noindex
X-PUBLISHED-TTL:PT1H
BEGIN:VTIMEZONE
TZID:America/Halifax
BEGIN:DAYLIGHT
TZOFFSETFROM:-0400
TZOFFSETTO:-0300
TZNAME:ADT
DTSTART:20250309T060000
END:DAYLIGHT
BEGIN:STANDARD
TZOFFSETFROM:-0300
TZOFFSETTO:-0400
TZNAME:AST
DTSTART:20251102T050000
END:STANDARD
BEGIN:DAYLIGHT
TZOFFSETFROM:-0400
TZOFFSETTO:-0300
TZNAME:ADT
DTSTART:20260308T060000
END:DAYLIGHT
BEGIN:STANDARD
TZOFFSETFROM:-0300
TZOFFSETTO:-0400
TZNAME:AST
DTSTART:20261101T050000
END:STANDARD
BEGIN:DAYLIGHT
TZOFFSETFROM:-0400
TZOFFSETTO:-0300
TZNAME:ADT
DTSTART:20270314T060000
END:DAYLIGHT
BEGIN:STANDARD
TZOFFSETFROM:-0300
TZOFFSETTO:-0400
TZNAME:AST
DTSTART:20271107T050000
END:STANDARD
END:VTIMEZONE
BEGIN:VEVENT
DTSTART;TZID=America/Halifax:20260420T121500
DTEND;TZID=America/Halifax:20260420T130000
DTSTAMP:20260420T022402
CREATED:20260227T153523Z
LAST-MODIFIED:20260317T124233Z
UID:10006102-1776687300-1776690000@saintignatius.ca
SUMMARY:Daily Mass
DESCRIPTION:
URL:https://saintignatius.ca/event/daily-mass-37-3/2026-04-20
LOCATION:Church\, 1288 Bedford Highway\, Bedford\, Nova Scotia\, B4A 1W5\, Canada
END:VEVENT
BEGIN:VEVENT
DTSTART;TZID=America/Halifax:20260420T133000
DTEND;TZID=America/Halifax:20260420T153000
DTSTAMP:20260420T022402
CREATED:20260204T182941Z
LAST-MODIFIED:20260204T182941Z
UID:10007422-1776691800-1776699000@saintignatius.ca
SUMMARY:Seniors Drop In
DESCRIPTION:
URL:https://saintignatius.ca/event/seniors-drop-in-11-2/2026-04-20
LOCATION:Parish Hall\, 19 Rutledge St.\, Bedford\, Nova Scotia\, B4A1W5\, Canada
END:VEVENT
BEGIN:VEVENT
DTSTART;TZID=America/Halifax:20260420T190000
DTEND;TZID=America/Halifax:20260420T200000
DTSTAMP:20260420T022402
CREATED:20260306T115204Z
LAST-MODIFIED:20260306T115204Z
UID:10007453-1776711600-1776715200@saintignatius.ca
SUMMARY:Online Rosary
DESCRIPTION:
URL:https://saintignatius.ca/event/online-rosary-23/2026-04-20
LOCATION:Online\, Canada
END:VEVENT
END:VCALENDAR